BEGIN:VCALENDAR
VERSION:2.0
PRODID:-//Ballet Escenario - ECPv6.15.20//NONSGML v1.0//EN
CALSCALE:GREGORIAN
METHOD:PUBLISH
X-ORIGINAL-URL:https://balletescenario.com
X-WR-CALDESC:Events for Ballet Escenario
REFRESH-INTERVAL;VALUE=DURATION:PT1H
X-Robots-Tag:noindex
X-PUBLISHED-TTL:PT1H
BEGIN:VTIMEZONE
TZID:America/Puerto_Rico
BEGIN:STANDARD
TZOFFSETFROM:-0400
TZOFFSETTO:-0400
TZNAME:AST
DTSTART:20250101T000000
END:STANDARD
END:VTIMEZONE
BEGIN:VEVENT
DTSTART;TZID=America/Puerto_Rico:20260219T163000
DTEND;TZID=America/Puerto_Rico:20260219T173000
DTSTAMP:20260421T210004
CREATED:20251230T050713Z
LAST-MODIFIED:20251230T050758Z
UID:10004384-1771518600-1771522200@balletescenario.com
SUMMARY:Jazz Lírico Kids (7-12 años)
DESCRIPTION:
URL:https://balletescenario.com/event/jazz-lirico-kids-7-12-anos-29/
LOCATION:Salón B – Ballet Escenario\, Calle Minerva #52\, Mayaguez\, 00680\, Puerto Rico
CATEGORIES:Jazz Lírico
END:VEVENT
BEGIN:VEVENT
DTSTART;TZID=America/Puerto_Rico:20260219T174000
DTEND;TZID=America/Puerto_Rico:20260219T184000
DTSTAMP:20260421T210004
CREATED:20251230T051420Z
LAST-MODIFIED:20251230T051451Z
UID:10004388-1771522800-1771526400@balletescenario.com
SUMMARY:Principios de Acrobacia (7 años+)
DESCRIPTION:
URL:https://balletescenario.com/event/principios-de-acrobacia-7-anos-21/
LOCATION:Salón A – Ballet Escenario\, 52 calle Minerva\, Mayaguez\, 00680\, Puerto Rico
CATEGORIES:Acrobacia
END:VEVENT
BEGIN:VEVENT
DTSTART;TZID=America/Puerto_Rico:20260219T174000
DTEND;TZID=America/Puerto_Rico:20260219T184000
DTSTAMP:20260421T210004
CREATED:20251230T052208Z
LAST-MODIFIED:20251230T052243Z
UID:10004392-1771522800-1771526400@balletescenario.com
SUMMARY:Salsa Kids Avanzado (5-12 años)
DESCRIPTION:
URL:https://balletescenario.com/event/salsa-kids-avanzado-5-12-anos-21/
LOCATION:Salón B – Ballet Escenario\, Calle Minerva #52\, Mayaguez\, 00680\, Puerto Rico
CATEGORIES:Salsa
END:VEVENT
BEGIN:VEVENT
DTSTART;TZID=America/Puerto_Rico:20260219T174000
DTEND;TZID=America/Puerto_Rico:20260219T184000
DTSTAMP:20260421T210004
CREATED:20251230T053056Z
LAST-MODIFIED:20251230T053133Z
UID:10004396-1771522800-1771526400@balletescenario.com
SUMMARY:Stretch and BE Strong
DESCRIPTION:
URL:https://balletescenario.com/event/stretch-and-be-strong-64/
LOCATION:Salón C – Ballet Escenario\, Calle Minerva #52\, Mayaguez\, 00680\, Puerto Rico
CATEGORIES:Stretch and BE Strong
END:VEVENT
BEGIN:VEVENT
DTSTART;TZID=America/Puerto_Rico:20260219T185000
DTEND;TZID=America/Puerto_Rico:20260219T195000
DTSTAMP:20260421T210004
CREATED:20251230T054042Z
LAST-MODIFIED:20251230T054118Z
UID:10004400-1771527000-1771530600@balletescenario.com
SUMMARY:Ballet II
DESCRIPTION:
URL:https://balletescenario.com/event/ballet-ii-61/
LOCATION:Salón A – Ballet Escenario\, 52 calle Minerva\, Mayaguez\, 00680\, Puerto Rico
CATEGORIES:Ballet
END:VEVENT
BEGIN:VEVENT
DTSTART;TZID=America/Puerto_Rico:20260219T185000
DTEND;TZID=America/Puerto_Rico:20260219T195000
DTSTAMP:20260421T210004
CREATED:20251230T054848Z
LAST-MODIFIED:20251230T054923Z
UID:10004404-1771527000-1771530600@balletescenario.com
SUMMARY:Salsa Pasos Libres Intermedio
DESCRIPTION:
URL:https://balletescenario.com/event/salsa-pasos-libres-intermedio-29/
LOCATION:Salón B – Ballet Escenario\, Calle Minerva #52\, Mayaguez\, 00680\, Puerto Rico
CATEGORIES:Salsa
END:VEVENT
BEGIN:VEVENT
DTSTART;TZID=America/Puerto_Rico:20260219T185000
DTEND;TZID=America/Puerto_Rico:20260219T195000
DTSTAMP:20260421T210004
CREATED:20251230T055727Z
LAST-MODIFIED:20260109T040557Z
UID:10004408-1771527000-1771530600@balletescenario.com
SUMMARY:Jr. Ballet jueves (7-10 años)
DESCRIPTION:
URL:https://balletescenario.com/event/jr-ballet-miercoles-7-10-anos-18/
LOCATION:Salón C – Ballet Escenario\, Calle Minerva #52\, Mayaguez\, 00680\, Puerto Rico
CATEGORIES:Ballet
END:VEVENT
BEGIN:VEVENT
DTSTART;TZID=America/Puerto_Rico:20260219T193000
DTEND;TZID=America/Puerto_Rico:20260219T203000
DTSTAMP:20260421T210004
CREATED:20251230T060530Z
LAST-MODIFIED:20251230T060620Z
UID:10004412-1771529400-1771533000@balletescenario.com
SUMMARY:Fitness Bootcamp by Andrés Pagán
DESCRIPTION:Reserva tu espacio y paga en la recepción al llegar – Costo $15.00 x Clase (Por persona)
URL:https://balletescenario.com/event/fitness-bootcamp-by-andres-pagan-22/
LOCATION:Salon D – Ballet Escenario\, Calle Minerva #52\, Mayaguez\, 00680\, Puerto Rico
END:VEVENT
BEGIN:VEVENT
DTSTART;TZID=America/Puerto_Rico:20260219T200000
DTEND;TZID=America/Puerto_Rico:20260219T210000
DTSTAMP:20260421T210004
CREATED:20251230T061234Z
LAST-MODIFIED:20251230T061311Z
UID:10004416-1771531200-1771534800@balletescenario.com
SUMMARY:Salsa Pasos Libres Avanzado
DESCRIPTION:
URL:https://balletescenario.com/event/salsa-pasos-libres-avanzado-29/
LOCATION:Salón A – Ballet Escenario\, 52 calle Minerva\, Mayaguez\, 00680\, Puerto Rico
CATEGORIES:Salsa
END:VEVENT
END:VCALENDAR