BEGIN:VCALENDAR
VERSION:2.0
PRODID:-//Ballet Escenario - ECPv6.15.20//NONSGML v1.0//EN
CALSCALE:GREGORIAN
METHOD:PUBLISH
X-ORIGINAL-URL:https://balletescenario.com
X-WR-CALDESC:Events for Ballet Escenario
REFRESH-INTERVAL;VALUE=DURATION:PT1H
X-Robots-Tag:noindex
X-PUBLISHED-TTL:PT1H
BEGIN:VTIMEZONE
TZID:America/Puerto_Rico
BEGIN:STANDARD
TZOFFSETFROM:-0400
TZOFFSETTO:-0400
TZNAME:AST
DTSTART:20250101T000000
END:STANDARD
END:VTIMEZONE
BEGIN:VEVENT
DTSTART;TZID=America/Puerto_Rico:20260314T100000
DTEND;TZID=America/Puerto_Rico:20260314T110000
DTSTAMP:20260419T161039
CREATED:20260107T202357Z
LAST-MODIFIED:20260107T202430Z
UID:10004875-1773482400-1773486000@balletescenario.com
SUMMARY:Jr. Ballet Sábado (7-10 años)
DESCRIPTION:
URL:https://balletescenario.com/event/jr-ballet-sabado-7-10-anos-33/
LOCATION:Salón A – Ballet Escenario\, 52 calle Minerva\, Mayaguez\, 00680\, Puerto Rico
CATEGORIES:Ballet
END:VEVENT
BEGIN:VEVENT
DTSTART;TZID=America/Puerto_Rico:20260314T100000
DTEND;TZID=America/Puerto_Rico:20260314T110000
DTSTAMP:20260419T161039
CREATED:20260107T204638Z
LAST-MODIFIED:20260107T204716Z
UID:10004887-1773482400-1773486000@balletescenario.com
SUMMARY:Pre Ballet Sábado (5-6 años)
DESCRIPTION:
URL:https://balletescenario.com/event/pre-ballet-sabado-5-6-anos-47/
LOCATION:Salón C – Ballet Escenario\, Calle Minerva #52\, Mayaguez\, 00680\, Puerto Rico
CATEGORIES:Ballet
END:VEVENT
BEGIN:VEVENT
DTSTART;TZID=America/Puerto_Rico:20260314T111000
DTEND;TZID=America/Puerto_Rico:20260314T121000
DTSTAMP:20260419T161039
CREATED:20260107T211353Z
LAST-MODIFIED:20260107T211426Z
UID:10004899-1773486600-1773490200@balletescenario.com
SUMMARY:Ballet V
DESCRIPTION:
URL:https://balletescenario.com/event/ballet-v-27/
LOCATION:Salón A – Ballet Escenario\, 52 calle Minerva\, Mayaguez\, 00680\, Puerto Rico
CATEGORIES:Ballet
END:VEVENT
BEGIN:VEVENT
DTSTART;TZID=America/Puerto_Rico:20260314T111000
DTEND;TZID=America/Puerto_Rico:20260314T121000
DTSTAMP:20260419T161039
CREATED:20260107T214034Z
LAST-MODIFIED:20260107T214107Z
UID:10004911-1773486600-1773490200@balletescenario.com
SUMMARY:Urban Kids Sábado (5-10 años)
DESCRIPTION:
URL:https://balletescenario.com/event/urban-kids-sabado-5-10-anos-33/
LOCATION:Salón B – Ballet Escenario\, Calle Minerva #52\, Mayaguez\, 00680\, Puerto Rico
CATEGORIES:Urban Style
END:VEVENT
BEGIN:VEVENT
DTSTART;TZID=America/Puerto_Rico:20260314T111000
DTEND;TZID=America/Puerto_Rico:20260314T121000
DTSTAMP:20260419T161039
CREATED:20260107T221455Z
LAST-MODIFIED:20260107T221528Z
UID:10004923-1773486600-1773490200@balletescenario.com
SUMMARY:Baby Ballet Sábado (3-4 años)
DESCRIPTION:
URL:https://balletescenario.com/event/baby-ballet-sabado-3-4-anos-27/
LOCATION:Salón C – Ballet Escenario\, Calle Minerva #52\, Mayaguez\, 00680\, Puerto Rico
CATEGORIES:Ballet
END:VEVENT
BEGIN:VEVENT
DTSTART;TZID=America/Puerto_Rico:20260314T122000
DTEND;TZID=America/Puerto_Rico:20260314T132000
DTSTAMP:20260419T161039
CREATED:20260107T223751Z
LAST-MODIFIED:20260107T223916Z
UID:10004935-1773490800-1773494400@balletescenario.com
SUMMARY:Puntas Variaciones
DESCRIPTION:
URL:https://balletescenario.com/event/puntas-variaciones-32/
LOCATION:Salón A – Ballet Escenario\, 52 calle Minerva\, Mayaguez\, 00680\, Puerto Rico
CATEGORIES:Ballet
END:VEVENT
END:VCALENDAR