BEGIN:VCALENDAR
VERSION:2.0
PRODID:-//Ballet Escenario - ECPv6.15.20//NONSGML v1.0//EN
CALSCALE:GREGORIAN
METHOD:PUBLISH
X-ORIGINAL-URL:https://balletescenario.com
X-WR-CALDESC:Events for Ballet Escenario
REFRESH-INTERVAL;VALUE=DURATION:PT1H
X-Robots-Tag:noindex
X-PUBLISHED-TTL:PT1H
BEGIN:VTIMEZONE
TZID:America/Puerto_Rico
BEGIN:STANDARD
TZOFFSETFROM:-0400
TZOFFSETTO:-0400
TZNAME:AST
DTSTART:20250101T000000
END:STANDARD
END:VTIMEZONE
BEGIN:VEVENT
DTSTART;TZID=America/Puerto_Rico:20260323T163000
DTEND;TZID=America/Puerto_Rico:20260323T173000
DTSTAMP:20260421T221959
CREATED:20251226T204908Z
LAST-MODIFIED:20251226T204956Z
UID:10004088-1774283400-1774287000@balletescenario.com
SUMMARY:Jr. Ballet - Lunes (7-10 años)
DESCRIPTION:
URL:https://balletescenario.com/event/jr-ballet-lunes-7-10-anos-35/
LOCATION:Salón A – Ballet Escenario\, 52 calle Minerva\, Mayaguez\, 00680\, Puerto Rico
CATEGORIES:Ballet
END:VEVENT
BEGIN:VEVENT
DTSTART;TZID=America/Puerto_Rico:20260323T163000
DTEND;TZID=America/Puerto_Rico:20260323T173000
DTSTAMP:20260421T221959
CREATED:20251228T063434Z
LAST-MODIFIED:20251228T063509Z
UID:10004157-1774283400-1774287000@balletescenario.com
SUMMARY:Pre Ballet Lunes (5-6 años)
DESCRIPTION:
URL:https://balletescenario.com/event/pre-ballet-lunes-5-6-anos-35/
LOCATION:Salón B – Ballet Escenario\, Calle Minerva #52\, Mayaguez\, 00680\, Puerto Rico
CATEGORIES:Ballet
END:VEVENT
BEGIN:VEVENT
DTSTART;TZID=America/Puerto_Rico:20260323T163000
DTEND;TZID=America/Puerto_Rico:20260323T173000
DTSTAMP:20260421T221959
CREATED:20251228T070511Z
LAST-MODIFIED:20251228T070553Z
UID:10004174-1774283400-1774287000@balletescenario.com
SUMMARY:Baby Ballet Lunes (3-4 años)
DESCRIPTION:
URL:https://balletescenario.com/event/baby-ballet-lunes-3-4-anos-35/
LOCATION:Salón C – Ballet Escenario\, Calle Minerva #52\, Mayaguez\, 00680\, Puerto Rico
CATEGORIES:Ballet
END:VEVENT
BEGIN:VEVENT
DTSTART;TZID=America/Puerto_Rico:20260323T174000
DTEND;TZID=America/Puerto_Rico:20260323T184000
DTSTAMP:20260421T221959
CREATED:20260101T235140Z
LAST-MODIFIED:20260101T235215Z
UID:10004467-1774287600-1774291200@balletescenario.com
SUMMARY:Puntas - Nivel Intermedio
DESCRIPTION:
URL:https://balletescenario.com/event/puntas-nivel-intermedio-37/
LOCATION:Salón A – Ballet Escenario\, 52 calle Minerva\, Mayaguez\, 00680\, Puerto Rico
CATEGORIES:Ballet
END:VEVENT
BEGIN:VEVENT
DTSTART;TZID=America/Puerto_Rico:20260323T174000
DTEND;TZID=America/Puerto_Rico:20260323T184000
DTSTAMP:20260421T221959
CREATED:20260102T001327Z
LAST-MODIFIED:20260102T001358Z
UID:10004479-1774287600-1774291200@balletescenario.com
SUMMARY:Salsa Kids Intermedio (5-12 años)
DESCRIPTION:
URL:https://balletescenario.com/event/salsa-kids-intermedio-5-12-anos-38/
LOCATION:Salón C – Ballet Escenario\, Calle Minerva #52\, Mayaguez\, 00680\, Puerto Rico
CATEGORIES:Salsa
END:VEVENT
BEGIN:VEVENT
DTSTART;TZID=America/Puerto_Rico:20260323T185000
DTEND;TZID=America/Puerto_Rico:20260323T195000
DTSTAMP:20260421T221959
CREATED:20260102T012828Z
LAST-MODIFIED:20260102T012900Z
UID:10004503-1774291800-1774295400@balletescenario.com
SUMMARY:Salsa Parejas Básico I - Rotando
DESCRIPTION:
URL:https://balletescenario.com/event/salsa-parejas-basico-i-rotando-34/
LOCATION:Salón B – Ballet Escenario\, Calle Minerva #52\, Mayaguez\, 00680\, Puerto Rico
CATEGORIES:Salsa
END:VEVENT
BEGIN:VEVENT
DTSTART;TZID=America/Puerto_Rico:20260323T185000
DTEND;TZID=America/Puerto_Rico:20260323T195000
DTSTAMP:20260421T221959
CREATED:20260102T015630Z
LAST-MODIFIED:20260102T015704Z
UID:10004517-1774291800-1774295400@balletescenario.com
SUMMARY:Salsa Pasos Libres Básico
DESCRIPTION:
URL:https://balletescenario.com/event/salsa-pasos-libres-basico-32/
LOCATION:Salón C – Ballet Escenario\, Calle Minerva #52\, Mayaguez\, 00680\, Puerto Rico
CATEGORIES:Salsa
END:VEVENT
BEGIN:VEVENT
DTSTART;TZID=America/Puerto_Rico:20260323T185000
DTEND;TZID=America/Puerto_Rico:20260323T202000
DTSTAMP:20260421T221959
CREATED:20260102T005702Z
LAST-MODIFIED:20260102T005741Z
UID:10004491-1774291800-1774297200@balletescenario.com
SUMMARY:Ballet IV
DESCRIPTION:
URL:https://balletescenario.com/event/ballet-iv-66/
LOCATION:Salón A – Ballet Escenario\, 52 calle Minerva\, Mayaguez\, 00680\, Puerto Rico
CATEGORIES:Ballet
END:VEVENT
BEGIN:VEVENT
DTSTART;TZID=America/Puerto_Rico:20260323T193000
DTEND;TZID=America/Puerto_Rico:20260323T203000
DTSTAMP:20260421T221959
CREATED:20260102T022752Z
LAST-MODIFIED:20260102T022823Z
UID:10004529-1774294200-1774297800@balletescenario.com
SUMMARY:Fitness Bootcamp by Andrés Pagán
DESCRIPTION:Reserva tu espacio y paga en la recepción al llegar – Costo $15.00 x Clase (Por persona)
URL:https://balletescenario.com/event/fitness-bootcamp-by-andres-pagan-59/
LOCATION:Salon D – Ballet Escenario\, Calle Minerva #52\, Mayaguez\, 00680\, Puerto Rico
END:VEVENT
END:VCALENDAR