BEGIN:VCALENDAR
VERSION:2.0
PRODID:-//Ballet Escenario - ECPv6.15.20//NONSGML v1.0//EN
CALSCALE:GREGORIAN
METHOD:PUBLISH
X-WR-CALNAME:Ballet Escenario
X-ORIGINAL-URL:https://balletescenario.com
X-WR-CALDESC:Events for Ballet Escenario
REFRESH-INTERVAL;VALUE=DURATION:PT1H
X-Robots-Tag:noindex
X-PUBLISHED-TTL:PT1H
BEGIN:VTIMEZONE
TZID:America/Puerto_Rico
BEGIN:STANDARD
TZOFFSETFROM:-0400
TZOFFSETTO:-0400
TZNAME:AST
DTSTART:20250101T000000
END:STANDARD
END:VTIMEZONE
BEGIN:VEVENT
DTSTART;TZID=America/Puerto_Rico:20260409T163000
DTEND;TZID=America/Puerto_Rico:20260409T173000
DTSTAMP:20260420T052302
CREATED:20260105T011659Z
LAST-MODIFIED:20260105T011810Z
UID:10004701-1775752200-1775755800@balletescenario.com
SUMMARY:Jazz Lírico Kids (7-12 años)
DESCRIPTION:
URL:https://balletescenario.com/event/jazz-lirico-kids-7-12-anos-35/
LOCATION:Salón B – Ballet Escenario\, Calle Minerva #52\, Mayaguez\, 00680\, Puerto Rico
CATEGORIES:Jazz Lírico
END:VEVENT
BEGIN:VEVENT
DTSTART;TZID=America/Puerto_Rico:20260409T174000
DTEND;TZID=America/Puerto_Rico:20260409T184000
DTSTAMP:20260420T052302
CREATED:20260105T014445Z
LAST-MODIFIED:20260105T014518Z
UID:10004713-1775756400-1775760000@balletescenario.com
SUMMARY:Principios de Acrobacia (7 años+)
DESCRIPTION:
URL:https://balletescenario.com/event/principios-de-acrobacia-7-anos-37/
LOCATION:Salón A – Ballet Escenario\, 52 calle Minerva\, Mayaguez\, 00680\, Puerto Rico
CATEGORIES:Acrobacia
END:VEVENT
BEGIN:VEVENT
DTSTART;TZID=America/Puerto_Rico:20260409T174000
DTEND;TZID=America/Puerto_Rico:20260409T184000
DTSTAMP:20260420T052302
CREATED:20260105T021104Z
LAST-MODIFIED:20260105T021138Z
UID:10004726-1775756400-1775760000@balletescenario.com
SUMMARY:Salsa Kids Avanzado (5-12 años)
DESCRIPTION:
URL:https://balletescenario.com/event/salsa-kids-avanzado-5-12-anos-36/
LOCATION:Salón B – Ballet Escenario\, Calle Minerva #52\, Mayaguez\, 00680\, Puerto Rico
CATEGORIES:Salsa
END:VEVENT
BEGIN:VEVENT
DTSTART;TZID=America/Puerto_Rico:20260409T174000
DTEND;TZID=America/Puerto_Rico:20260409T184000
DTSTAMP:20260420T052302
CREATED:20260105T212556Z
LAST-MODIFIED:20260105T212628Z
UID:10004738-1775756400-1775760000@balletescenario.com
SUMMARY:Stretch and BE Strong
DESCRIPTION:
URL:https://balletescenario.com/event/stretch-and-be-strong-113/
LOCATION:Salón C – Ballet Escenario\, Calle Minerva #52\, Mayaguez\, 00680\, Puerto Rico
CATEGORIES:Stretch and BE Strong
END:VEVENT
BEGIN:VEVENT
DTSTART;TZID=America/Puerto_Rico:20260409T185000
DTEND;TZID=America/Puerto_Rico:20260409T195000
DTSTAMP:20260420T052302
CREATED:20260105T214731Z
LAST-MODIFIED:20260105T214812Z
UID:10004750-1775760600-1775764200@balletescenario.com
SUMMARY:Ballet II
DESCRIPTION:
URL:https://balletescenario.com/event/ballet-ii-70/
LOCATION:Salón A – Ballet Escenario\, 52 calle Minerva\, Mayaguez\, 00680\, Puerto Rico
CATEGORIES:Ballet
END:VEVENT
BEGIN:VEVENT
DTSTART;TZID=America/Puerto_Rico:20260409T185000
DTEND;TZID=America/Puerto_Rico:20260409T195000
DTSTAMP:20260420T052302
CREATED:20260105T222509Z
LAST-MODIFIED:20260105T223210Z
UID:10004761-1775760600-1775764200@balletescenario.com
SUMMARY:Salsa Pasos Libres Intermedio
DESCRIPTION:
URL:https://balletescenario.com/event/salsa-pasos-libres-intermedio-37/
LOCATION:Salón B – Ballet Escenario\, Calle Minerva #52\, Mayaguez\, 00680\, Puerto Rico
CATEGORIES:Salsa
END:VEVENT
BEGIN:VEVENT
DTSTART;TZID=America/Puerto_Rico:20260409T185000
DTEND;TZID=America/Puerto_Rico:20260409T195000
DTSTAMP:20260420T052302
CREATED:20260105T230948Z
LAST-MODIFIED:20260109T042509Z
UID:10004776-1775760600-1775764200@balletescenario.com
SUMMARY:Jr. Ballet jueves (7-10 años)
DESCRIPTION:
URL:https://balletescenario.com/event/jr-ballet-miercoles-7-10-anos-37/
LOCATION:Salón C – Ballet Escenario\, Calle Minerva #52\, Mayaguez\, 00680\, Puerto Rico
CATEGORIES:Ballet
END:VEVENT
BEGIN:VEVENT
DTSTART;TZID=America/Puerto_Rico:20260409T200000
DTEND;TZID=America/Puerto_Rico:20260409T210000
DTSTAMP:20260420T052302
CREATED:20260106T044827Z
LAST-MODIFIED:20260106T044950Z
UID:10004800-1775764800-1775768400@balletescenario.com
SUMMARY:Salsa Pasos Libres Avanzado
DESCRIPTION:
URL:https://balletescenario.com/event/salsa-pasos-libres-avanzado-38/
LOCATION:Salón A – Ballet Escenario\, 52 calle Minerva\, Mayaguez\, 00680\, Puerto Rico
CATEGORIES:Salsa
END:VEVENT
END:VCALENDAR