BEGIN:VCALENDAR
VERSION:2.0
PRODID:-//Ballet Escenario - ECPv6.15.20//NONSGML v1.0//EN
CALSCALE:GREGORIAN
METHOD:PUBLISH
X-WR-CALNAME:Ballet Escenario
X-ORIGINAL-URL:https://balletescenario.com
X-WR-CALDESC:Events for Ballet Escenario
REFRESH-INTERVAL;VALUE=DURATION:PT1H
X-Robots-Tag:noindex
X-PUBLISHED-TTL:PT1H
BEGIN:VTIMEZONE
TZID:America/Puerto_Rico
BEGIN:STANDARD
TZOFFSETFROM:-0400
TZOFFSETTO:-0400
TZNAME:AST
DTSTART:20250101T000000
END:STANDARD
END:VTIMEZONE
BEGIN:VEVENT
DTSTART;TZID=America/Puerto_Rico:20260430T163000
DTEND;TZID=America/Puerto_Rico:20260430T173000
DTSTAMP:20260421T040719
CREATED:20260105T012559Z
LAST-MODIFIED:20260105T012633Z
UID:10004704-1777566600-1777570200@balletescenario.com
SUMMARY:Jazz Lírico Kids (7-12 años)
DESCRIPTION:
URL:https://balletescenario.com/event/jazz-lirico-kids-7-12-anos-38/
LOCATION:Salón B – Ballet Escenario\, Calle Minerva #52\, Mayaguez\, 00680\, Puerto Rico
CATEGORIES:Jazz Lírico
END:VEVENT
BEGIN:VEVENT
DTSTART;TZID=America/Puerto_Rico:20260430T174000
DTEND;TZID=America/Puerto_Rico:20260430T184000
DTSTAMP:20260421T040719
CREATED:20260105T014814Z
LAST-MODIFIED:20260105T014848Z
UID:10004716-1777570800-1777574400@balletescenario.com
SUMMARY:Principios de Acrobacia (7 años+)
DESCRIPTION:
URL:https://balletescenario.com/event/principios-de-acrobacia-7-anos-40/
LOCATION:Salón A – Ballet Escenario\, 52 calle Minerva\, Mayaguez\, 00680\, Puerto Rico
CATEGORIES:Acrobacia
END:VEVENT
BEGIN:VEVENT
DTSTART;TZID=America/Puerto_Rico:20260430T174000
DTEND;TZID=America/Puerto_Rico:20260430T184000
DTSTAMP:20260421T040719
CREATED:20260105T021933Z
LAST-MODIFIED:20260105T022014Z
UID:10004729-1777570800-1777574400@balletescenario.com
SUMMARY:Salsa Kids Avanzado (5-12 años)
DESCRIPTION:
URL:https://balletescenario.com/event/salsa-kids-avanzado-5-12-anos-39/
LOCATION:Salón B – Ballet Escenario\, Calle Minerva #52\, Mayaguez\, 00680\, Puerto Rico
CATEGORIES:Salsa
END:VEVENT
BEGIN:VEVENT
DTSTART;TZID=America/Puerto_Rico:20260430T174000
DTEND;TZID=America/Puerto_Rico:20260430T184000
DTSTAMP:20260421T040719
CREATED:20260105T212957Z
LAST-MODIFIED:20260105T213035Z
UID:10004741-1777570800-1777574400@balletescenario.com
SUMMARY:Stretch and BE Strong
DESCRIPTION:
URL:https://balletescenario.com/event/stretch-and-be-strong-116/
LOCATION:Salón C – Ballet Escenario\, Calle Minerva #52\, Mayaguez\, 00680\, Puerto Rico
CATEGORIES:Stretch and BE Strong
END:VEVENT
BEGIN:VEVENT
DTSTART;TZID=America/Puerto_Rico:20260430T185000
DTEND;TZID=America/Puerto_Rico:20260430T195000
DTSTAMP:20260421T040719
CREATED:20260105T215140Z
LAST-MODIFIED:20260105T215211Z
UID:10004753-1777575000-1777578600@balletescenario.com
SUMMARY:Ballet II
DESCRIPTION:
URL:https://balletescenario.com/event/ballet-ii-73/
LOCATION:Salón A – Ballet Escenario\, 52 calle Minerva\, Mayaguez\, 00680\, Puerto Rico
CATEGORIES:Ballet
END:VEVENT
BEGIN:VEVENT
DTSTART;TZID=America/Puerto_Rico:20260430T185000
DTEND;TZID=America/Puerto_Rico:20260430T195000
DTSTAMP:20260421T040719
CREATED:20260105T223639Z
LAST-MODIFIED:20260105T223750Z
UID:10004765-1777575000-1777578600@balletescenario.com
SUMMARY:Salsa Pasos Libres Intermedio
DESCRIPTION:
URL:https://balletescenario.com/event/salsa-pasos-libres-intermedio-40/
LOCATION:Salón B – Ballet Escenario\, Calle Minerva #52\, Mayaguez\, 00680\, Puerto Rico
CATEGORIES:Salsa
END:VEVENT
BEGIN:VEVENT
DTSTART;TZID=America/Puerto_Rico:20260430T185000
DTEND;TZID=America/Puerto_Rico:20260430T195000
DTSTAMP:20260421T040719
CREATED:20260105T231307Z
LAST-MODIFIED:20260109T043208Z
UID:10004779-1777575000-1777578600@balletescenario.com
SUMMARY:Jr. Ballet jueves (7-10 años)
DESCRIPTION:
URL:https://balletescenario.com/event/jr-ballet-miercoles-7-10-anos-40/
LOCATION:Salón C – Ballet Escenario\, Calle Minerva #52\, Mayaguez\, 00680\, Puerto Rico
CATEGORIES:Ballet
END:VEVENT
BEGIN:VEVENT
DTSTART;TZID=America/Puerto_Rico:20260430T193000
DTEND;TZID=America/Puerto_Rico:20260430T203000
DTSTAMP:20260421T040719
CREATED:20260106T043134Z
LAST-MODIFIED:20260106T043209Z
UID:10004791-1777577400-1777581000@balletescenario.com
SUMMARY:Fitness Bootcamp by Andrés Pagán
DESCRIPTION:Reserva tu espacio y paga en la recepción al llegar – Costo $15.00 x Clase (Por persona)
URL:https://balletescenario.com/event/fitness-bootcamp-by-andres-pagan-76/
LOCATION:Salon D – Ballet Escenario\, Calle Minerva #52\, Mayaguez\, 00680\, Puerto Rico
END:VEVENT
BEGIN:VEVENT
DTSTART;TZID=America/Puerto_Rico:20260430T200000
DTEND;TZID=America/Puerto_Rico:20260430T210000
DTSTAMP:20260421T040719
CREATED:20260106T045334Z
LAST-MODIFIED:20260106T045407Z
UID:10004803-1777579200-1777582800@balletescenario.com
SUMMARY:Salsa Pasos Libres Avanzado
DESCRIPTION:
URL:https://balletescenario.com/event/salsa-pasos-libres-avanzado-41/
LOCATION:Salón A – Ballet Escenario\, 52 calle Minerva\, Mayaguez\, 00680\, Puerto Rico
CATEGORIES:Salsa
END:VEVENT
END:VCALENDAR