BEGIN:VCALENDAR
VERSION:2.0
PRODID:-//Ballet Escenario - ECPv6.15.20//NONSGML v1.0//EN
CALSCALE:GREGORIAN
METHOD:PUBLISH
X-WR-CALNAME:Ballet Escenario
X-ORIGINAL-URL:https://balletescenario.com
X-WR-CALDESC:Events for Ballet Escenario
REFRESH-INTERVAL;VALUE=DURATION:PT1H
X-Robots-Tag:noindex
X-PUBLISHED-TTL:PT1H
BEGIN:VTIMEZONE
TZID:America/Puerto_Rico
BEGIN:STANDARD
TZOFFSETFROM:-0400
TZOFFSETTO:-0400
TZNAME:AST
DTSTART:20250101T000000
END:STANDARD
END:VTIMEZONE
BEGIN:VEVENT
DTSTART;TZID=America/Puerto_Rico:20260207T122000
DTEND;TZID=America/Puerto_Rico:20260207T132000
DTSTAMP:20260421T201251
CREATED:20251231T191957Z
LAST-MODIFIED:20251231T192111Z
UID:10004460-1770466800-1770470400@balletescenario.com
SUMMARY:Puntas Variaciones
DESCRIPTION:
URL:https://balletescenario.com/event/puntas-variaciones-4/
LOCATION:Salón A – Ballet Escenario\, 52 calle Minerva\, Mayaguez\, 00680\, Puerto Rico
CATEGORIES:Ballet
END:VEVENT
BEGIN:VEVENT
DTSTART;TZID=America/Puerto_Rico:20260207T111000
DTEND;TZID=America/Puerto_Rico:20260207T121000
DTSTAMP:20260421T201251
CREATED:20251231T191325Z
LAST-MODIFIED:20251231T191407Z
UID:10004456-1770462600-1770466200@balletescenario.com
SUMMARY:Baby Ballet Sábado (3-4 años)
DESCRIPTION:
URL:https://balletescenario.com/event/baby-ballet-sabado-3-4-anos-4/
LOCATION:Salón C – Ballet Escenario\, Calle Minerva #52\, Mayaguez\, 00680\, Puerto Rico
CATEGORIES:Ballet
END:VEVENT
BEGIN:VEVENT
DTSTART;TZID=America/Puerto_Rico:20260207T111000
DTEND;TZID=America/Puerto_Rico:20260207T121000
DTSTAMP:20260421T201251
CREATED:20251231T190651Z
LAST-MODIFIED:20251231T190816Z
UID:10004452-1770462600-1770466200@balletescenario.com
SUMMARY:Urban Kids Sábado (5-10 años)
DESCRIPTION:
URL:https://balletescenario.com/event/urban-kids-sabado-5-10-anos-17/
LOCATION:Salón B – Ballet Escenario\, Calle Minerva #52\, Mayaguez\, 00680\, Puerto Rico
CATEGORIES:Urban Style
END:VEVENT
BEGIN:VEVENT
DTSTART;TZID=America/Puerto_Rico:20260207T111000
DTEND;TZID=America/Puerto_Rico:20260207T121000
DTSTAMP:20260421T201251
CREATED:20251231T190004Z
LAST-MODIFIED:20251231T190043Z
UID:10004448-1770462600-1770466200@balletescenario.com
SUMMARY:Ballet V
DESCRIPTION:
URL:https://balletescenario.com/event/ballet-v-16/
LOCATION:Salón A – Ballet Escenario\, 52 calle Minerva\, Mayaguez\, 00680\, Puerto Rico
CATEGORIES:Ballet
END:VEVENT
BEGIN:VEVENT
DTSTART;TZID=America/Puerto_Rico:20260207T100000
DTEND;TZID=America/Puerto_Rico:20260207T110000
DTSTAMP:20260421T201251
CREATED:20251231T184854Z
LAST-MODIFIED:20251231T184935Z
UID:10004444-1770458400-1770462000@balletescenario.com
SUMMARY:Pre Ballet Sábado (5-6 años)
DESCRIPTION:
URL:https://balletescenario.com/event/pre-ballet-sabado-5-6-anos-4/
LOCATION:Salón C – Ballet Escenario\, Calle Minerva #52\, Mayaguez\, 00680\, Puerto Rico
CATEGORIES:Ballet
END:VEVENT
BEGIN:VEVENT
DTSTART;TZID=America/Puerto_Rico:20260207T100000
DTEND;TZID=America/Puerto_Rico:20260207T110000
DTSTAMP:20260421T201251
CREATED:20251231T184252Z
LAST-MODIFIED:20251231T184348Z
UID:10004440-1770458400-1770462000@balletescenario.com
SUMMARY:Jr. Ballet Sábado (7-10 años)
DESCRIPTION:
URL:https://balletescenario.com/event/jr-ballet-sabado-7-10-anos-4/
LOCATION:Salón A – Ballet Escenario\, 52 calle Minerva\, Mayaguez\, 00680\, Puerto Rico
CATEGORIES:Ballet
END:VEVENT
BEGIN:VEVENT
DTSTART;TZID=America/Puerto_Rico:20260206T182000
DTEND;TZID=America/Puerto_Rico:20260206T195000
DTSTAMP:20260421T201251
CREATED:20251231T182503Z
LAST-MODIFIED:20251231T182532Z
UID:10004432-1770402000-1770407400@balletescenario.com
SUMMARY:Ballet IV
DESCRIPTION:
URL:https://balletescenario.com/event/ballet-iv-41/
LOCATION:Salón A – Ballet Escenario\, 52 calle Minerva\, Mayaguez\, 00680\, Puerto Rico
CATEGORIES:Ballet
END:VEVENT
BEGIN:VEVENT
DTSTART;TZID=America/Puerto_Rico:20260206T182000
DTEND;TZID=America/Puerto_Rico:20260206T192000
DTSTAMP:20260421T201251
CREATED:20251231T182948Z
LAST-MODIFIED:20251231T183021Z
UID:10004436-1770402000-1770405600@balletescenario.com
SUMMARY:Urban Kids Viernes (5-10 años)
DESCRIPTION:
URL:https://balletescenario.com/event/urban-kids-viernes-5-10-anos-25/
LOCATION:Salón B – Ballet Escenario\, Calle Minerva #52\, Mayaguez\, 00680\, Puerto Rico
CATEGORIES:Urban Style
END:VEVENT
BEGIN:VEVENT
DTSTART;TZID=America/Puerto_Rico:20260206T171000
DTEND;TZID=America/Puerto_Rico:20260206T181000
DTSTAMP:20260421T201251
CREATED:20251231T181913Z
LAST-MODIFIED:20251231T182022Z
UID:10004428-1770397800-1770401400@balletescenario.com
SUMMARY:Stretch and BE Strong
DESCRIPTION:
URL:https://balletescenario.com/event/stretch-and-be-strong-71/
LOCATION:Salón B – Ballet Escenario\, Calle Minerva #52\, Mayaguez\, 00680\, Puerto Rico
CATEGORIES:Stretch and BE Strong
END:VEVENT
BEGIN:VEVENT
DTSTART;TZID=America/Puerto_Rico:20260206T171000
DTEND;TZID=America/Puerto_Rico:20260206T181000
DTSTAMP:20260421T201251
CREATED:20251231T181225Z
LAST-MODIFIED:20251231T181257Z
UID:10004423-1770397800-1770401400@balletescenario.com
SUMMARY:Jr Ballet Nivel II
DESCRIPTION:
URL:https://balletescenario.com/event/jr-ballet-nivel-ii-20/
LOCATION:Salón A – Ballet Escenario\, 52 calle Minerva\, Mayaguez\, 00680\, Puerto Rico
CATEGORIES:Ballet
END:VEVENT
BEGIN:VEVENT
DTSTART;TZID=America/Puerto_Rico:20260206T160000
DTEND;TZID=America/Puerto_Rico:20260206T170000
DTSTAMP:20260421T201251
CREATED:20251231T180457Z
LAST-MODIFIED:20251231T180551Z
UID:10004418-1770393600-1770397200@balletescenario.com
SUMMARY:Ballet II
DESCRIPTION:
URL:https://balletescenario.com/event/ballet-ii-63/
LOCATION:Salón A – Ballet Escenario\, 52 calle Minerva\, Mayaguez\, 00680\, Puerto Rico
CATEGORIES:Ballet
END:VEVENT
BEGIN:VEVENT
DTSTART;TZID=America/Puerto_Rico:20260205T200000
DTEND;TZID=America/Puerto_Rico:20260205T210000
DTSTAMP:20260421T201251
CREATED:20251230T060957Z
LAST-MODIFIED:20251230T061043Z
UID:10004414-1770321600-1770325200@balletescenario.com
SUMMARY:Salsa Pasos Libres Avanzado
DESCRIPTION:
URL:https://balletescenario.com/event/salsa-pasos-libres-avanzado-18/
LOCATION:Salón A – Ballet Escenario\, 52 calle Minerva\, Mayaguez\, 00680\, Puerto Rico
CATEGORIES:Salsa
END:VEVENT
BEGIN:VEVENT
DTSTART;TZID=America/Puerto_Rico:20260205T193000
DTEND;TZID=America/Puerto_Rico:20260205T203000
DTSTAMP:20260421T201251
CREATED:20251230T060303Z
LAST-MODIFIED:20251230T060337Z
UID:10004410-1770319800-1770323400@balletescenario.com
SUMMARY:Fitness Bootcamp by Andrés Pagán
DESCRIPTION:Reserva tu espacio y paga en la recepción al llegar – Costo $15.00 x Clase (Por persona)
URL:https://balletescenario.com/event/fitness-bootcamp-by-andres-pagan-15/
LOCATION:Salon D – Ballet Escenario\, Calle Minerva #52\, Mayaguez\, 00680\, Puerto Rico
END:VEVENT
BEGIN:VEVENT
DTSTART;TZID=America/Puerto_Rico:20260205T185000
DTEND;TZID=America/Puerto_Rico:20260205T195000
DTSTAMP:20260421T201251
CREATED:20251230T055440Z
LAST-MODIFIED:20260109T040146Z
UID:10004406-1770317400-1770321000@balletescenario.com
SUMMARY:Jr. Ballet jueves (7-10 años)
DESCRIPTION:
URL:https://balletescenario.com/event/jr-ballet-miercoles-7-10-anos-4/
LOCATION:Salón C – Ballet Escenario\, Calle Minerva #52\, Mayaguez\, 00680\, Puerto Rico
CATEGORIES:Ballet
END:VEVENT
BEGIN:VEVENT
DTSTART;TZID=America/Puerto_Rico:20260205T185000
DTEND;TZID=America/Puerto_Rico:20260205T195000
DTSTAMP:20260421T201251
CREATED:20251230T054616Z
LAST-MODIFIED:20251230T054658Z
UID:10004402-1770317400-1770321000@balletescenario.com
SUMMARY:Salsa Pasos Libres Intermedio
DESCRIPTION:
URL:https://balletescenario.com/event/salsa-pasos-libres-intermedio-19/
LOCATION:Salón B – Ballet Escenario\, Calle Minerva #52\, Mayaguez\, 00680\, Puerto Rico
CATEGORIES:Salsa
END:VEVENT
BEGIN:VEVENT
DTSTART;TZID=America/Puerto_Rico:20260205T185000
DTEND;TZID=America/Puerto_Rico:20260205T195000
DTSTAMP:20260421T201251
CREATED:20251230T053804Z
LAST-MODIFIED:20251230T053841Z
UID:10004398-1770317400-1770321000@balletescenario.com
SUMMARY:Ballet II
DESCRIPTION:
URL:https://balletescenario.com/event/ballet-ii-24/
LOCATION:Salón A – Ballet Escenario\, 52 calle Minerva\, Mayaguez\, 00680\, Puerto Rico
CATEGORIES:Ballet
END:VEVENT
BEGIN:VEVENT
DTSTART;TZID=America/Puerto_Rico:20260205T174000
DTEND;TZID=America/Puerto_Rico:20260205T184000
DTSTAMP:20260421T201251
CREATED:20251230T052834Z
LAST-MODIFIED:20251230T052908Z
UID:10004394-1770313200-1770316800@balletescenario.com
SUMMARY:Stretch and BE Strong
DESCRIPTION:
URL:https://balletescenario.com/event/stretch-and-be-strong-46/
LOCATION:Salón C – Ballet Escenario\, Calle Minerva #52\, Mayaguez\, 00680\, Puerto Rico
CATEGORIES:Stretch and BE Strong
END:VEVENT
BEGIN:VEVENT
DTSTART;TZID=America/Puerto_Rico:20260205T174000
DTEND;TZID=America/Puerto_Rico:20260205T184000
DTSTAMP:20260421T201251
CREATED:20251230T051922Z
LAST-MODIFIED:20251230T051958Z
UID:10004390-1770313200-1770316800@balletescenario.com
SUMMARY:Salsa Kids Avanzado (5-12 años)
DESCRIPTION:
URL:https://balletescenario.com/event/salsa-kids-avanzado-5-12-anos-4/
LOCATION:Salón B – Ballet Escenario\, Calle Minerva #52\, Mayaguez\, 00680\, Puerto Rico
CATEGORIES:Salsa
END:VEVENT
BEGIN:VEVENT
DTSTART;TZID=America/Puerto_Rico:20260205T174000
DTEND;TZID=America/Puerto_Rico:20260205T184000
DTSTAMP:20260421T201251
CREATED:20251230T051153Z
LAST-MODIFIED:20251230T051230Z
UID:10004386-1770313200-1770316800@balletescenario.com
SUMMARY:Principios de Acrobacia (7 años+)
DESCRIPTION:
URL:https://balletescenario.com/event/principios-de-acrobacia-7-anos-4/
LOCATION:Salón A – Ballet Escenario\, 52 calle Minerva\, Mayaguez\, 00680\, Puerto Rico
CATEGORIES:Acrobacia
END:VEVENT
BEGIN:VEVENT
DTSTART;TZID=America/Puerto_Rico:20260205T163000
DTEND;TZID=America/Puerto_Rico:20260205T173000
DTSTAMP:20260421T201251
CREATED:20251230T050411Z
LAST-MODIFIED:20251230T050453Z
UID:10004382-1770309000-1770312600@balletescenario.com
SUMMARY:Jazz Lírico Kids (7-12 años)
DESCRIPTION:
URL:https://balletescenario.com/event/jazz-lirico-kids-7-12-anos-23/
LOCATION:Salón B – Ballet Escenario\, Calle Minerva #52\, Mayaguez\, 00680\, Puerto Rico
CATEGORIES:Jazz Lírico
END:VEVENT
BEGIN:VEVENT
DTSTART;TZID=America/Puerto_Rico:20260204T203000
DTEND;TZID=America/Puerto_Rico:20260204T213000
DTSTAMP:20260421T201251
CREATED:20260112T185708Z
LAST-MODIFIED:20260112T185746Z
UID:10004950-1770237000-1770240600@balletescenario.com
SUMMARY:Salsa Parejas Intermedio - On2
DESCRIPTION:Nota Aclaratoria para la Compra de Boletos \nEstimados estudiantes\, \nQueremos informarles sobre la política de precios para nuestra próxima clase. Los boletos pueden ser adquiridos de forma individual o en pareja\, según la siguiente estructura de precios: \n\nBoleto individual: $10.00 por persona.\nBoleto para pareja: Si asisten con un acompañante y adquieren dos boletos\, cada uno tendrá un costo reducido de $7.50\, para un total de $15.00.\n\nEste descuento se aplicará automáticamente al agregar dos boletos a su carrito de compra\, y será reflejado en el proceso de checkout. \nGracias por su atención\, y esperamos verlos en la clase. \nPara más información\, comuníquese al 787-402-6350.
URL:https://balletescenario.com/event/salsa-parejas-intermedio-on2-5/
LOCATION:Salón A – Ballet Escenario\, 52 calle Minerva\, Mayaguez\, 00680\, Puerto Rico
CATEGORIES:Salsa
END:VEVENT
BEGIN:VEVENT
DTSTART;TZID=America/Puerto_Rico:20260204T203000
DTEND;TZID=America/Puerto_Rico:20260204T213000
DTSTAMP:20260421T201251
CREATED:20251230T045553Z
LAST-MODIFIED:20251230T045704Z
UID:10004378-1770237000-1770240600@balletescenario.com
SUMMARY:Salsa Parejas Básico II - Rotando
DESCRIPTION:NOTA: Para esta clase\, puede elegir entre dos opciones: \n– Estudiante Individual: Si asiste solo\, debe comprar un boleto de esta categoría. \n– Solo Para Parejas: Si asiste con una pareja o acompañante\, debe comprar dos boletos de esta categoría para un total a pagar de $15.00. \nImportante: Si compra boletos de la categoría “Solo Para Parejas” pero asiste solo\, se le cobrará la diferencia de precio antes de poder ingresar a la clase. \nPara más información\, comuníquese al 787-402-6350.
URL:https://balletescenario.com/event/salsa-parejas-basico-ii-rotando-4/
LOCATION:Salón B – Ballet Escenario\, Calle Minerva #52\, Mayaguez\, 00680\, Puerto Rico
CATEGORIES:Salsa
END:VEVENT
BEGIN:VEVENT
DTSTART;TZID=America/Puerto_Rico:20260204T192000
DTEND;TZID=America/Puerto_Rico:20260204T202000
DTSTAMP:20260421T201251
CREATED:20251230T044657Z
LAST-MODIFIED:20260127T154449Z
UID:10004374-1770232800-1770236400@balletescenario.com
SUMMARY:Salsa Parejas Básico On - 1
DESCRIPTION:NOTA: Para esta clase\, puede elegir entre dos opciones: \n– Estudiante Individual: Si asiste solo\, debe comprar un boleto de esta categoría. \n– Solo Para Parejas: Si asiste con una pareja o acompañante\, debe comprar dos boletos de esta categoría para un total a pagar de $15.00. \nImportante: Si compra boletos de la categoría “Solo Para Parejas” pero asiste solo\, se le cobrará la diferencia de precio antes de poder ingresar a la clase. \nPara más información\, comuníquese al 787-402-6350.
URL:https://balletescenario.com/event/salsa-parejas-basico-on-1-4/
LOCATION:Salón B – Ballet Escenario\, Calle Minerva #52\, Mayaguez\, 00680\, Puerto Rico
CATEGORIES:Salsa
END:VEVENT
BEGIN:VEVENT
DTSTART;TZID=America/Puerto_Rico:20260204T192000
DTEND;TZID=America/Puerto_Rico:20260204T202000
DTSTAMP:20260421T201251
CREATED:20251230T043905Z
LAST-MODIFIED:20251230T043942Z
UID:10004370-1770232800-1770236400@balletescenario.com
SUMMARY:Ballet Adultos Principiantes
DESCRIPTION:
URL:https://balletescenario.com/event/ballet-adultos-principiantes-4/
LOCATION:Salón A – Ballet Escenario\, 52 calle Minerva\, Mayaguez\, 00680\, Puerto Rico
CATEGORIES:Ballet
END:VEVENT
BEGIN:VEVENT
DTSTART;TZID=America/Puerto_Rico:20260204T181000
DTEND;TZID=America/Puerto_Rico:20260204T191000
DTSTAMP:20260421T201251
CREATED:20251230T043100Z
LAST-MODIFIED:20251230T043143Z
UID:10004366-1770228600-1770232200@balletescenario.com
SUMMARY:Pre Ballet Miércoles (5-6 años)
DESCRIPTION:
URL:https://balletescenario.com/event/pre-ballet-miercoles-5-6-anos-4/
LOCATION:Salón C – Ballet Escenario\, Calle Minerva #52\, Mayaguez\, 00680\, Puerto Rico
CATEGORIES:Ballet
END:VEVENT
BEGIN:VEVENT
DTSTART;TZID=America/Puerto_Rico:20260204T174000
DTEND;TZID=America/Puerto_Rico:20260204T191000
DTSTAMP:20260421T201251
CREATED:20251230T042016Z
LAST-MODIFIED:20251230T042204Z
UID:10004362-1770226800-1770232200@balletescenario.com
SUMMARY:Puntas Avanzado
DESCRIPTION:
URL:https://balletescenario.com/event/puntas-avanzado-4/
LOCATION:Salón A – Ballet Escenario\, 52 calle Minerva\, Mayaguez\, 00680\, Puerto Rico
CATEGORIES:Ballet
END:VEVENT
BEGIN:VEVENT
DTSTART;TZID=America/Puerto_Rico:20260204T163000
DTEND;TZID=America/Puerto_Rico:20260204T173000
DTSTAMP:20260421T201251
CREATED:20251228T232326Z
LAST-MODIFIED:20251228T232409Z
UID:10004188-1770222600-1770226200@balletescenario.com
SUMMARY:Acrobacia Continuación
DESCRIPTION:
URL:https://balletescenario.com/event/acrobacia-continuacion-5/
LOCATION:Salón A – Ballet Escenario\, 52 calle Minerva\, Mayaguez\, 00680\, Puerto Rico
CATEGORIES:Acrobacia
END:VEVENT
BEGIN:VEVENT
DTSTART;TZID=America/Puerto_Rico:20260203T203000
DTEND;TZID=America/Puerto_Rico:20260203T213000
DTSTAMP:20260421T201251
CREATED:20251229T222526Z
LAST-MODIFIED:20251229T222621Z
UID:10004346-1770150600-1770154200@balletescenario.com
SUMMARY:Salsa Parejas Avanzado - On2
DESCRIPTION:Nota Aclaratoria para la Compra de Boletos \nEstimados estudiantes\, \nQueremos informarles sobre la política de precios para nuestra próxima clase. Los boletos pueden ser adquiridos de forma individual o en pareja\, según la siguiente estructura de precios: \n\nBoleto individual: $10.00 por persona.\nBoleto para pareja: Si asisten con un acompañante y adquieren dos boletos\, cada uno tendrá un costo reducido de $7.50\, para un total de $15.00.\n\nEste descuento se aplicará automáticamente al agregar dos boletos a su carrito de compra\, y será reflejado en el proceso de checkout. \nGracias por su atención\, y esperamos verlos en la clase. \nPara más información\, comuníquese al 787-402-6350.
URL:https://balletescenario.com/event/salsa-parejas-avanzado-on2-18/
LOCATION:Salón A – Ballet Escenario\, 52 calle Minerva\, Mayaguez\, 00680\, Puerto Rico
CATEGORIES:Salsa
END:VEVENT
BEGIN:VEVENT
DTSTART;TZID=America/Puerto_Rico:20260203T192000
DTEND;TZID=America/Puerto_Rico:20260203T202000
DTSTAMP:20260421T201251
CREATED:20251229T220217Z
LAST-MODIFIED:20251229T220312Z
UID:10004341-1770146400-1770150000@balletescenario.com
SUMMARY:Ballet I (11-17 años)
DESCRIPTION:
URL:https://balletescenario.com/event/ballet-i-11-17-anos-4/
LOCATION:Salón C – Ballet Escenario\, Calle Minerva #52\, Mayaguez\, 00680\, Puerto Rico
CATEGORIES:Ballet
END:VEVENT
BEGIN:VEVENT
DTSTART;TZID=America/Puerto_Rico:20260203T192000
DTEND;TZID=America/Puerto_Rico:20260203T202000
DTSTAMP:20260421T201251
CREATED:20251229T214545Z
LAST-MODIFIED:20251229T214707Z
UID:10004337-1770146400-1770150000@balletescenario.com
SUMMARY:Ballet Adultos Ex-Bailarines
DESCRIPTION:
URL:https://balletescenario.com/event/ballet-adultos-ex-bailarines-7/
LOCATION:Salón A – Ballet Escenario\, 52 calle Minerva\, Mayaguez\, 00680\, Puerto Rico
CATEGORIES:Ballet
END:VEVENT
END:VCALENDAR