BEGIN:VCALENDAR
VERSION:2.0
PRODID:-//Ballet Escenario - ECPv6.15.20//NONSGML v1.0//EN
CALSCALE:GREGORIAN
METHOD:PUBLISH
X-WR-CALNAME:Ballet Escenario
X-ORIGINAL-URL:https://balletescenario.com
X-WR-CALDESC:Events for Ballet Escenario
REFRESH-INTERVAL;VALUE=DURATION:PT1H
X-Robots-Tag:noindex
X-PUBLISHED-TTL:PT1H
BEGIN:VTIMEZONE
TZID:America/Puerto_Rico
BEGIN:STANDARD
TZOFFSETFROM:-0400
TZOFFSETTO:-0400
TZNAME:AST
DTSTART:20250101T000000
END:STANDARD
END:VTIMEZONE
BEGIN:VEVENT
DTSTART;TZID=America/Puerto_Rico:20260309T163000
DTEND;TZID=America/Puerto_Rico:20260309T173000
DTSTAMP:20260419T212337
CREATED:20251228T063127Z
LAST-MODIFIED:20260309T182956Z
UID:10004155-1773073800-1773077400@balletescenario.com
SUMMARY:Pre Ballet Lunes (5-6 años)
DESCRIPTION:
URL:https://balletescenario.com/event/pre-ballet-lunes-5-6-anos-33/
LOCATION:Salón B – Ballet Escenario\, Calle Minerva #52\, Mayaguez\, 00680\, Puerto Rico
CATEGORIES:Ballet
END:VEVENT
BEGIN:VEVENT
DTSTART;TZID=America/Puerto_Rico:20260309T163000
DTEND;TZID=America/Puerto_Rico:20260309T173000
DTSTAMP:20260419T212337
CREATED:20251228T070222Z
LAST-MODIFIED:20260309T182807Z
UID:10004172-1773073800-1773077400@balletescenario.com
SUMMARY:Baby Ballet Lunes (3-4 años)
DESCRIPTION:
URL:https://balletescenario.com/event/baby-ballet-lunes-3-4-anos-33/
LOCATION:Salón C – Ballet Escenario\, Calle Minerva #52\, Mayaguez\, 00680\, Puerto Rico
CATEGORIES:Ballet
END:VEVENT
BEGIN:VEVENT
DTSTART;TZID=America/Puerto_Rico:20260309T163000
DTEND;TZID=America/Puerto_Rico:20260309T173000
DTSTAMP:20260419T212337
CREATED:20260309T185816Z
LAST-MODIFIED:20260309T185816Z
UID:10004968-1773073800-1773077400@balletescenario.com
SUMMARY:Jr. Ballet - Lunes (7-10 años)
DESCRIPTION:
URL:https://balletescenario.com/event/jr-ballet-lunes-7-10-anos-6/
LOCATION:Salón A – Ballet Escenario\, 52 calle Minerva\, Mayaguez\, 00680\, Puerto Rico
CATEGORIES:Ballet
END:VEVENT
BEGIN:VEVENT
DTSTART;TZID=America/Puerto_Rico:20260309T174000
DTEND;TZID=America/Puerto_Rico:20260309T184000
DTSTAMP:20260419T212337
CREATED:20260101T234902Z
LAST-MODIFIED:20260101T234935Z
UID:10004465-1773078000-1773081600@balletescenario.com
SUMMARY:Puntas - Nivel Intermedio
DESCRIPTION:
URL:https://balletescenario.com/event/puntas-nivel-intermedio-35/
LOCATION:Salón A – Ballet Escenario\, 52 calle Minerva\, Mayaguez\, 00680\, Puerto Rico
CATEGORIES:Ballet
END:VEVENT
BEGIN:VEVENT
DTSTART;TZID=America/Puerto_Rico:20260309T174000
DTEND;TZID=America/Puerto_Rico:20260309T184000
DTSTAMP:20260419T212337
CREATED:20260102T001046Z
LAST-MODIFIED:20260102T001121Z
UID:10004477-1773078000-1773081600@balletescenario.com
SUMMARY:Salsa Kids Intermedio (5-12 años)
DESCRIPTION:
URL:https://balletescenario.com/event/salsa-kids-intermedio-5-12-anos-36/
LOCATION:Salón C – Ballet Escenario\, Calle Minerva #52\, Mayaguez\, 00680\, Puerto Rico
CATEGORIES:Salsa
END:VEVENT
BEGIN:VEVENT
DTSTART;TZID=America/Puerto_Rico:20260309T185000
DTEND;TZID=America/Puerto_Rico:20260309T195000
DTSTAMP:20260419T212337
CREATED:20260102T012512Z
LAST-MODIFIED:20260102T012602Z
UID:10004501-1773082200-1773085800@balletescenario.com
SUMMARY:Salsa Parejas Básico I - Rotando
DESCRIPTION:
URL:https://balletescenario.com/event/salsa-parejas-basico-i-rotando-19/
LOCATION:Salón B – Ballet Escenario\, Calle Minerva #52\, Mayaguez\, 00680\, Puerto Rico
CATEGORIES:Salsa
END:VEVENT
BEGIN:VEVENT
DTSTART;TZID=America/Puerto_Rico:20260309T185000
DTEND;TZID=America/Puerto_Rico:20260309T195000
DTSTAMP:20260419T212337
CREATED:20260102T015341Z
LAST-MODIFIED:20260102T015423Z
UID:10004515-1773082200-1773085800@balletescenario.com
SUMMARY:Salsa Pasos Libres Básico
DESCRIPTION:
URL:https://balletescenario.com/event/salsa-pasos-libres-basico-21/
LOCATION:Salón C – Ballet Escenario\, Calle Minerva #52\, Mayaguez\, 00680\, Puerto Rico
CATEGORIES:Salsa
END:VEVENT
BEGIN:VEVENT
DTSTART;TZID=America/Puerto_Rico:20260309T185000
DTEND;TZID=America/Puerto_Rico:20260309T202000
DTSTAMP:20260419T212337
CREATED:20260102T005401Z
LAST-MODIFIED:20260102T005441Z
UID:10004489-1773082200-1773087600@balletescenario.com
SUMMARY:Ballet IV
DESCRIPTION:
URL:https://balletescenario.com/event/ballet-iv-64/
LOCATION:Salón A – Ballet Escenario\, 52 calle Minerva\, Mayaguez\, 00680\, Puerto Rico
CATEGORIES:Ballet
END:VEVENT
BEGIN:VEVENT
DTSTART;TZID=America/Puerto_Rico:20260309T193000
DTEND;TZID=America/Puerto_Rico:20260309T203000
DTSTAMP:20260419T212337
CREATED:20260102T022530Z
LAST-MODIFIED:20260102T022559Z
UID:10004527-1773084600-1773088200@balletescenario.com
SUMMARY:Fitness Bootcamp by Andrés Pagán
DESCRIPTION:Reserva tu espacio y paga en la recepción al llegar – Costo $15.00 x Clase (Por persona)
URL:https://balletescenario.com/event/fitness-bootcamp-by-andres-pagan-43/
LOCATION:Salon D – Ballet Escenario\, Calle Minerva #52\, Mayaguez\, 00680\, Puerto Rico
END:VEVENT
BEGIN:VEVENT
DTSTART;TZID=America/Puerto_Rico:20260310T170000
DTEND;TZID=America/Puerto_Rico:20260310T180000
DTSTAMP:20260419T212337
CREATED:20260103T044914Z
LAST-MODIFIED:20260103T045009Z
UID:10004539-1773162000-1773165600@balletescenario.com
SUMMARY:Salsa Kids Básico (5-12 años)
DESCRIPTION:
URL:https://balletescenario.com/event/salsa-kids-basico-5-12-anos-32/
LOCATION:Salón B – Ballet Escenario\, Calle Minerva #52\, Mayaguez\, 00680\, Puerto Rico
CATEGORIES:Salsa
END:VEVENT
BEGIN:VEVENT
DTSTART;TZID=America/Puerto_Rico:20260310T170000
DTEND;TZID=America/Puerto_Rico:20260310T180000
DTSTAMP:20260419T212337
CREATED:20260103T051524Z
LAST-MODIFIED:20260103T051554Z
UID:10004551-1773162000-1773165600@balletescenario.com
SUMMARY:Baby Ballet Martes (3-4 años)
DESCRIPTION:
URL:https://balletescenario.com/event/baby-ballet-martes-3-4-anos-32/
LOCATION:Salón C – Ballet Escenario\, Calle Minerva #52\, Mayaguez\, 00680\, Puerto Rico
CATEGORIES:Ballet
END:VEVENT
BEGIN:VEVENT
DTSTART;TZID=America/Puerto_Rico:20260310T181000
DTEND;TZID=America/Puerto_Rico:20260310T191000
DTSTAMP:20260419T212337
CREATED:20260103T053635Z
LAST-MODIFIED:20260103T053704Z
UID:10004563-1773166200-1773169800@balletescenario.com
SUMMARY:Pre Puntas
DESCRIPTION:
URL:https://balletescenario.com/event/pre-puntas-29/
LOCATION:Salón A – Ballet Escenario\, 52 calle Minerva\, Mayaguez\, 00680\, Puerto Rico
CATEGORIES:Ballet
END:VEVENT
BEGIN:VEVENT
DTSTART;TZID=America/Puerto_Rico:20260310T181000
DTEND;TZID=America/Puerto_Rico:20260310T191000
DTSTAMP:20260419T212337
CREATED:20260103T055548Z
LAST-MODIFIED:20260103T055632Z
UID:10004575-1773166200-1773169800@balletescenario.com
SUMMARY:Urban Style For Teens (11+)
DESCRIPTION:
URL:https://balletescenario.com/event/urban-style-for-teens-11-32/
LOCATION:Salón B – Ballet Escenario\, Calle Minerva #52\, Mayaguez\, 00680\, Puerto Rico
CATEGORIES:Urban Style
END:VEVENT
BEGIN:VEVENT
DTSTART;TZID=America/Puerto_Rico:20260310T181000
DTEND;TZID=America/Puerto_Rico:20260310T191000
DTSTAMP:20260419T212337
CREATED:20260103T061903Z
LAST-MODIFIED:20260103T061937Z
UID:10004587-1773166200-1773169800@balletescenario.com
SUMMARY:Stretch and BE Strong
DESCRIPTION:
URL:https://balletescenario.com/event/stretch-and-be-strong-99/
LOCATION:Salón C – Ballet Escenario\, Calle Minerva #52\, Mayaguez\, 00680\, Puerto Rico
CATEGORIES:Stretch and BE Strong
END:VEVENT
BEGIN:VEVENT
DTSTART;TZID=America/Puerto_Rico:20260310T192000
DTEND;TZID=America/Puerto_Rico:20260310T202000
DTSTAMP:20260419T212337
CREATED:20260103T064517Z
LAST-MODIFIED:20260103T064602Z
UID:10004600-1773170400-1773174000@balletescenario.com
SUMMARY:Ballet Adultos Ex-Bailarines
DESCRIPTION:
URL:https://balletescenario.com/event/ballet-adultos-ex-bailarines-36/
LOCATION:Salón A – Ballet Escenario\, 52 calle Minerva\, Mayaguez\, 00680\, Puerto Rico
CATEGORIES:Ballet
END:VEVENT
BEGIN:VEVENT
DTSTART;TZID=America/Puerto_Rico:20260310T192000
DTEND;TZID=America/Puerto_Rico:20260310T202000
DTSTAMP:20260419T212337
CREATED:20260103T070522Z
LAST-MODIFIED:20260103T070556Z
UID:10004612-1773170400-1773174000@balletescenario.com
SUMMARY:Ballet I (11-17 años)
DESCRIPTION:
URL:https://balletescenario.com/event/ballet-i-11-17-anos-36/
LOCATION:Salón C – Ballet Escenario\, Calle Minerva #52\, Mayaguez\, 00680\, Puerto Rico
CATEGORIES:Ballet
END:VEVENT
BEGIN:VEVENT
DTSTART;TZID=America/Puerto_Rico:20260310T203000
DTEND;TZID=America/Puerto_Rico:20260310T213000
DTSTAMP:20260419T212337
CREATED:20260103T072529Z
LAST-MODIFIED:20260103T072605Z
UID:10004624-1773174600-1773178200@balletescenario.com
SUMMARY:Salsa Parejas Avanzado - On2
DESCRIPTION:Nota Aclaratoria para la Compra de Boletos \nEstimados estudiantes\, \nQueremos informarles sobre la política de precios para nuestra próxima clase. Los boletos pueden ser adquiridos de forma individual o en pareja\, según la siguiente estructura de precios: \n\nBoleto individual: $10.00 por persona.\nBoleto para pareja: Si asisten con un acompañante y adquieren dos boletos\, cada uno tendrá un costo reducido de $7.50\, para un total de $15.00.\n\nEste descuento se aplicará automáticamente al agregar dos boletos a su carrito de compra\, y será reflejado en el proceso de checkout. \nGracias por su atención\, y esperamos verlos en la clase. \nPara más información\, comuníquese al 787-402-6350.
URL:https://balletescenario.com/event/salsa-parejas-avanzado-on2-32/
LOCATION:Salón A – Ballet Escenario\, 52 calle Minerva\, Mayaguez\, 00680\, Puerto Rico
CATEGORIES:Salsa
END:VEVENT
BEGIN:VEVENT
DTSTART;TZID=America/Puerto_Rico:20260311T163000
DTEND;TZID=America/Puerto_Rico:20260311T173000
DTSTAMP:20260419T212337
CREATED:20251228T233244Z
LAST-MODIFIED:20251228T233320Z
UID:10004193-1773246600-1773250200@balletescenario.com
SUMMARY:Acrobacia Continuación
DESCRIPTION:
URL:https://balletescenario.com/event/acrobacia-continuacion-36/
LOCATION:Salón A – Ballet Escenario\, 52 calle Minerva\, Mayaguez\, 00680\, Puerto Rico
CATEGORIES:Acrobacia
END:VEVENT
BEGIN:VEVENT
DTSTART;TZID=America/Puerto_Rico:20260311T174000
DTEND;TZID=America/Puerto_Rico:20260311T191000
DTSTAMP:20260419T212337
CREATED:20260104T044506Z
LAST-MODIFIED:20260104T044540Z
UID:10004636-1773250800-1773256200@balletescenario.com
SUMMARY:Puntas Avanzado
DESCRIPTION:
URL:https://balletescenario.com/event/puntas-avanzado-22/
LOCATION:Salón A – Ballet Escenario\, 52 calle Minerva\, Mayaguez\, 00680\, Puerto Rico
CATEGORIES:Ballet
END:VEVENT
BEGIN:VEVENT
DTSTART;TZID=America/Puerto_Rico:20260311T181000
DTEND;TZID=America/Puerto_Rico:20260311T191000
DTSTAMP:20260419T212337
CREATED:20260104T051112Z
LAST-MODIFIED:20260104T051145Z
UID:10004649-1773252600-1773256200@balletescenario.com
SUMMARY:Pre Ballet Miércoles (5-6 años)
DESCRIPTION:
URL:https://balletescenario.com/event/pre-ballet-miercoles-5-6-anos-34/
LOCATION:Salón C – Ballet Escenario\, Calle Minerva #52\, Mayaguez\, 00680\, Puerto Rico
CATEGORIES:Ballet
END:VEVENT
BEGIN:VEVENT
DTSTART;TZID=America/Puerto_Rico:20260311T192000
DTEND;TZID=America/Puerto_Rico:20260311T202000
DTSTAMP:20260419T212337
CREATED:20260104T053706Z
LAST-MODIFIED:20260104T053740Z
UID:10004661-1773256800-1773260400@balletescenario.com
SUMMARY:Ballet Adultos Principiantes
DESCRIPTION:
URL:https://balletescenario.com/event/ballet-adultos-principiantes-35/
LOCATION:Salón A – Ballet Escenario\, 52 calle Minerva\, Mayaguez\, 00680\, Puerto Rico
CATEGORIES:Ballet
END:VEVENT
BEGIN:VEVENT
DTSTART;TZID=America/Puerto_Rico:20260311T192000
DTEND;TZID=America/Puerto_Rico:20260311T202000
DTSTAMP:20260419T212337
CREATED:20260104T060227Z
LAST-MODIFIED:20260127T154201Z
UID:10004673-1773256800-1773260400@balletescenario.com
SUMMARY:Salsa Parejas Básico On - 1
DESCRIPTION:NOTA: Para esta clase\, puede elegir entre dos opciones: \n– Estudiante Individual: Si asiste solo\, debe comprar un boleto de esta categoría. \n– Solo Para Parejas: Si asiste con una pareja o acompañante\, debe comprar dos boletos de esta categoría para un total a pagar de $15.00. \nImportante: Si compra boletos de la categoría “Solo Para Parejas” pero asiste solo\, se le cobrará la diferencia de precio antes de poder ingresar a la clase. \nPara más información\, comuníquese al 787-402-6350.
URL:https://balletescenario.com/event/salsa-parejas-basico-on-1-19/
LOCATION:Salón B – Ballet Escenario\, Calle Minerva #52\, Mayaguez\, 00680\, Puerto Rico
CATEGORIES:Salsa
END:VEVENT
BEGIN:VEVENT
DTSTART;TZID=America/Puerto_Rico:20260311T203000
DTEND;TZID=America/Puerto_Rico:20260311T213000
DTSTAMP:20260419T212337
CREATED:20260104T062654Z
LAST-MODIFIED:20260104T062742Z
UID:10004685-1773261000-1773264600@balletescenario.com
SUMMARY:Salsa Parejas Básico II - Rotando
DESCRIPTION:NOTA: Para esta clase\, puede elegir entre dos opciones: \n– Estudiante Individual: Si asiste solo\, debe comprar un boleto de esta categoría. \n– Solo Para Parejas: Si asiste con una pareja o acompañante\, debe comprar dos boletos de esta categoría para un total a pagar de $15.00. \nImportante: Si compra boletos de la categoría “Solo Para Parejas” pero asiste solo\, se le cobrará la diferencia de precio antes de poder ingresar a la clase. \nPara más información\, comuníquese al 787-402-6350.
URL:https://balletescenario.com/event/salsa-parejas-basico-ii-rotando-35/
LOCATION:Salón B – Ballet Escenario\, Calle Minerva #52\, Mayaguez\, 00680\, Puerto Rico
CATEGORIES:Salsa
END:VEVENT
BEGIN:VEVENT
DTSTART;TZID=America/Puerto_Rico:20260311T203000
DTEND;TZID=America/Puerto_Rico:20260311T213000
DTSTAMP:20260419T212337
CREATED:20260112T190851Z
LAST-MODIFIED:20260112T190926Z
UID:10004955-1773261000-1773264600@balletescenario.com
SUMMARY:Salsa Parejas Intermedio - On2
DESCRIPTION:Nota Aclaratoria para la Compra de Boletos \nEstimados estudiantes\, \nQueremos informarles sobre la política de precios para nuestra próxima clase. Los boletos pueden ser adquiridos de forma individual o en pareja\, según la siguiente estructura de precios: \n\nBoleto individual: $10.00 por persona.\nBoleto para pareja: Si asisten con un acompañante y adquieren dos boletos\, cada uno tendrá un costo reducido de $7.50\, para un total de $15.00.\n\nEste descuento se aplicará automáticamente al agregar dos boletos a su carrito de compra\, y será reflejado en el proceso de checkout. \nGracias por su atención\, y esperamos verlos en la clase. \nPara más información\, comuníquese al 787-402-6350.
URL:https://balletescenario.com/event/salsa-parejas-intermedio-on2-21/
LOCATION:Salón A – Ballet Escenario\, 52 calle Minerva\, Mayaguez\, 00680\, Puerto Rico
CATEGORIES:Salsa
END:VEVENT
BEGIN:VEVENT
DTSTART;TZID=America/Puerto_Rico:20260312T163000
DTEND;TZID=America/Puerto_Rico:20260312T173000
DTSTAMP:20260419T212337
CREATED:20260105T010451Z
LAST-MODIFIED:20260105T010615Z
UID:10004697-1773333000-1773336600@balletescenario.com
SUMMARY:Jazz Lírico Kids (7-12 años)
DESCRIPTION:
URL:https://balletescenario.com/event/jazz-lirico-kids-7-12-anos-32/
LOCATION:Salón B – Ballet Escenario\, Calle Minerva #52\, Mayaguez\, 00680\, Puerto Rico
CATEGORIES:Jazz Lírico
END:VEVENT
BEGIN:VEVENT
DTSTART;TZID=America/Puerto_Rico:20260312T174000
DTEND;TZID=America/Puerto_Rico:20260312T184000
DTSTAMP:20260419T212337
CREATED:20260105T014101Z
LAST-MODIFIED:20260105T014142Z
UID:10004710-1773337200-1773340800@balletescenario.com
SUMMARY:Principios de Acrobacia (7 años+)
DESCRIPTION:
URL:https://balletescenario.com/event/principios-de-acrobacia-7-anos-32/
LOCATION:Salón A – Ballet Escenario\, 52 calle Minerva\, Mayaguez\, 00680\, Puerto Rico
CATEGORIES:Acrobacia
END:VEVENT
BEGIN:VEVENT
DTSTART;TZID=America/Puerto_Rico:20260312T174000
DTEND;TZID=America/Puerto_Rico:20260312T184000
DTSTAMP:20260419T212337
CREATED:20260105T020520Z
LAST-MODIFIED:20260105T020558Z
UID:10004723-1773337200-1773340800@balletescenario.com
SUMMARY:Salsa Kids Avanzado (5-12 años)
DESCRIPTION:
URL:https://balletescenario.com/event/salsa-kids-avanzado-5-12-anos-30/
LOCATION:Salón B – Ballet Escenario\, Calle Minerva #52\, Mayaguez\, 00680\, Puerto Rico
CATEGORIES:Salsa
END:VEVENT
BEGIN:VEVENT
DTSTART;TZID=America/Puerto_Rico:20260312T174000
DTEND;TZID=America/Puerto_Rico:20260312T184000
DTSTAMP:20260419T212337
CREATED:20260105T212130Z
LAST-MODIFIED:20260105T212225Z
UID:10004735-1773337200-1773340800@balletescenario.com
SUMMARY:Stretch and BE Strong
DESCRIPTION:
URL:https://balletescenario.com/event/stretch-and-be-strong-110/
LOCATION:Salón C – Ballet Escenario\, Calle Minerva #52\, Mayaguez\, 00680\, Puerto Rico
CATEGORIES:Stretch and BE Strong
END:VEVENT
BEGIN:VEVENT
DTSTART;TZID=America/Puerto_Rico:20260312T185000
DTEND;TZID=America/Puerto_Rico:20260312T195000
DTSTAMP:20260419T212337
CREATED:20260105T214325Z
LAST-MODIFIED:20260105T214422Z
UID:10004747-1773341400-1773345000@balletescenario.com
SUMMARY:Ballet II
DESCRIPTION:
URL:https://balletescenario.com/event/ballet-ii-67/
LOCATION:Salón A – Ballet Escenario\, 52 calle Minerva\, Mayaguez\, 00680\, Puerto Rico
CATEGORIES:Ballet
END:VEVENT
BEGIN:VEVENT
DTSTART;TZID=America/Puerto_Rico:20260312T185000
DTEND;TZID=America/Puerto_Rico:20260312T195000
DTSTAMP:20260419T212337
CREATED:20260105T221935Z
LAST-MODIFIED:20260105T222005Z
UID:10004759-1773341400-1773345000@balletescenario.com
SUMMARY:Salsa Pasos Libres Intermedio
DESCRIPTION:
URL:https://balletescenario.com/event/salsa-pasos-libres-intermedio-35/
LOCATION:Salón B – Ballet Escenario\, Calle Minerva #52\, Mayaguez\, 00680\, Puerto Rico
CATEGORIES:Salsa
END:VEVENT
END:VCALENDAR