BEGIN:VCALENDAR
VERSION:2.0
PRODID:-//Ballet Escenario - ECPv6.15.20//NONSGML v1.0//EN
CALSCALE:GREGORIAN
METHOD:PUBLISH
X-ORIGINAL-URL:https://balletescenario.com
X-WR-CALDESC:Events for Ballet Escenario
REFRESH-INTERVAL;VALUE=DURATION:PT1H
X-Robots-Tag:noindex
X-PUBLISHED-TTL:PT1H
BEGIN:VTIMEZONE
TZID:America/Puerto_Rico
BEGIN:STANDARD
TZOFFSETFROM:-0400
TZOFFSETTO:-0400
TZNAME:AST
DTSTART:20240101T000000
END:STANDARD
END:VTIMEZONE
BEGIN:VEVENT
DTSTART;TZID=America/Puerto_Rico:20251018T122000
DTEND;TZID=America/Puerto_Rico:20251018T132000
DTSTAMP:20260421T151309
CREATED:20250804T063426Z
LAST-MODIFIED:20250823T061329Z
UID:10004059-1760790000-1760793600@balletescenario.com
SUMMARY:Puntas Variaciones
DESCRIPTION:
URL:https://balletescenario.com/event/puntas-variaciones-19/
LOCATION:Salón A – Ballet Escenario\, 52 calle Minerva\, Mayaguez\, 00680\, Puerto Rico
CATEGORIES:Ballet
END:VEVENT
BEGIN:VEVENT
DTSTART;TZID=America/Puerto_Rico:20251020T160000
DTEND;TZID=America/Puerto_Rico:20251020T170000
DTSTAMP:20260421T151309
CREATED:20250729T142047Z
LAST-MODIFIED:20250825T190431Z
UID:10003041-1760976000-1760979600@balletescenario.com
SUMMARY:Jr. Ballet - Lunes (7-10 años)
DESCRIPTION:
URL:https://balletescenario.com/event/jr-ballet-lunes-7-10-anos-23/
LOCATION:Salón A – Ballet Escenario\, 52 calle Minerva\, Mayaguez\, 00680\, Puerto Rico
CATEGORIES:Ballet
END:VEVENT
BEGIN:VEVENT
DTSTART;TZID=America/Puerto_Rico:20251020T160000
DTEND;TZID=America/Puerto_Rico:20251020T170000
DTSTAMP:20260421T151309
CREATED:20250729T145649Z
LAST-MODIFIED:20250825T190558Z
UID:10003060-1760976000-1760979600@balletescenario.com
SUMMARY:Salsa Kids Intermedio (5-12 años)
DESCRIPTION:
URL:https://balletescenario.com/event/salsa-kids-intermedio-5-12-anos-25/
LOCATION:Salón B – Ballet Escenario\, Calle Minerva #52\, Mayaguez\, 00680\, Puerto Rico
CATEGORIES:Salsa
END:VEVENT
BEGIN:VEVENT
DTSTART;TZID=America/Puerto_Rico:20251020T171000
DTEND;TZID=America/Puerto_Rico:20251020T181000
DTSTAMP:20260421T151309
CREATED:20250729T151559Z
LAST-MODIFIED:20250825T191015Z
UID:10003079-1760980200-1760983800@balletescenario.com
SUMMARY:Puntas - Nivel Intermedio
DESCRIPTION:
URL:https://balletescenario.com/event/puntas-nivel-intermedio-23/
LOCATION:Salón A – Ballet Escenario\, 52 calle Minerva\, Mayaguez\, 00680\, Puerto Rico
CATEGORIES:Ballet
END:VEVENT
BEGIN:VEVENT
DTSTART;TZID=America/Puerto_Rico:20251020T171000
DTEND;TZID=America/Puerto_Rico:20251020T181000
DTSTAMP:20260421T151309
CREATED:20250729T153252Z
LAST-MODIFIED:20250825T191459Z
UID:10003098-1760980200-1760983800@balletescenario.com
SUMMARY:Pre Ballet Lunes (5-6 años)
DESCRIPTION:
URL:https://balletescenario.com/event/pre-ballet-lunes-5-6-anos-23/
LOCATION:Salón B – Ballet Escenario\, Calle Minerva #52\, Mayaguez\, 00680\, Puerto Rico
CATEGORIES:Ballet
END:VEVENT
BEGIN:VEVENT
DTSTART;TZID=America/Puerto_Rico:20251020T171000
DTEND;TZID=America/Puerto_Rico:20251020T181000
DTSTAMP:20260421T151309
CREATED:20250729T160148Z
LAST-MODIFIED:20250825T191708Z
UID:10003117-1760980200-1760983800@balletescenario.com
SUMMARY:Baby Ballet Lunes (3-4 años)
DESCRIPTION:
URL:https://balletescenario.com/event/baby-ballet-lunes-3-4-anos-23/
LOCATION:Salón C – Ballet Escenario\, Calle Minerva #52\, Mayaguez\, 00680\, Puerto Rico
CATEGORIES:Ballet
END:VEVENT
BEGIN:VEVENT
DTSTART;TZID=America/Puerto_Rico:20251020T182000
DTEND;TZID=America/Puerto_Rico:20251020T192000
DTSTAMP:20260421T151309
CREATED:20250729T171001Z
LAST-MODIFIED:20250825T191937Z
UID:10003155-1760984400-1760988000@balletescenario.com
SUMMARY:Salsa Parejas Básico I - Rotando
DESCRIPTION:
URL:https://balletescenario.com/event/salsa-parejas-basico-i-rotando-23/
LOCATION:Salón B – Ballet Escenario\, Calle Minerva #52\, Mayaguez\, 00680\, Puerto Rico
CATEGORIES:Salsa
END:VEVENT
BEGIN:VEVENT
DTSTART;TZID=America/Puerto_Rico:20251020T182000
DTEND;TZID=America/Puerto_Rico:20251020T195000
DTSTAMP:20260421T151309
CREATED:20250729T165048Z
LAST-MODIFIED:20250825T191831Z
UID:10003136-1760984400-1760989800@balletescenario.com
SUMMARY:Ballet IV
DESCRIPTION:
URL:https://balletescenario.com/event/ballet-iv-30/
LOCATION:Salón A – Ballet Escenario\, 52 calle Minerva\, Mayaguez\, 00680\, Puerto Rico
CATEGORIES:Ballet
END:VEVENT
BEGIN:VEVENT
DTSTART;TZID=America/Puerto_Rico:20251020T193000
DTEND;TZID=America/Puerto_Rico:20251020T203000
DTSTAMP:20260421T151309
CREATED:20250729T175041Z
LAST-MODIFIED:20250825T192055Z
UID:10003176-1760988600-1760992200@balletescenario.com
SUMMARY:Salsa Pasos Libres Básico
DESCRIPTION:
URL:https://balletescenario.com/event/salsa-pasos-libres-basico-23/
LOCATION:Salón B – Ballet Escenario\, Calle Minerva #52\, Mayaguez\, 00680\, Puerto Rico
CATEGORIES:Salsa
END:VEVENT
BEGIN:VEVENT
DTSTART;TZID=America/Puerto_Rico:20251020T193000
DTEND;TZID=America/Puerto_Rico:20251020T203000
DTSTAMP:20260421T151309
CREATED:20250729T181731Z
LAST-MODIFIED:20250825T192237Z
UID:10003195-1760988600-1760992200@balletescenario.com
SUMMARY:Fitness Bootcamp by Andrés Pagán
DESCRIPTION:Reserva tu espacio y paga en la recepción al llegar – Costo $15.00 x Clase (Por persona)
URL:https://balletescenario.com/event/fitness-bootcamp-by-andres-pagan-34/
LOCATION:Salon D – Ballet Escenario\, Calle Minerva #52\, Mayaguez\, 00680\, Puerto Rico
END:VEVENT
BEGIN:VEVENT
DTSTART;TZID=America/Puerto_Rico:20251021T160000
DTEND;TZID=America/Puerto_Rico:20251021T173000
DTSTAMP:20260421T151309
CREATED:20250730T161516Z
LAST-MODIFIED:20250825T192452Z
UID:10003253-1761062400-1761067800@balletescenario.com
SUMMARY:Ballet III
DESCRIPTION:
URL:https://balletescenario.com/event/ballet-iii-35/
LOCATION:Salón A – Ballet Escenario\, 52 calle Minerva\, Mayaguez\, 00680\, Puerto Rico
CATEGORIES:Ballet
END:VEVENT
BEGIN:VEVENT
DTSTART;TZID=America/Puerto_Rico:20251021T163000
DTEND;TZID=America/Puerto_Rico:20251021T173000
DTSTAMP:20260421T151309
CREATED:20250730T164147Z
LAST-MODIFIED:20250825T192612Z
UID:10003264-1761064200-1761067800@balletescenario.com
SUMMARY:Salsa Kids Básico (5-12 años)
DESCRIPTION:
URL:https://balletescenario.com/event/salsa-kids-basico-5-12-anos-18/
LOCATION:Salón B – Ballet Escenario\, Calle Minerva #52\, Mayaguez\, 00680\, Puerto Rico
CATEGORIES:Salsa
END:VEVENT
BEGIN:VEVENT
DTSTART;TZID=America/Puerto_Rico:20251021T163000
DTEND;TZID=America/Puerto_Rico:20251021T173000
DTSTAMP:20260421T151309
CREATED:20250730T165837Z
LAST-MODIFIED:20250825T192732Z
UID:10003283-1761064200-1761067800@balletescenario.com
SUMMARY:Baby Ballet Martes (3-4 años)
DESCRIPTION:
URL:https://balletescenario.com/event/baby-ballet-martes-3-4-anos-23/
LOCATION:Salón C – Ballet Escenario\, Calle Minerva #52\, Mayaguez\, 00680\, Puerto Rico
CATEGORIES:Ballet
END:VEVENT
BEGIN:VEVENT
DTSTART;TZID=America/Puerto_Rico:20251021T174000
DTEND;TZID=America/Puerto_Rico:20251021T184000
DTSTAMP:20260421T151309
CREATED:20250730T173238Z
LAST-MODIFIED:20250825T192859Z
UID:10003302-1761068400-1761072000@balletescenario.com
SUMMARY:Pre Puntas
DESCRIPTION:
URL:https://balletescenario.com/event/pre-puntas-12/
LOCATION:Salón A – Ballet Escenario\, 52 calle Minerva\, Mayaguez\, 00680\, Puerto Rico
CATEGORIES:Ballet
END:VEVENT
BEGIN:VEVENT
DTSTART;TZID=America/Puerto_Rico:20251021T174000
DTEND;TZID=America/Puerto_Rico:20251021T184000
DTSTAMP:20260421T151309
CREATED:20250730T174937Z
LAST-MODIFIED:20250825T193008Z
UID:10003321-1761068400-1761072000@balletescenario.com
SUMMARY:Urban Style For Teens (11+)
DESCRIPTION:
URL:https://balletescenario.com/event/urban-style-for-teens-11-23/
LOCATION:Salón B – Ballet Escenario\, Calle Minerva #52\, Mayaguez\, 00680\, Puerto Rico
CATEGORIES:Urban Style
END:VEVENT
BEGIN:VEVENT
DTSTART;TZID=America/Puerto_Rico:20251021T174000
DTEND;TZID=America/Puerto_Rico:20251021T184000
DTSTAMP:20260421T151309
CREATED:20250730T180752Z
LAST-MODIFIED:20250825T193123Z
UID:10003340-1761068400-1761072000@balletescenario.com
SUMMARY:Stretch and BE Strong
DESCRIPTION:
URL:https://balletescenario.com/event/stretch-and-be-strong-36/
LOCATION:Salón C – Ballet Escenario\, Calle Minerva #52\, Mayaguez\, 00680\, Puerto Rico
CATEGORIES:Stretch and BE Strong
END:VEVENT
BEGIN:VEVENT
DTSTART;TZID=America/Puerto_Rico:20251021T185000
DTEND;TZID=America/Puerto_Rico:20251021T195000
DTSTAMP:20260421T151309
CREATED:20250730T182630Z
LAST-MODIFIED:20250825T193258Z
UID:10003359-1761072600-1761076200@balletescenario.com
SUMMARY:Ballet Adultos Ex-Bailarines
DESCRIPTION:
URL:https://balletescenario.com/event/ballet-adultos-ex-bailarines-27/
LOCATION:Salón A – Ballet Escenario\, 52 calle Minerva\, Mayaguez\, 00680\, Puerto Rico
CATEGORIES:Ballet
END:VEVENT
BEGIN:VEVENT
DTSTART;TZID=America/Puerto_Rico:20251021T185000
DTEND;TZID=America/Puerto_Rico:20251021T195000
DTSTAMP:20260421T151309
CREATED:20250730T185122Z
LAST-MODIFIED:20250825T193402Z
UID:10003378-1761072600-1761076200@balletescenario.com
SUMMARY:Ballet I (11-17 años)
DESCRIPTION:
URL:https://balletescenario.com/event/ballet-i-11-17-anos-24/
LOCATION:Salón C – Ballet Escenario\, Calle Minerva #52\, Mayaguez\, 00680\, Puerto Rico
CATEGORIES:Ballet
END:VEVENT
BEGIN:VEVENT
DTSTART;TZID=America/Puerto_Rico:20251021T200000
DTEND;TZID=America/Puerto_Rico:20251021T210000
DTSTAMP:20260421T151309
CREATED:20250730T194426Z
LAST-MODIFIED:20250825T193522Z
UID:10003399-1761076800-1761080400@balletescenario.com
SUMMARY:Salsa Parejas Avanzado - On2
DESCRIPTION:Nota Aclaratoria para la Compra de Boletos \nEstimados estudiantes\, \nQueremos informarles sobre la política de precios para nuestra próxima clase. Los boletos pueden ser adquiridos de forma individual o en pareja\, según la siguiente estructura de precios: \n\nBoleto individual: $10.00 por persona.\nBoleto para pareja: Si asisten con un acompañante y adquieren dos boletos\, cada uno tendrá un costo reducido de $7.50\, para un total de $15.00.\n\nEste descuento se aplicará automáticamente al agregar dos boletos a su carrito de compra\, y será reflejado en el proceso de checkout. \nGracias por su atención\, y esperamos verlos en la clase. \nPara más información\, comuníquese al 787-402-6350.
URL:https://balletescenario.com/event/salsa-parejas-avanzado-on2-25/
LOCATION:Salón A – Ballet Escenario\, 52 calle Minerva\, Mayaguez\, 00680\, Puerto Rico
CATEGORIES:Salsa
END:VEVENT
BEGIN:VEVENT
DTSTART;TZID=America/Puerto_Rico:20251022T160000
DTEND;TZID=America/Puerto_Rico:20251022T170000
DTSTAMP:20260421T151309
CREATED:20250801T000458Z
LAST-MODIFIED:20250825T193633Z
UID:10003430-1761148800-1761152400@balletescenario.com
SUMMARY:Acrobacia Continuación
DESCRIPTION:
URL:https://balletescenario.com/event/acrobacia-continuacion-26/
LOCATION:Salón A – Ballet Escenario\, 52 calle Minerva\, Mayaguez\, 00680\, Puerto Rico
CATEGORIES:Acrobacia
END:VEVENT
BEGIN:VEVENT
DTSTART;TZID=America/Puerto_Rico:20251022T160000
DTEND;TZID=America/Puerto_Rico:20251022T170000
DTSTAMP:20260421T151309
CREATED:20250801T003114Z
LAST-MODIFIED:20250825T193747Z
UID:10003450-1761148800-1761152400@balletescenario.com
SUMMARY:Jazz Lírico - (13+ años)
DESCRIPTION:
URL:https://balletescenario.com/event/jazz-lirico-13-anos-12/
LOCATION:Salón B – Ballet Escenario\, Calle Minerva #52\, Mayaguez\, 00680\, Puerto Rico
CATEGORIES:Jazz Lírico
END:VEVENT
BEGIN:VEVENT
DTSTART;TZID=America/Puerto_Rico:20251022T171000
DTEND;TZID=America/Puerto_Rico:20251022T181000
DTSTAMP:20260421T151309
CREATED:20250801T012539Z
LAST-MODIFIED:20250825T194015Z
UID:10003490-1761153000-1761156600@balletescenario.com
SUMMARY:Pre Ballet Miércoles (5-6 años)
DESCRIPTION:
URL:https://balletescenario.com/event/pre-ballet-miercoles-5-6-anos-25/
LOCATION:Salón C – Ballet Escenario\, Calle Minerva #52\, Mayaguez\, 00680\, Puerto Rico
CATEGORIES:Ballet
END:VEVENT
BEGIN:VEVENT
DTSTART;TZID=America/Puerto_Rico:20251022T171000
DTEND;TZID=America/Puerto_Rico:20251022T184000
DTSTAMP:20260421T151309
CREATED:20250801T005203Z
LAST-MODIFIED:20250825T193905Z
UID:10003469-1761153000-1761158400@balletescenario.com
SUMMARY:Puntas Avanzado
DESCRIPTION:
URL:https://balletescenario.com/event/puntas-avanzado-25/
LOCATION:Salón A – Ballet Escenario\, 52 calle Minerva\, Mayaguez\, 00680\, Puerto Rico
CATEGORIES:Ballet
END:VEVENT
BEGIN:VEVENT
DTSTART;TZID=America/Puerto_Rico:20251022T182000
DTEND;TZID=America/Puerto_Rico:20251022T192000
DTSTAMP:20260421T151309
CREATED:20250801T032646Z
LAST-MODIFIED:20250825T194138Z
UID:10003509-1761157200-1761160800@balletescenario.com
SUMMARY:Salsa Parejas Básico On - 1
DESCRIPTION:NOTA: Por favor\, compre solo un ticket por pareja. \nCada ticket cubre la entrada para dos personas y tiene un costo de $15.00. \nEsta clase está diseñada exclusivamente para parejas. \nNo se permitirá la asistencia de personas solas. \nPara más información\, comuníquese al 787-402-6350.
URL:https://balletescenario.com/event/salsa-parejas-basico-on-1-24/
LOCATION:Salón B – Ballet Escenario\, Calle Minerva #52\, Mayaguez\, 00680\, Puerto Rico
CATEGORIES:Salsa
END:VEVENT
BEGIN:VEVENT
DTSTART;TZID=America/Puerto_Rico:20251022T185000
DTEND;TZID=America/Puerto_Rico:20251022T195000
DTSTAMP:20260421T151309
CREATED:20250801T034909Z
LAST-MODIFIED:20250825T195335Z
UID:10003529-1761159000-1761162600@balletescenario.com
SUMMARY:Ballet Adultos Principiantes
DESCRIPTION:
URL:https://balletescenario.com/event/ballet-adultos-principiantes-25/
LOCATION:Salón A – Ballet Escenario\, 52 calle Minerva\, Mayaguez\, 00680\, Puerto Rico
CATEGORIES:Ballet
END:VEVENT
BEGIN:VEVENT
DTSTART;TZID=America/Puerto_Rico:20251022T185000
DTEND;TZID=America/Puerto_Rico:20251022T195000
DTSTAMP:20260421T151309
CREATED:20250801T041809Z
LAST-MODIFIED:20250825T195458Z
UID:10003549-1761159000-1761162600@balletescenario.com
SUMMARY:Jr. Ballet Miércoles (7-10 años)
DESCRIPTION:
URL:https://balletescenario.com/event/jr-ballet-miercoles-7-10-anos-25/
LOCATION:Salón C – Ballet Escenario\, Calle Minerva #52\, Mayaguez\, 00680\, Puerto Rico
CATEGORIES:Ballet
END:VEVENT
BEGIN:VEVENT
DTSTART;TZID=America/Puerto_Rico:20251022T193000
DTEND;TZID=America/Puerto_Rico:20251022T203000
DTSTAMP:20260421T151309
CREATED:20250801T045033Z
LAST-MODIFIED:20250814T012755Z
UID:10003569-1761161400-1761165000@balletescenario.com
SUMMARY:Salsa Parejas Básico II - Rotando
DESCRIPTION:NOTA: Para esta clase\, puede elegir entre dos opciones: \n– Estudiante Individual: Si asiste solo\, debe comprar un boleto de esta categoría. \n– Solo Para Parejas: Si asiste con una pareja o acompañante\, debe comprar dos boletos de esta categoría para un total a pagar de $15.00. \nImportante: Si compra boletos de la categoría “Solo Para Parejas” pero asiste solo\, se le cobrará la diferencia de precio antes de poder ingresar a la clase. \nPara más información\, comuníquese al 787-402-6350.
URL:https://balletescenario.com/event/salsa-parejas-basico-ii-rotando-25/
LOCATION:Salón B – Ballet Escenario\, Calle Minerva #52\, Mayaguez\, 00680\, Puerto Rico
CATEGORIES:Salsa
END:VEVENT
BEGIN:VEVENT
DTSTART;TZID=America/Puerto_Rico:20251022T200000
DTEND;TZID=America/Puerto_Rico:20251022T210000
DTSTAMP:20260421T151309
CREATED:20250801T050858Z
LAST-MODIFIED:20250825T195639Z
UID:10003588-1761163200-1761166800@balletescenario.com
SUMMARY:Salsa Parejas Intermedio - On2
DESCRIPTION:Nota Aclaratoria para la Compra de Boletos \nEstimados estudiantes\, \nQueremos informarles sobre la política de precios para nuestra próxima clase. Los boletos pueden ser adquiridos de forma individual o en pareja\, según la siguiente estructura de precios: \n\nBoleto individual: $10.00 por persona.\nBoleto para pareja: Si asisten con un acompañante y adquieren dos boletos\, cada uno tendrá un costo reducido de $7.50\, para un total de $15.00.\n\nEste descuento se aplicará automáticamente al agregar dos boletos a su carrito de compra\, y será reflejado en el proceso de checkout. \nGracias por su atención\, y esperamos verlos en la clase. \nPara más información\, comuníquese al 787-402-6350.
URL:https://balletescenario.com/event/salsa-parejas-intermedio-on2-26/
LOCATION:Salón A – Ballet Escenario\, 52 calle Minerva\, Mayaguez\, 00680\, Puerto Rico
CATEGORIES:Salsa
END:VEVENT
BEGIN:VEVENT
DTSTART;TZID=America/Puerto_Rico:20251022T200000
DTEND;TZID=America/Puerto_Rico:20251022T210000
DTSTAMP:20260421T151309
CREATED:20250801T054343Z
LAST-MODIFIED:20250825T195741Z
UID:10003609-1761163200-1761166800@balletescenario.com
SUMMARY:Yoga
DESCRIPTION:
URL:https://balletescenario.com/event/yoga-34/
LOCATION:Salon D – Ballet Escenario\, Calle Minerva #52\, Mayaguez\, 00680\, Puerto Rico
CATEGORIES:Yoga
END:VEVENT
BEGIN:VEVENT
DTSTART;TZID=America/Puerto_Rico:20251023T160000
DTEND;TZID=America/Puerto_Rico:20251023T173000
DTSTAMP:20260421T151309
CREATED:20250801T163745Z
LAST-MODIFIED:20250825T195855Z
UID:10003637-1761235200-1761240600@balletescenario.com
SUMMARY:Ballet III
DESCRIPTION:
URL:https://balletescenario.com/event/ballet-iii-51/
LOCATION:Salón A – Ballet Escenario\, 52 calle Minerva\, Mayaguez\, 00680\, Puerto Rico
CATEGORIES:Ballet
END:VEVENT
END:VCALENDAR