BEGIN:VCALENDAR
VERSION:2.0
PRODID:-//Ballet Escenario - ECPv6.15.20//NONSGML v1.0//EN
CALSCALE:GREGORIAN
METHOD:PUBLISH
X-WR-CALNAME:Ballet Escenario
X-ORIGINAL-URL:https://balletescenario.com
X-WR-CALDESC:Events for Ballet Escenario
REFRESH-INTERVAL;VALUE=DURATION:PT1H
X-Robots-Tag:noindex
X-PUBLISHED-TTL:PT1H
BEGIN:VTIMEZONE
TZID:America/Puerto_Rico
BEGIN:STANDARD
TZOFFSETFROM:-0400
TZOFFSETTO:-0400
TZNAME:AST
DTSTART:20250101T000000
END:STANDARD
END:VTIMEZONE
BEGIN:VEVENT
DTSTART;TZID=America/Puerto_Rico:20260217T163000
DTEND;TZID=America/Puerto_Rico:20260217T180000
DTSTAMP:20260421T013520
CREATED:20251229T205601Z
LAST-MODIFIED:20251229T205642Z
UID:10004315-1771345800-1771351200@balletescenario.com
SUMMARY:Ballet III
DESCRIPTION:
URL:https://balletescenario.com/event/ballet-iii-41/
LOCATION:Salón A – Ballet Escenario\, 52 calle Minerva\, Mayaguez\, 00680\, Puerto Rico
CATEGORIES:Ballet
END:VEVENT
BEGIN:VEVENT
DTSTART;TZID=America/Puerto_Rico:20260216T193000
DTEND;TZID=America/Puerto_Rico:20260216T203000
DTSTAMP:20260421T013520
CREATED:20251229T200138Z
LAST-MODIFIED:20251229T200304Z
UID:10004306-1771270200-1771273800@balletescenario.com
SUMMARY:Fitness Bootcamp by Andrés Pagán
DESCRIPTION:Reserva tu espacio y paga en la recepción al llegar – Costo $15.00 x Clase (Por persona)
URL:https://balletescenario.com/event/fitness-bootcamp-by-andres-pagan-13/
LOCATION:Salon D – Ballet Escenario\, Calle Minerva #52\, Mayaguez\, 00680\, Puerto Rico
END:VEVENT
BEGIN:VEVENT
DTSTART;TZID=America/Puerto_Rico:20260216T185000
DTEND;TZID=America/Puerto_Rico:20260216T202000
DTSTAMP:20260421T013520
CREATED:20251229T192932Z
LAST-MODIFIED:20251229T193001Z
UID:10004294-1771267800-1771273200@balletescenario.com
SUMMARY:Ballet IV
DESCRIPTION:
URL:https://balletescenario.com/event/ballet-iv-21/
LOCATION:Salón A – Ballet Escenario\, 52 calle Minerva\, Mayaguez\, 00680\, Puerto Rico
CATEGORIES:Ballet
END:VEVENT
BEGIN:VEVENT
DTSTART;TZID=America/Puerto_Rico:20260216T185000
DTEND;TZID=America/Puerto_Rico:20260216T195000
DTSTAMP:20260421T013520
CREATED:20251229T194858Z
LAST-MODIFIED:20251229T194931Z
UID:10004302-1771267800-1771271400@balletescenario.com
SUMMARY:Salsa Pasos Libres Básico
DESCRIPTION:
URL:https://balletescenario.com/event/salsa-pasos-libres-basico-10/
LOCATION:Salón C – Ballet Escenario\, Calle Minerva #52\, Mayaguez\, 00680\, Puerto Rico
CATEGORIES:Salsa
END:VEVENT
BEGIN:VEVENT
DTSTART;TZID=America/Puerto_Rico:20260216T185000
DTEND;TZID=America/Puerto_Rico:20260216T195000
DTSTAMP:20260421T013520
CREATED:20251229T193947Z
LAST-MODIFIED:20251229T194026Z
UID:10004298-1771267800-1771271400@balletescenario.com
SUMMARY:Salsa Parejas Básico I - Rotando
DESCRIPTION:
URL:https://balletescenario.com/event/salsa-parejas-basico-i-rotando-10/
LOCATION:Salón B – Ballet Escenario\, Calle Minerva #52\, Mayaguez\, 00680\, Puerto Rico
CATEGORIES:Salsa
END:VEVENT
BEGIN:VEVENT
DTSTART;TZID=America/Puerto_Rico:20260216T174000
DTEND;TZID=America/Puerto_Rico:20260216T184000
DTSTAMP:20260421T013520
CREATED:20251229T192100Z
LAST-MODIFIED:20251229T192144Z
UID:10004290-1771263600-1771267200@balletescenario.com
SUMMARY:Salsa Kids Intermedio (5-12 años)
DESCRIPTION:
URL:https://balletescenario.com/event/salsa-kids-intermedio-5-12-anos-22/
LOCATION:Salón C – Ballet Escenario\, Calle Minerva #52\, Mayaguez\, 00680\, Puerto Rico
CATEGORIES:Salsa
END:VEVENT
BEGIN:VEVENT
DTSTART;TZID=America/Puerto_Rico:20260216T174000
DTEND;TZID=America/Puerto_Rico:20260216T184000
DTSTAMP:20260421T013520
CREATED:20251229T191059Z
LAST-MODIFIED:20251229T191140Z
UID:10004286-1771263600-1771267200@balletescenario.com
SUMMARY:Puntas - Nivel Intermedio
DESCRIPTION:
URL:https://balletescenario.com/event/puntas-nivel-intermedio-32/
LOCATION:Salón A – Ballet Escenario\, 52 calle Minerva\, Mayaguez\, 00680\, Puerto Rico
CATEGORIES:Ballet
END:VEVENT
BEGIN:VEVENT
DTSTART;TZID=America/Puerto_Rico:20260216T163000
DTEND;TZID=America/Puerto_Rico:20260216T173000
DTSTAMP:20260421T013520
CREATED:20251228T065746Z
LAST-MODIFIED:20251228T065819Z
UID:10004169-1771259400-1771263000@balletescenario.com
SUMMARY:Baby Ballet Lunes (3-4 años)
DESCRIPTION:
URL:https://balletescenario.com/event/baby-ballet-lunes-3-4-anos-19/
LOCATION:Salón C – Ballet Escenario\, Calle Minerva #52\, Mayaguez\, 00680\, Puerto Rico
CATEGORIES:Ballet
END:VEVENT
BEGIN:VEVENT
DTSTART;TZID=America/Puerto_Rico:20260216T163000
DTEND;TZID=America/Puerto_Rico:20260216T173000
DTSTAMP:20260421T013520
CREATED:20251228T062622Z
LAST-MODIFIED:20251228T062706Z
UID:10004152-1771259400-1771263000@balletescenario.com
SUMMARY:Pre Ballet Lunes (5-6 años)
DESCRIPTION:
URL:https://balletescenario.com/event/pre-ballet-lunes-5-6-anos-19/
LOCATION:Salón B – Ballet Escenario\, Calle Minerva #52\, Mayaguez\, 00680\, Puerto Rico
CATEGORIES:Ballet
END:VEVENT
BEGIN:VEVENT
DTSTART;TZID=America/Puerto_Rico:20260216T163000
DTEND;TZID=America/Puerto_Rico:20260216T173000
DTSTAMP:20260421T013520
CREATED:20251226T203549Z
LAST-MODIFIED:20251226T203638Z
UID:10004083-1771259400-1771263000@balletescenario.com
SUMMARY:Jr. Ballet - Lunes (7-10 años)
DESCRIPTION:
URL:https://balletescenario.com/event/jr-ballet-lunes-7-10-anos-19/
LOCATION:Salón A – Ballet Escenario\, 52 calle Minerva\, Mayaguez\, 00680\, Puerto Rico
CATEGORIES:Ballet
END:VEVENT
BEGIN:VEVENT
DTSTART;TZID=America/Puerto_Rico:20260214T122000
DTEND;TZID=America/Puerto_Rico:20260214T132000
DTSTAMP:20260421T013520
CREATED:20251231T192148Z
LAST-MODIFIED:20251231T192238Z
UID:10004461-1771071600-1771075200@balletescenario.com
SUMMARY:Puntas Variaciones
DESCRIPTION:
URL:https://balletescenario.com/event/puntas-variaciones-20/
LOCATION:Salón A – Ballet Escenario\, 52 calle Minerva\, Mayaguez\, 00680\, Puerto Rico
CATEGORIES:Ballet
END:VEVENT
BEGIN:VEVENT
DTSTART;TZID=America/Puerto_Rico:20260214T111000
DTEND;TZID=America/Puerto_Rico:20260214T121000
DTSTAMP:20260421T013520
CREATED:20251231T191503Z
LAST-MODIFIED:20251231T191547Z
UID:10004457-1771067400-1771071000@balletescenario.com
SUMMARY:Baby Ballet Sábado (3-4 años)
DESCRIPTION:
URL:https://balletescenario.com/event/baby-ballet-sabado-3-4-anos-18/
LOCATION:Salón C – Ballet Escenario\, Calle Minerva #52\, Mayaguez\, 00680\, Puerto Rico
CATEGORIES:Ballet
END:VEVENT
BEGIN:VEVENT
DTSTART;TZID=America/Puerto_Rico:20260214T111000
DTEND;TZID=America/Puerto_Rico:20260214T121000
DTSTAMP:20260421T013520
CREATED:20251231T190858Z
LAST-MODIFIED:20251231T190936Z
UID:10004453-1771067400-1771071000@balletescenario.com
SUMMARY:Urban Kids Sábado (5-10 años)
DESCRIPTION:
URL:https://balletescenario.com/event/urban-kids-sabado-5-10-anos-18/
LOCATION:Salón B – Ballet Escenario\, Calle Minerva #52\, Mayaguez\, 00680\, Puerto Rico
CATEGORIES:Urban Style
END:VEVENT
BEGIN:VEVENT
DTSTART;TZID=America/Puerto_Rico:20260214T111000
DTEND;TZID=America/Puerto_Rico:20260214T121000
DTSTAMP:20260421T013520
CREATED:20251231T190119Z
LAST-MODIFIED:20251231T190202Z
UID:10004449-1771067400-1771071000@balletescenario.com
SUMMARY:Ballet V
DESCRIPTION:
URL:https://balletescenario.com/event/ballet-v-19/
LOCATION:Salón A – Ballet Escenario\, 52 calle Minerva\, Mayaguez\, 00680\, Puerto Rico
CATEGORIES:Ballet
END:VEVENT
BEGIN:VEVENT
DTSTART;TZID=America/Puerto_Rico:20260214T100000
DTEND;TZID=America/Puerto_Rico:20260214T110000
DTSTAMP:20260421T013520
CREATED:20251231T185013Z
LAST-MODIFIED:20251231T185050Z
UID:10004445-1771063200-1771066800@balletescenario.com
SUMMARY:Pre Ballet Sábado (5-6 años)
DESCRIPTION:
URL:https://balletescenario.com/event/pre-ballet-sabado-5-6-anos-18/
LOCATION:Salón C – Ballet Escenario\, Calle Minerva #52\, Mayaguez\, 00680\, Puerto Rico
CATEGORIES:Ballet
END:VEVENT
BEGIN:VEVENT
DTSTART;TZID=America/Puerto_Rico:20260214T100000
DTEND;TZID=America/Puerto_Rico:20260214T110000
DTSTAMP:20260421T013520
CREATED:20251231T184429Z
LAST-MODIFIED:20251231T184508Z
UID:10004441-1771063200-1771066800@balletescenario.com
SUMMARY:Jr. Ballet Sábado (7-10 años)
DESCRIPTION:
URL:https://balletescenario.com/event/jr-ballet-sabado-7-10-anos-18/
LOCATION:Salón A – Ballet Escenario\, 52 calle Minerva\, Mayaguez\, 00680\, Puerto Rico
CATEGORIES:Ballet
END:VEVENT
BEGIN:VEVENT
DTSTART;TZID=America/Puerto_Rico:20260213T182000
DTEND;TZID=America/Puerto_Rico:20260213T195000
DTSTAMP:20260421T013520
CREATED:20251231T182605Z
LAST-MODIFIED:20251231T182636Z
UID:10004433-1771006800-1771012200@balletescenario.com
SUMMARY:Ballet IV
DESCRIPTION:
URL:https://balletescenario.com/event/ballet-iv-42/
LOCATION:Salón A – Ballet Escenario\, 52 calle Minerva\, Mayaguez\, 00680\, Puerto Rico
CATEGORIES:Ballet
END:VEVENT
BEGIN:VEVENT
DTSTART;TZID=America/Puerto_Rico:20260213T182000
DTEND;TZID=America/Puerto_Rico:20260213T192000
DTSTAMP:20260421T013520
CREATED:20251231T183115Z
LAST-MODIFIED:20251231T183201Z
UID:10004437-1771006800-1771010400@balletescenario.com
SUMMARY:Urban Kids Viernes (5-10 años)
DESCRIPTION:
URL:https://balletescenario.com/event/urban-kids-viernes-5-10-anos-26/
LOCATION:Salón B – Ballet Escenario\, Calle Minerva #52\, Mayaguez\, 00680\, Puerto Rico
CATEGORIES:Urban Style
END:VEVENT
BEGIN:VEVENT
DTSTART;TZID=America/Puerto_Rico:20260213T171000
DTEND;TZID=America/Puerto_Rico:20260213T181000
DTSTAMP:20260421T013520
CREATED:20251231T182101Z
LAST-MODIFIED:20251231T182138Z
UID:10004429-1771002600-1771006200@balletescenario.com
SUMMARY:Stretch and BE Strong
DESCRIPTION:
URL:https://balletescenario.com/event/stretch-and-be-strong-93/
LOCATION:Salón B – Ballet Escenario\, Calle Minerva #52\, Mayaguez\, 00680\, Puerto Rico
CATEGORIES:Stretch and BE Strong
END:VEVENT
BEGIN:VEVENT
DTSTART;TZID=America/Puerto_Rico:20260213T171000
DTEND;TZID=America/Puerto_Rico:20260213T181000
DTSTAMP:20260421T013520
CREATED:20251231T181342Z
LAST-MODIFIED:20251231T181415Z
UID:10004424-1771002600-1771006200@balletescenario.com
SUMMARY:Jr Ballet Nivel II
DESCRIPTION:
URL:https://balletescenario.com/event/jr-ballet-nivel-ii-21/
LOCATION:Salón A – Ballet Escenario\, 52 calle Minerva\, Mayaguez\, 00680\, Puerto Rico
CATEGORIES:Ballet
END:VEVENT
BEGIN:VEVENT
DTSTART;TZID=America/Puerto_Rico:20260213T160000
DTEND;TZID=America/Puerto_Rico:20260213T170000
DTSTAMP:20260421T013520
CREATED:20251231T180638Z
LAST-MODIFIED:20251231T180810Z
UID:10004419-1770998400-1771002000@balletescenario.com
SUMMARY:Ballet II
DESCRIPTION:
URL:https://balletescenario.com/event/ballet-ii-64/
LOCATION:Salón A – Ballet Escenario\, 52 calle Minerva\, Mayaguez\, 00680\, Puerto Rico
CATEGORIES:Ballet
END:VEVENT
BEGIN:VEVENT
DTSTART;TZID=America/Puerto_Rico:20260212T200000
DTEND;TZID=America/Puerto_Rico:20260212T210000
DTSTAMP:20260421T013520
CREATED:20251230T061119Z
LAST-MODIFIED:20251230T061156Z
UID:10004415-1770926400-1770930000@balletescenario.com
SUMMARY:Salsa Pasos Libres Avanzado
DESCRIPTION:
URL:https://balletescenario.com/event/salsa-pasos-libres-avanzado-20/
LOCATION:Salón A – Ballet Escenario\, 52 calle Minerva\, Mayaguez\, 00680\, Puerto Rico
CATEGORIES:Salsa
END:VEVENT
BEGIN:VEVENT
DTSTART;TZID=America/Puerto_Rico:20260212T193000
DTEND;TZID=America/Puerto_Rico:20260212T203000
DTSTAMP:20260421T013520
CREATED:20251230T060425Z
LAST-MODIFIED:20251230T060459Z
UID:10004411-1770924600-1770928200@balletescenario.com
SUMMARY:Fitness Bootcamp by Andrés Pagán
DESCRIPTION:Reserva tu espacio y paga en la recepción al llegar – Costo $15.00 x Clase (Por persona)
URL:https://balletescenario.com/event/fitness-bootcamp-by-andres-pagan-21/
LOCATION:Salon D – Ballet Escenario\, Calle Minerva #52\, Mayaguez\, 00680\, Puerto Rico
END:VEVENT
BEGIN:VEVENT
DTSTART;TZID=America/Puerto_Rico:20260212T185000
DTEND;TZID=America/Puerto_Rico:20260212T195000
DTSTAMP:20260421T013520
CREATED:20251230T055604Z
LAST-MODIFIED:20260109T040341Z
UID:10004407-1770922200-1770925800@balletescenario.com
SUMMARY:Jr. Ballet jueves (7-10 años)
DESCRIPTION:
URL:https://balletescenario.com/event/jr-ballet-miercoles-7-10-anos-17/
LOCATION:Salón C – Ballet Escenario\, Calle Minerva #52\, Mayaguez\, 00680\, Puerto Rico
CATEGORIES:Ballet
END:VEVENT
BEGIN:VEVENT
DTSTART;TZID=America/Puerto_Rico:20260212T185000
DTEND;TZID=America/Puerto_Rico:20260212T195000
DTSTAMP:20260421T013520
CREATED:20251230T054732Z
LAST-MODIFIED:20251230T054808Z
UID:10004403-1770922200-1770925800@balletescenario.com
SUMMARY:Salsa Pasos Libres Intermedio
DESCRIPTION:
URL:https://balletescenario.com/event/salsa-pasos-libres-intermedio-21/
LOCATION:Salón B – Ballet Escenario\, Calle Minerva #52\, Mayaguez\, 00680\, Puerto Rico
CATEGORIES:Salsa
END:VEVENT
BEGIN:VEVENT
DTSTART;TZID=America/Puerto_Rico:20260212T185000
DTEND;TZID=America/Puerto_Rico:20260212T195000
DTSTAMP:20260421T013520
CREATED:20251230T053926Z
LAST-MODIFIED:20251230T054001Z
UID:10004399-1770922200-1770925800@balletescenario.com
SUMMARY:Ballet II
DESCRIPTION:
URL:https://balletescenario.com/event/ballet-ii-34/
LOCATION:Salón A – Ballet Escenario\, 52 calle Minerva\, Mayaguez\, 00680\, Puerto Rico
CATEGORIES:Ballet
END:VEVENT
BEGIN:VEVENT
DTSTART;TZID=America/Puerto_Rico:20260212T174000
DTEND;TZID=America/Puerto_Rico:20260212T184000
DTSTAMP:20260421T013520
CREATED:20251230T052954Z
LAST-MODIFIED:20251230T053026Z
UID:10004395-1770918000-1770921600@balletescenario.com
SUMMARY:Stretch and BE Strong
DESCRIPTION:
URL:https://balletescenario.com/event/stretch-and-be-strong-63/
LOCATION:Salón C – Ballet Escenario\, Calle Minerva #52\, Mayaguez\, 00680\, Puerto Rico
CATEGORIES:Stretch and BE Strong
END:VEVENT
BEGIN:VEVENT
DTSTART;TZID=America/Puerto_Rico:20260212T174000
DTEND;TZID=America/Puerto_Rico:20260212T184000
DTSTAMP:20260421T013520
CREATED:20251230T052045Z
LAST-MODIFIED:20251230T052133Z
UID:10004391-1770918000-1770921600@balletescenario.com
SUMMARY:Salsa Kids Avanzado (5-12 años)
DESCRIPTION:
URL:https://balletescenario.com/event/salsa-kids-avanzado-5-12-anos-20/
LOCATION:Salón B – Ballet Escenario\, Calle Minerva #52\, Mayaguez\, 00680\, Puerto Rico
CATEGORIES:Salsa
END:VEVENT
BEGIN:VEVENT
DTSTART;TZID=America/Puerto_Rico:20260212T174000
DTEND;TZID=America/Puerto_Rico:20260212T184000
DTSTAMP:20260421T013520
CREATED:20251230T051307Z
LAST-MODIFIED:20251230T051342Z
UID:10004387-1770918000-1770921600@balletescenario.com
SUMMARY:Principios de Acrobacia (7 años+)
DESCRIPTION:
URL:https://balletescenario.com/event/principios-de-acrobacia-7-anos-20/
LOCATION:Salón A – Ballet Escenario\, 52 calle Minerva\, Mayaguez\, 00680\, Puerto Rico
CATEGORIES:Acrobacia
END:VEVENT
BEGIN:VEVENT
DTSTART;TZID=America/Puerto_Rico:20260212T163000
DTEND;TZID=America/Puerto_Rico:20260212T173000
DTSTAMP:20260421T013520
CREATED:20251230T050543Z
LAST-MODIFIED:20251230T050639Z
UID:10004383-1770913800-1770917400@balletescenario.com
SUMMARY:Jazz Lírico Kids (7-12 años)
DESCRIPTION:
URL:https://balletescenario.com/event/jazz-lirico-kids-7-12-anos-28/
LOCATION:Salón B – Ballet Escenario\, Calle Minerva #52\, Mayaguez\, 00680\, Puerto Rico
CATEGORIES:Jazz Lírico
END:VEVENT
END:VCALENDAR