BEGIN:VCALENDAR
VERSION:2.0
PRODID:-//Ballet Escenario - ECPv6.15.20//NONSGML v1.0//EN
CALSCALE:GREGORIAN
METHOD:PUBLISH
X-ORIGINAL-URL:https://balletescenario.com
X-WR-CALDESC:Events for Ballet Escenario
REFRESH-INTERVAL;VALUE=DURATION:PT1H
X-Robots-Tag:noindex
X-PUBLISHED-TTL:PT1H
BEGIN:VTIMEZONE
TZID:America/Puerto_Rico
BEGIN:STANDARD
TZOFFSETFROM:-0400
TZOFFSETTO:-0400
TZNAME:AST
DTSTART:20240101T000000
END:STANDARD
END:VTIMEZONE
BEGIN:VEVENT
DTSTART;TZID=America/Puerto_Rico:20251120T174000
DTEND;TZID=America/Puerto_Rico:20251120T184000
DTSTAMP:20260422T052927
CREATED:20250801T181521Z
LAST-MODIFIED:20250908T202641Z
UID:10003718-1763660400-1763664000@balletescenario.com
SUMMARY:Stretch and BE Strong
DESCRIPTION:
URL:https://balletescenario.com/event/stretch-and-be-strong-70/
LOCATION:Salón C – Ballet Escenario\, Calle Minerva #52\, Mayaguez\, 00680\, Puerto Rico
CATEGORIES:Stretch and BE Strong
END:VEVENT
BEGIN:VEVENT
DTSTART;TZID=America/Puerto_Rico:20251120T185000
DTEND;TZID=America/Puerto_Rico:20251120T195000
DTSTAMP:20260422T052927
CREATED:20250801T185742Z
LAST-MODIFIED:20250908T202743Z
UID:10003739-1763664600-1763668200@balletescenario.com
SUMMARY:Ballet II
DESCRIPTION:
URL:https://balletescenario.com/event/ballet-ii-33/
LOCATION:Salón A – Ballet Escenario\, 52 calle Minerva\, Mayaguez\, 00680\, Puerto Rico
CATEGORIES:Ballet
END:VEVENT
BEGIN:VEVENT
DTSTART;TZID=America/Puerto_Rico:20251120T193000
DTEND;TZID=America/Puerto_Rico:20251120T203000
DTSTAMP:20260422T052927
CREATED:20250801T200045Z
LAST-MODIFIED:20250908T203012Z
UID:10003778-1763667000-1763670600@balletescenario.com
SUMMARY:Fitness Bootcamp by Andrés Pagán
DESCRIPTION:Reserva tu espacio y paga en la recepción al llegar – Costo $15.00 x Clase (Por persona)
URL:https://balletescenario.com/event/fitness-bootcamp-by-andres-pagan-58/
LOCATION:Salon D – Ballet Escenario\, Calle Minerva #52\, Mayaguez\, 00680\, Puerto Rico
END:VEVENT
BEGIN:VEVENT
DTSTART;TZID=America/Puerto_Rico:20251121T160000
DTEND;TZID=America/Puerto_Rico:20251121T170000
DTSTAMP:20260422T052927
CREATED:20250803T233309Z
LAST-MODIFIED:20250908T203324Z
UID:10003849-1763740800-1763744400@balletescenario.com
SUMMARY:Ballet II
DESCRIPTION:
URL:https://balletescenario.com/event/ballet-ii-53/
LOCATION:Salón A – Ballet Escenario\, 52 calle Minerva\, Mayaguez\, 00680\, Puerto Rico
CATEGORIES:Ballet
END:VEVENT
BEGIN:VEVENT
DTSTART;TZID=America/Puerto_Rico:20251121T171000
DTEND;TZID=America/Puerto_Rico:20251121T181000
DTSTAMP:20260422T052927
CREATED:20250804T000800Z
LAST-MODIFIED:20250908T203433Z
UID:10003870-1763745000-1763748600@balletescenario.com
SUMMARY:Jr Ballet Nivel II
DESCRIPTION:
URL:https://balletescenario.com/event/jr-ballet-nivel-ii-27/
LOCATION:Salón A – Ballet Escenario\, 52 calle Minerva\, Mayaguez\, 00680\, Puerto Rico
CATEGORIES:Ballet
END:VEVENT
BEGIN:VEVENT
DTSTART;TZID=America/Puerto_Rico:20251121T171000
DTEND;TZID=America/Puerto_Rico:20251121T181000
DTSTAMP:20260422T052927
CREATED:20250804T030154Z
LAST-MODIFIED:20250908T203534Z
UID:10003889-1763745000-1763748600@balletescenario.com
SUMMARY:Stretch and BE Strong
DESCRIPTION:
URL:https://balletescenario.com/event/stretch-and-be-strong-92/
LOCATION:Salón C – Ballet Escenario\, Calle Minerva #52\, Mayaguez\, 00680\, Puerto Rico
CATEGORIES:Stretch and BE Strong
END:VEVENT
BEGIN:VEVENT
DTSTART;TZID=America/Puerto_Rico:20251121T182000
DTEND;TZID=America/Puerto_Rico:20251121T192000
DTSTAMP:20260422T052927
CREATED:20250804T034948Z
LAST-MODIFIED:20250908T203646Z
UID:10003928-1763749200-1763752800@balletescenario.com
SUMMARY:Urban Kids Viernes (5-10 años)
DESCRIPTION:
URL:https://balletescenario.com/event/urban-kids-viernes-5-10-anos-16/
LOCATION:Salón B – Ballet Escenario\, Calle Minerva #52\, Mayaguez\, 00680\, Puerto Rico
CATEGORIES:Urban Style
END:VEVENT
BEGIN:VEVENT
DTSTART;TZID=America/Puerto_Rico:20251121T182000
DTEND;TZID=America/Puerto_Rico:20251121T195000
DTSTAMP:20260422T052927
CREATED:20250804T032527Z
LAST-MODIFIED:20250908T203812Z
UID:10003909-1763749200-1763754600@balletescenario.com
SUMMARY:Ballet IV
DESCRIPTION:
URL:https://balletescenario.com/event/ballet-iv-58/
LOCATION:Salón A – Ballet Escenario\, 52 calle Minerva\, Mayaguez\, 00680\, Puerto Rico
CATEGORIES:Ballet
END:VEVENT
BEGIN:VEVENT
DTSTART;TZID=America/Puerto_Rico:20251122T100000
DTEND;TZID=America/Puerto_Rico:20251122T110000
DTSTAMP:20260422T052927
CREATED:20250804T044015Z
LAST-MODIFIED:20250908T203956Z
UID:10003948-1763805600-1763809200@balletescenario.com
SUMMARY:Jr. Ballet Sábado (7-10 años)
DESCRIPTION:
URL:https://balletescenario.com/event/jr-ballet-sabado-7-10-anos-28/
LOCATION:Salón A – Ballet Escenario\, 52 calle Minerva\, Mayaguez\, 00680\, Puerto Rico
CATEGORIES:Ballet
END:VEVENT
BEGIN:VEVENT
DTSTART;TZID=America/Puerto_Rico:20251122T100000
DTEND;TZID=America/Puerto_Rico:20251122T110000
DTSTAMP:20260422T052927
CREATED:20250804T052027Z
LAST-MODIFIED:20250908T204242Z
UID:10003987-1763805600-1763809200@balletescenario.com
SUMMARY:Pre Ballet Sábado (5-6 años)
DESCRIPTION:
URL:https://balletescenario.com/event/pre-ballet-sabado-5-6-anos-48/
LOCATION:Salón C – Ballet Escenario\, Calle Minerva #52\, Mayaguez\, 00680\, Puerto Rico
CATEGORIES:Ballet
END:VEVENT
BEGIN:VEVENT
DTSTART;TZID=America/Puerto_Rico:20251122T111000
DTEND;TZID=America/Puerto_Rico:20251122T121000
DTSTAMP:20260422T052927
CREATED:20250804T060433Z
LAST-MODIFIED:20250908T204601Z
UID:10004026-1763809800-1763813400@balletescenario.com
SUMMARY:Urban Kids Sábado (5-10 años)
DESCRIPTION:
URL:https://balletescenario.com/event/urban-kids-sabado-5-10-anos-28/
LOCATION:Salón B – Ballet Escenario\, Calle Minerva #52\, Mayaguez\, 00680\, Puerto Rico
CATEGORIES:Urban Style
END:VEVENT
BEGIN:VEVENT
DTSTART;TZID=America/Puerto_Rico:20251122T111000
DTEND;TZID=America/Puerto_Rico:20251122T121000
DTSTAMP:20260422T052927
CREATED:20250804T062603Z
LAST-MODIFIED:20250908T204710Z
UID:10004045-1763809800-1763813400@balletescenario.com
SUMMARY:Baby Ballet Sábado (3-4 años)
DESCRIPTION:
URL:https://balletescenario.com/event/baby-ballet-sabado-3-4-anos-28/
LOCATION:Salón C – Ballet Escenario\, Calle Minerva #52\, Mayaguez\, 00680\, Puerto Rico
CATEGORIES:Ballet
END:VEVENT
BEGIN:VEVENT
DTSTART;TZID=America/Puerto_Rico:20251122T122000
DTEND;TZID=America/Puerto_Rico:20251122T132000
DTSTAMP:20260422T052927
CREATED:20250804T063724Z
LAST-MODIFIED:20250908T204820Z
UID:10004064-1763814000-1763817600@balletescenario.com
SUMMARY:Puntas Variaciones
DESCRIPTION:
URL:https://balletescenario.com/event/puntas-variaciones-27/
LOCATION:Salón A – Ballet Escenario\, 52 calle Minerva\, Mayaguez\, 00680\, Puerto Rico
CATEGORIES:Ballet
END:VEVENT
BEGIN:VEVENT
DTSTART;TZID=America/Puerto_Rico:20251124T160000
DTEND;TZID=America/Puerto_Rico:20251124T170000
DTSTAMP:20260422T052927
CREATED:20250729T142411Z
LAST-MODIFIED:20250914T045311Z
UID:10003046-1764000000-1764003600@balletescenario.com
SUMMARY:Jr. Ballet - Lunes (7-10 años)
DESCRIPTION:
URL:https://balletescenario.com/event/jr-ballet-lunes-7-10-anos-28/
LOCATION:Salón A – Ballet Escenario\, 52 calle Minerva\, Mayaguez\, 00680\, Puerto Rico
CATEGORIES:Ballet
END:VEVENT
BEGIN:VEVENT
DTSTART;TZID=America/Puerto_Rico:20251124T160000
DTEND;TZID=America/Puerto_Rico:20251124T170000
DTSTAMP:20260422T052927
CREATED:20250729T150009Z
LAST-MODIFIED:20250914T045430Z
UID:10003065-1764000000-1764003600@balletescenario.com
SUMMARY:Salsa Kids Intermedio (5-12 años)
DESCRIPTION:
URL:https://balletescenario.com/event/salsa-kids-intermedio-5-12-anos-30/
LOCATION:Salón B – Ballet Escenario\, Calle Minerva #52\, Mayaguez\, 00680\, Puerto Rico
CATEGORIES:Salsa
END:VEVENT
BEGIN:VEVENT
DTSTART;TZID=America/Puerto_Rico:20251124T171000
DTEND;TZID=America/Puerto_Rico:20251124T181000
DTSTAMP:20260422T052927
CREATED:20250729T151918Z
LAST-MODIFIED:20250914T045555Z
UID:10003084-1764004200-1764007800@balletescenario.com
SUMMARY:Puntas - Nivel Intermedio
DESCRIPTION:
URL:https://balletescenario.com/event/puntas-nivel-intermedio-28/
LOCATION:Salón A – Ballet Escenario\, 52 calle Minerva\, Mayaguez\, 00680\, Puerto Rico
CATEGORIES:Ballet
END:VEVENT
BEGIN:VEVENT
DTSTART;TZID=America/Puerto_Rico:20251124T171000
DTEND;TZID=America/Puerto_Rico:20251124T181000
DTSTAMP:20260422T052927
CREATED:20250729T153601Z
LAST-MODIFIED:20250914T045721Z
UID:10003103-1764004200-1764007800@balletescenario.com
SUMMARY:Pre Ballet Lunes (5-6 años)
DESCRIPTION:
URL:https://balletescenario.com/event/pre-ballet-lunes-5-6-anos-28/
LOCATION:Salón B – Ballet Escenario\, Calle Minerva #52\, Mayaguez\, 00680\, Puerto Rico
CATEGORIES:Ballet
END:VEVENT
BEGIN:VEVENT
DTSTART;TZID=America/Puerto_Rico:20251124T171000
DTEND;TZID=America/Puerto_Rico:20251124T181000
DTSTAMP:20260422T052927
CREATED:20250729T160536Z
LAST-MODIFIED:20250914T045834Z
UID:10003122-1764004200-1764007800@balletescenario.com
SUMMARY:Baby Ballet Lunes (3-4 años)
DESCRIPTION:
URL:https://balletescenario.com/event/baby-ballet-lunes-3-4-anos-28/
LOCATION:Salón C – Ballet Escenario\, Calle Minerva #52\, Mayaguez\, 00680\, Puerto Rico
CATEGORIES:Ballet
END:VEVENT
BEGIN:VEVENT
DTSTART;TZID=America/Puerto_Rico:20251124T182000
DTEND;TZID=America/Puerto_Rico:20251124T192000
DTSTAMP:20260422T052927
CREATED:20250729T172034Z
LAST-MODIFIED:20250914T050206Z
UID:10003161-1764008400-1764012000@balletescenario.com
SUMMARY:Salsa Parejas Básico I - Rotando
DESCRIPTION:
URL:https://balletescenario.com/event/salsa-parejas-basico-i-rotando-29/
LOCATION:Salón B – Ballet Escenario\, Calle Minerva #52\, Mayaguez\, 00680\, Puerto Rico
CATEGORIES:Salsa
END:VEVENT
BEGIN:VEVENT
DTSTART;TZID=America/Puerto_Rico:20251124T182000
DTEND;TZID=America/Puerto_Rico:20251124T195000
DTSTAMP:20260422T052927
CREATED:20250729T165508Z
LAST-MODIFIED:20250914T045946Z
UID:10003141-1764008400-1764013800@balletescenario.com
SUMMARY:Ballet IV
DESCRIPTION:
URL:https://balletescenario.com/event/ballet-iv-35/
LOCATION:Salón A – Ballet Escenario\, 52 calle Minerva\, Mayaguez\, 00680\, Puerto Rico
CATEGORIES:Ballet
END:VEVENT
BEGIN:VEVENT
DTSTART;TZID=America/Puerto_Rico:20251124T193000
DTEND;TZID=America/Puerto_Rico:20251124T203000
DTSTAMP:20260422T052927
CREATED:20250729T175345Z
LAST-MODIFIED:20250914T050336Z
UID:10003181-1764012600-1764016200@balletescenario.com
SUMMARY:Salsa Pasos Libres Básico
DESCRIPTION:
URL:https://balletescenario.com/event/salsa-pasos-libres-basico-28/
LOCATION:Salón B – Ballet Escenario\, Calle Minerva #52\, Mayaguez\, 00680\, Puerto Rico
CATEGORIES:Salsa
END:VEVENT
BEGIN:VEVENT
DTSTART;TZID=America/Puerto_Rico:20251124T193000
DTEND;TZID=America/Puerto_Rico:20251124T203000
DTSTAMP:20260422T052927
CREATED:20250729T182029Z
LAST-MODIFIED:20250914T050455Z
UID:10003200-1764012600-1764016200@balletescenario.com
SUMMARY:Fitness Bootcamp by Andrés Pagán
DESCRIPTION:Reserva tu espacio y paga en la recepción al llegar – Costo $15.00 x Clase (Por persona)
URL:https://balletescenario.com/event/fitness-bootcamp-by-andres-pagan-39/
LOCATION:Salon D – Ballet Escenario\, Calle Minerva #52\, Mayaguez\, 00680\, Puerto Rico
END:VEVENT
BEGIN:VEVENT
DTSTART;TZID=America/Puerto_Rico:20251125T160000
DTEND;TZID=America/Puerto_Rico:20251125T173000
DTSTAMP:20260422T052927
CREATED:20250730T160356Z
LAST-MODIFIED:20250914T050712Z
UID:10003248-1764086400-1764091800@balletescenario.com
SUMMARY:Ballet III
DESCRIPTION:
URL:https://balletescenario.com/event/ballet-iii-29/
LOCATION:Salón A – Ballet Escenario\, 52 calle Minerva\, Mayaguez\, 00680\, Puerto Rico
CATEGORIES:Ballet
END:VEVENT
BEGIN:VEVENT
DTSTART;TZID=America/Puerto_Rico:20251125T163000
DTEND;TZID=America/Puerto_Rico:20251125T173000
DTSTAMP:20260422T052927
CREATED:20250730T164524Z
LAST-MODIFIED:20250914T050820Z
UID:10003269-1764088200-1764091800@balletescenario.com
SUMMARY:Salsa Kids Básico (5-12 años)
DESCRIPTION:
URL:https://balletescenario.com/event/salsa-kids-basico-5-12-anos-26/
LOCATION:Salón B – Ballet Escenario\, Calle Minerva #52\, Mayaguez\, 00680\, Puerto Rico
CATEGORIES:Salsa
END:VEVENT
BEGIN:VEVENT
DTSTART;TZID=America/Puerto_Rico:20251125T163000
DTEND;TZID=America/Puerto_Rico:20251125T173000
DTSTAMP:20260422T052927
CREATED:20250730T170151Z
LAST-MODIFIED:20250914T050932Z
UID:10003288-1764088200-1764091800@balletescenario.com
SUMMARY:Baby Ballet Martes (3-4 años)
DESCRIPTION:
URL:https://balletescenario.com/event/baby-ballet-martes-3-4-anos-28/
LOCATION:Salón C – Ballet Escenario\, Calle Minerva #52\, Mayaguez\, 00680\, Puerto Rico
CATEGORIES:Ballet
END:VEVENT
BEGIN:VEVENT
DTSTART;TZID=America/Puerto_Rico:20251125T174000
DTEND;TZID=America/Puerto_Rico:20251125T184000
DTSTAMP:20260422T052927
CREATED:20250730T173536Z
LAST-MODIFIED:20250914T051040Z
UID:10003307-1764092400-1764096000@balletescenario.com
SUMMARY:Pre Puntas
DESCRIPTION:
URL:https://balletescenario.com/event/pre-puntas-17/
LOCATION:Salón A – Ballet Escenario\, 52 calle Minerva\, Mayaguez\, 00680\, Puerto Rico
CATEGORIES:Ballet
END:VEVENT
BEGIN:VEVENT
DTSTART;TZID=America/Puerto_Rico:20251125T174000
DTEND;TZID=America/Puerto_Rico:20251125T184000
DTSTAMP:20260422T052927
CREATED:20250730T175226Z
LAST-MODIFIED:20250914T051211Z
UID:10003326-1764092400-1764096000@balletescenario.com
SUMMARY:Urban Style For Teens (11+)
DESCRIPTION:
URL:https://balletescenario.com/event/urban-style-for-teens-11-28/
LOCATION:Salón B – Ballet Escenario\, Calle Minerva #52\, Mayaguez\, 00680\, Puerto Rico
CATEGORIES:Urban Style
END:VEVENT
BEGIN:VEVENT
DTSTART;TZID=America/Puerto_Rico:20251125T174000
DTEND;TZID=America/Puerto_Rico:20251125T184000
DTSTAMP:20260422T052927
CREATED:20250730T181101Z
LAST-MODIFIED:20250914T051323Z
UID:10003345-1764092400-1764096000@balletescenario.com
SUMMARY:Stretch and BE Strong
DESCRIPTION:
URL:https://balletescenario.com/event/stretch-and-be-strong-44/
LOCATION:Salón C – Ballet Escenario\, Calle Minerva #52\, Mayaguez\, 00680\, Puerto Rico
CATEGORIES:Stretch and BE Strong
END:VEVENT
BEGIN:VEVENT
DTSTART;TZID=America/Puerto_Rico:20251125T185000
DTEND;TZID=America/Puerto_Rico:20251125T195000
DTSTAMP:20260422T052927
CREATED:20250730T182932Z
LAST-MODIFIED:20250914T051428Z
UID:10003364-1764096600-1764100200@balletescenario.com
SUMMARY:Ballet Adultos Ex-Bailarines
DESCRIPTION:
URL:https://balletescenario.com/event/ballet-adultos-ex-bailarines-32/
LOCATION:Salón A – Ballet Escenario\, 52 calle Minerva\, Mayaguez\, 00680\, Puerto Rico
CATEGORIES:Ballet
END:VEVENT
BEGIN:VEVENT
DTSTART;TZID=America/Puerto_Rico:20251125T185000
DTEND;TZID=America/Puerto_Rico:20251125T195000
DTSTAMP:20260422T052927
CREATED:20250730T185420Z
LAST-MODIFIED:20250914T051544Z
UID:10003383-1764096600-1764100200@balletescenario.com
SUMMARY:Ballet I (11-17 años)
DESCRIPTION:
URL:https://balletescenario.com/event/ballet-i-11-17-anos-29/
LOCATION:Salón C – Ballet Escenario\, Calle Minerva #52\, Mayaguez\, 00680\, Puerto Rico
CATEGORIES:Ballet
END:VEVENT
END:VCALENDAR