BEGIN:VCALENDAR
VERSION:2.0
PRODID:-//Ballet Escenario - ECPv6.15.20//NONSGML v1.0//EN
CALSCALE:GREGORIAN
METHOD:PUBLISH
X-WR-CALNAME:Ballet Escenario
X-ORIGINAL-URL:https://balletescenario.com
X-WR-CALDESC:Events for Ballet Escenario
REFRESH-INTERVAL;VALUE=DURATION:PT1H
X-Robots-Tag:noindex
X-PUBLISHED-TTL:PT1H
BEGIN:VTIMEZONE
TZID:America/Puerto_Rico
BEGIN:STANDARD
TZOFFSETFROM:-0400
TZOFFSETTO:-0400
TZNAME:AST
DTSTART:20240101T000000
END:STANDARD
END:VTIMEZONE
BEGIN:VEVENT
DTSTART;TZID=America/Puerto_Rico:20251202T174000
DTEND;TZID=America/Puerto_Rico:20251202T184000
DTSTAMP:20260422T130158
CREATED:20250730T181136Z
LAST-MODIFIED:20250917T223827Z
UID:10003346-1764697200-1764700800@balletescenario.com
SUMMARY:Stretch and BE Strong
DESCRIPTION:
URL:https://balletescenario.com/event/stretch-and-be-strong-45/
LOCATION:Salón C – Ballet Escenario\, Calle Minerva #52\, Mayaguez\, 00680\, Puerto Rico
CATEGORIES:Stretch and BE Strong
END:VEVENT
BEGIN:VEVENT
DTSTART;TZID=America/Puerto_Rico:20251202T185000
DTEND;TZID=America/Puerto_Rico:20251202T195000
DTSTAMP:20260422T130158
CREATED:20250730T183006Z
LAST-MODIFIED:20250917T223944Z
UID:10003365-1764701400-1764705000@balletescenario.com
SUMMARY:Ballet Adultos Ex-Bailarines
DESCRIPTION:
URL:https://balletescenario.com/event/ballet-adultos-ex-bailarines-33/
LOCATION:Salón A – Ballet Escenario\, 52 calle Minerva\, Mayaguez\, 00680\, Puerto Rico
CATEGORIES:Ballet
END:VEVENT
BEGIN:VEVENT
DTSTART;TZID=America/Puerto_Rico:20251202T185000
DTEND;TZID=America/Puerto_Rico:20251202T195000
DTSTAMP:20260422T130158
CREATED:20250730T185502Z
LAST-MODIFIED:20250917T224047Z
UID:10003384-1764701400-1764705000@balletescenario.com
SUMMARY:Ballet I (11-17 años)
DESCRIPTION:
URL:https://balletescenario.com/event/ballet-i-11-17-anos-30/
LOCATION:Salón C – Ballet Escenario\, Calle Minerva #52\, Mayaguez\, 00680\, Puerto Rico
CATEGORIES:Ballet
END:VEVENT
BEGIN:VEVENT
DTSTART;TZID=America/Puerto_Rico:20251203T160000
DTEND;TZID=America/Puerto_Rico:20251203T170000
DTSTAMP:20260422T130158
CREATED:20250801T001023Z
LAST-MODIFIED:20250917T224349Z
UID:10003437-1764777600-1764781200@balletescenario.com
SUMMARY:Acrobacia Continuación
DESCRIPTION:
URL:https://balletescenario.com/event/acrobacia-continuacion-32/
LOCATION:Salón A – Ballet Escenario\, 52 calle Minerva\, Mayaguez\, 00680\, Puerto Rico
CATEGORIES:Acrobacia
END:VEVENT
BEGIN:VEVENT
DTSTART;TZID=America/Puerto_Rico:20251203T171000
DTEND;TZID=America/Puerto_Rico:20251203T181000
DTSTAMP:20260422T130158
CREATED:20250801T012918Z
LAST-MODIFIED:20250917T224748Z
UID:10003496-1764781800-1764785400@balletescenario.com
SUMMARY:Pre Ballet Miércoles (5-6 años)
DESCRIPTION:
URL:https://balletescenario.com/event/pre-ballet-miercoles-5-6-anos-31/
LOCATION:Salón C – Ballet Escenario\, Calle Minerva #52\, Mayaguez\, 00680\, Puerto Rico
CATEGORIES:Ballet
END:VEVENT
BEGIN:VEVENT
DTSTART;TZID=America/Puerto_Rico:20251203T171000
DTEND;TZID=America/Puerto_Rico:20251203T184000
DTSTAMP:20260422T130158
CREATED:20250801T011558Z
LAST-MODIFIED:20250917T224629Z
UID:10003479-1764781800-1764787200@balletescenario.com
SUMMARY:Puntas Avanzado
DESCRIPTION:
URL:https://balletescenario.com/event/puntas-avanzado-34/
LOCATION:Salón A – Ballet Escenario\, 52 calle Minerva\, Mayaguez\, 00680\, Puerto Rico
CATEGORIES:Ballet
END:VEVENT
BEGIN:VEVENT
DTSTART;TZID=America/Puerto_Rico:20251203T182000
DTEND;TZID=America/Puerto_Rico:20251203T192000
DTSTAMP:20260422T130158
CREATED:20250801T045456Z
LAST-MODIFIED:20251105T214515Z
UID:10003575-1764786000-1764789600@balletescenario.com
SUMMARY:Salsa Parejas Básico II - Rotando
DESCRIPTION:NOTA: Para esta clase\, puede elegir entre dos opciones: \n– Estudiante Individual: Si asiste solo\, debe comprar un boleto de esta categoría. \n– Solo Para Parejas: Si asiste con una pareja o acompañante\, debe comprar dos boletos de esta categoría para un total a pagar de $15.00. \nImportante: Si compra boletos de la categoría “Solo Para Parejas” pero asiste solo\, se le cobrará la diferencia de precio antes de poder ingresar a la clase. \nPara más información\, comuníquese al 787-402-6350.
URL:https://balletescenario.com/event/salsa-parejas-basico-ii-rotando-31/
LOCATION:Salón B – Ballet Escenario\, Calle Minerva #52\, Mayaguez\, 00680\, Puerto Rico
CATEGORIES:Salsa
END:VEVENT
BEGIN:VEVENT
DTSTART;TZID=America/Puerto_Rico:20251203T185000
DTEND;TZID=America/Puerto_Rico:20251203T195000
DTSTAMP:20260422T130158
CREATED:20250801T035432Z
LAST-MODIFIED:20250917T225050Z
UID:10003535-1764787800-1764791400@balletescenario.com
SUMMARY:Ballet Adultos Principiantes
DESCRIPTION:
URL:https://balletescenario.com/event/ballet-adultos-principiantes-31/
LOCATION:Salón A – Ballet Escenario\, 52 calle Minerva\, Mayaguez\, 00680\, Puerto Rico
CATEGORIES:Ballet
END:VEVENT
BEGIN:VEVENT
DTSTART;TZID=America/Puerto_Rico:20251203T185000
DTEND;TZID=America/Puerto_Rico:20251203T195000
DTSTAMP:20260422T130158
CREATED:20250801T042206Z
LAST-MODIFIED:20250917T225229Z
UID:10003555-1764787800-1764791400@balletescenario.com
SUMMARY:Jr. Ballet Miércoles (7-10 años)
DESCRIPTION:
URL:https://balletescenario.com/event/jr-ballet-miercoles-7-10-anos-31/
LOCATION:Salón C – Ballet Escenario\, Calle Minerva #52\, Mayaguez\, 00680\, Puerto Rico
CATEGORIES:Ballet
END:VEVENT
BEGIN:VEVENT
DTSTART;TZID=America/Puerto_Rico:20251203T200000
DTEND;TZID=America/Puerto_Rico:20251203T210000
DTSTAMP:20260422T130158
CREATED:20250801T054712Z
LAST-MODIFIED:20250917T225741Z
UID:10003615-1764792000-1764795600@balletescenario.com
SUMMARY:Yoga
DESCRIPTION:
URL:https://balletescenario.com/event/yoga-40/
LOCATION:Salon D – Ballet Escenario\, Calle Minerva #52\, Mayaguez\, 00680\, Puerto Rico
CATEGORIES:Yoga
END:VEVENT
BEGIN:VEVENT
DTSTART;TZID=America/Puerto_Rico:20251204T160000
DTEND;TZID=America/Puerto_Rico:20251204T173000
DTSTAMP:20260422T130158
CREATED:20250801T164516Z
LAST-MODIFIED:20250917T225900Z
UID:10003643-1764864000-1764869400@balletescenario.com
SUMMARY:Ballet III
DESCRIPTION:
URL:https://balletescenario.com/event/ballet-iii-57/
LOCATION:Salón A – Ballet Escenario\, 52 calle Minerva\, Mayaguez\, 00680\, Puerto Rico
CATEGORIES:Ballet
END:VEVENT
BEGIN:VEVENT
DTSTART;TZID=America/Puerto_Rico:20251204T163000
DTEND;TZID=America/Puerto_Rico:20251204T173000
DTSTAMP:20260422T130158
CREATED:20250801T170345Z
LAST-MODIFIED:20250917T230032Z
UID:10003662-1764865800-1764869400@balletescenario.com
SUMMARY:Jazz Lírico Kids (7-12 años)
DESCRIPTION:
URL:https://balletescenario.com/event/jazz-lirico-kids-7-12-anos-24/
LOCATION:Salón B – Ballet Escenario\, Calle Minerva #52\, Mayaguez\, 00680\, Puerto Rico
CATEGORIES:Jazz Lírico
END:VEVENT
BEGIN:VEVENT
DTSTART;TZID=America/Puerto_Rico:20251204T174000
DTEND;TZID=America/Puerto_Rico:20251204T184000
DTSTAMP:20260422T130158
CREATED:20250801T175731Z
LAST-MODIFIED:20250917T230405Z
UID:10003701-1764870000-1764873600@balletescenario.com
SUMMARY:Salsa Kids Avanzado (5-12 años)
DESCRIPTION:
URL:https://balletescenario.com/event/salsa-kids-avanzado-5-12-anos-31/
LOCATION:Salón B – Ballet Escenario\, Calle Minerva #52\, Mayaguez\, 00680\, Puerto Rico
CATEGORIES:Salsa
END:VEVENT
BEGIN:VEVENT
DTSTART;TZID=America/Puerto_Rico:20251204T174000
DTEND;TZID=America/Puerto_Rico:20251204T184000
DTSTAMP:20260422T130158
CREATED:20250801T181636Z
LAST-MODIFIED:20250917T230537Z
UID:10003720-1764870000-1764873600@balletescenario.com
SUMMARY:Stretch and BE Strong
DESCRIPTION:
URL:https://balletescenario.com/event/stretch-and-be-strong-72/
LOCATION:Salón C – Ballet Escenario\, Calle Minerva #52\, Mayaguez\, 00680\, Puerto Rico
CATEGORIES:Stretch and BE Strong
END:VEVENT
BEGIN:VEVENT
DTSTART;TZID=America/Puerto_Rico:20251204T185000
DTEND;TZID=America/Puerto_Rico:20251204T195000
DTSTAMP:20260422T130158
CREATED:20250801T185914Z
LAST-MODIFIED:20250917T230711Z
UID:10003741-1764874200-1764877800@balletescenario.com
SUMMARY:Ballet II
DESCRIPTION:
URL:https://balletescenario.com/event/ballet-ii-35/
LOCATION:Salón A – Ballet Escenario\, 52 calle Minerva\, Mayaguez\, 00680\, Puerto Rico
CATEGORIES:Ballet
END:VEVENT
BEGIN:VEVENT
DTSTART;TZID=America/Puerto_Rico:20251204T185000
DTEND;TZID=America/Puerto_Rico:20251204T195000
DTSTAMP:20260422T130158
CREATED:20250801T193745Z
LAST-MODIFIED:20250917T230811Z
UID:10003760-1764874200-1764877800@balletescenario.com
SUMMARY:Salsa Pasos Libres Intermedio
DESCRIPTION:
URL:https://balletescenario.com/event/salsa-pasos-libres-intermedio-30/
LOCATION:Salón B – Ballet Escenario\, Calle Minerva #52\, Mayaguez\, 00680\, Puerto Rico
CATEGORIES:Salsa
END:VEVENT
BEGIN:VEVENT
DTSTART;TZID=America/Puerto_Rico:20251204T200000
DTEND;TZID=America/Puerto_Rico:20251204T210000
DTSTAMP:20260422T130158
CREATED:20250801T202249Z
LAST-MODIFIED:20250917T231055Z
UID:10003799-1764878400-1764882000@balletescenario.com
SUMMARY:Salsa Pasos Libres Avanzado
DESCRIPTION:
URL:https://balletescenario.com/event/salsa-pasos-libres-avanzado-30/
LOCATION:Salón A – Ballet Escenario\, 52 calle Minerva\, Mayaguez\, 00680\, Puerto Rico
CATEGORIES:Salsa
END:VEVENT
BEGIN:VEVENT
DTSTART;TZID=America/Puerto_Rico:20251205T160000
DTEND;TZID=America/Puerto_Rico:20251205T170000
DTSTAMP:20260422T130158
CREATED:20250803T233418Z
LAST-MODIFIED:20250917T231421Z
UID:10003851-1764950400-1764954000@balletescenario.com
SUMMARY:Ballet II
DESCRIPTION:
URL:https://balletescenario.com/event/ballet-ii-55/
LOCATION:Salón A – Ballet Escenario\, 52 calle Minerva\, Mayaguez\, 00680\, Puerto Rico
CATEGORIES:Ballet
END:VEVENT
BEGIN:VEVENT
DTSTART;TZID=America/Puerto_Rico:20251205T171000
DTEND;TZID=America/Puerto_Rico:20251205T181000
DTSTAMP:20260422T130158
CREATED:20250804T001031Z
LAST-MODIFIED:20250917T231642Z
UID:10003872-1764954600-1764958200@balletescenario.com
SUMMARY:Jr Ballet Nivel II
DESCRIPTION:
URL:https://balletescenario.com/event/jr-ballet-nivel-ii-29/
LOCATION:Salón A – Ballet Escenario\, 52 calle Minerva\, Mayaguez\, 00680\, Puerto Rico
CATEGORIES:Ballet
END:VEVENT
BEGIN:VEVENT
DTSTART;TZID=America/Puerto_Rico:20251205T171000
DTEND;TZID=America/Puerto_Rico:20251205T181000
DTSTAMP:20260422T130158
CREATED:20250804T030310Z
LAST-MODIFIED:20250917T231749Z
UID:10003891-1764954600-1764958200@balletescenario.com
SUMMARY:Stretch and BE Strong
DESCRIPTION:
URL:https://balletescenario.com/event/stretch-and-be-strong-94/
LOCATION:Salón C – Ballet Escenario\, Calle Minerva #52\, Mayaguez\, 00680\, Puerto Rico
CATEGORIES:Stretch and BE Strong
END:VEVENT
BEGIN:VEVENT
DTSTART;TZID=America/Puerto_Rico:20251205T182000
DTEND;TZID=America/Puerto_Rico:20251205T192000
DTSTAMP:20260422T130158
CREATED:20250804T035110Z
LAST-MODIFIED:20250917T232023Z
UID:10003930-1764958800-1764962400@balletescenario.com
SUMMARY:Urban Kids Viernes (5-10 años)
DESCRIPTION:
URL:https://balletescenario.com/event/urban-kids-viernes-5-10-anos-18/
LOCATION:Salón B – Ballet Escenario\, Calle Minerva #52\, Mayaguez\, 00680\, Puerto Rico
CATEGORIES:Urban Style
END:VEVENT
BEGIN:VEVENT
DTSTART;TZID=America/Puerto_Rico:20251205T182000
DTEND;TZID=America/Puerto_Rico:20251205T195000
DTSTAMP:20260422T130158
CREATED:20250804T032649Z
LAST-MODIFIED:20250917T231918Z
UID:10003911-1764958800-1764964200@balletescenario.com
SUMMARY:Ballet IV
DESCRIPTION:
URL:https://balletescenario.com/event/ballet-iv-60/
LOCATION:Salón A – Ballet Escenario\, 52 calle Minerva\, Mayaguez\, 00680\, Puerto Rico
CATEGORIES:Ballet
END:VEVENT
BEGIN:VEVENT
DTSTART;TZID=America/Puerto_Rico:20251206T100000
DTEND;TZID=America/Puerto_Rico:20251206T110000
DTSTAMP:20260422T130158
CREATED:20250804T044122Z
LAST-MODIFIED:20250917T232228Z
UID:10003950-1765015200-1765018800@balletescenario.com
SUMMARY:Jr. Ballet Sábado (7-10 años)
DESCRIPTION:
URL:https://balletescenario.com/event/jr-ballet-sabado-7-10-anos-30/
LOCATION:Salón A – Ballet Escenario\, 52 calle Minerva\, Mayaguez\, 00680\, Puerto Rico
CATEGORIES:Ballet
END:VEVENT
BEGIN:VEVENT
DTSTART;TZID=America/Puerto_Rico:20251206T100000
DTEND;TZID=America/Puerto_Rico:20251206T110000
DTSTAMP:20260422T130158
CREATED:20250804T052136Z
LAST-MODIFIED:20250917T232451Z
UID:10003989-1765015200-1765018800@balletescenario.com
SUMMARY:Pre Ballet Sábado (5-6 años)
DESCRIPTION:
URL:https://balletescenario.com/event/pre-ballet-sabado-5-6-anos-50/
LOCATION:Salón C – Ballet Escenario\, Calle Minerva #52\, Mayaguez\, 00680\, Puerto Rico
CATEGORIES:Ballet
END:VEVENT
BEGIN:VEVENT
DTSTART;TZID=America/Puerto_Rico:20251206T111000
DTEND;TZID=America/Puerto_Rico:20251206T121000
DTSTAMP:20260422T130158
CREATED:20250804T060541Z
LAST-MODIFIED:20250917T232715Z
UID:10004028-1765019400-1765023000@balletescenario.com
SUMMARY:Urban Kids Sábado (5-10 años)
DESCRIPTION:
URL:https://balletescenario.com/event/urban-kids-sabado-5-10-anos-30/
LOCATION:Salón B – Ballet Escenario\, Calle Minerva #52\, Mayaguez\, 00680\, Puerto Rico
CATEGORIES:Urban Style
END:VEVENT
BEGIN:VEVENT
DTSTART;TZID=America/Puerto_Rico:20251206T111000
DTEND;TZID=America/Puerto_Rico:20251206T121000
DTSTAMP:20260422T130158
CREATED:20250804T062709Z
LAST-MODIFIED:20250917T232820Z
UID:10004047-1765019400-1765023000@balletescenario.com
SUMMARY:Baby Ballet Sábado (3-4 años)
DESCRIPTION:
URL:https://balletescenario.com/event/baby-ballet-sabado-3-4-anos-30/
LOCATION:Salón C – Ballet Escenario\, Calle Minerva #52\, Mayaguez\, 00680\, Puerto Rico
CATEGORIES:Ballet
END:VEVENT
BEGIN:VEVENT
DTSTART;TZID=America/Puerto_Rico:20251206T122000
DTEND;TZID=America/Puerto_Rico:20251206T132000
DTSTAMP:20260422T130158
CREATED:20250804T063828Z
LAST-MODIFIED:20250917T232944Z
UID:10004066-1765023600-1765027200@balletescenario.com
SUMMARY:Puntas Variaciones
DESCRIPTION:
URL:https://balletescenario.com/event/puntas-variaciones-29/
LOCATION:Salón A – Ballet Escenario\, 52 calle Minerva\, Mayaguez\, 00680\, Puerto Rico
CATEGORIES:Ballet
END:VEVENT
BEGIN:VEVENT
DTSTART;TZID=America/Puerto_Rico:20251208T160000
DTEND;TZID=America/Puerto_Rico:20251208T170000
DTSTAMP:20260422T130158
CREATED:20250729T142538Z
LAST-MODIFIED:20250918T035724Z
UID:10003048-1765209600-1765213200@balletescenario.com
SUMMARY:Jr. Ballet - Lunes (7-10 años)
DESCRIPTION:
URL:https://balletescenario.com/event/jr-ballet-lunes-7-10-anos-30/
LOCATION:Salón A – Ballet Escenario\, 52 calle Minerva\, Mayaguez\, 00680\, Puerto Rico
CATEGORIES:Ballet
END:VEVENT
BEGIN:VEVENT
DTSTART;TZID=America/Puerto_Rico:20251208T160000
DTEND;TZID=America/Puerto_Rico:20251208T170000
DTSTAMP:20260422T130158
CREATED:20250729T150132Z
LAST-MODIFIED:20250918T035835Z
UID:10003067-1765209600-1765213200@balletescenario.com
SUMMARY:Salsa Kids Intermedio (5-12 años)
DESCRIPTION:
URL:https://balletescenario.com/event/salsa-kids-intermedio-5-12-anos-32/
LOCATION:Salón B – Ballet Escenario\, Calle Minerva #52\, Mayaguez\, 00680\, Puerto Rico
CATEGORIES:Salsa
END:VEVENT
BEGIN:VEVENT
DTSTART;TZID=America/Puerto_Rico:20251208T171000
DTEND;TZID=America/Puerto_Rico:20251208T181000
DTSTAMP:20260422T130158
CREATED:20250729T152037Z
LAST-MODIFIED:20250918T035938Z
UID:10003086-1765213800-1765217400@balletescenario.com
SUMMARY:Puntas - Nivel Intermedio
DESCRIPTION:
URL:https://balletescenario.com/event/puntas-nivel-intermedio-30/
LOCATION:Salón A – Ballet Escenario\, 52 calle Minerva\, Mayaguez\, 00680\, Puerto Rico
CATEGORIES:Ballet
END:VEVENT
END:VCALENDAR