BEGIN:VCALENDAR
VERSION:2.0
PRODID:-//Ballet Escenario - ECPv6.15.20//NONSGML v1.0//EN
CALSCALE:GREGORIAN
METHOD:PUBLISH
X-WR-CALNAME:Ballet Escenario
X-ORIGINAL-URL:https://balletescenario.com
X-WR-CALDESC:Events for Ballet Escenario
REFRESH-INTERVAL;VALUE=DURATION:PT1H
X-Robots-Tag:noindex
X-PUBLISHED-TTL:PT1H
BEGIN:VTIMEZONE
TZID:America/Puerto_Rico
BEGIN:STANDARD
TZOFFSETFROM:-0400
TZOFFSETTO:-0400
TZNAME:AST
DTSTART:20240101T000000
END:STANDARD
END:VTIMEZONE
BEGIN:VEVENT
DTSTART;TZID=America/Puerto_Rico:20251022T185000
DTEND;TZID=America/Puerto_Rico:20251022T195000
DTSTAMP:20260420T000620
CREATED:20250801T034909Z
LAST-MODIFIED:20250825T195335Z
UID:10003529-1761159000-1761162600@balletescenario.com
SUMMARY:Ballet Adultos Principiantes
DESCRIPTION:
URL:https://balletescenario.com/event/ballet-adultos-principiantes-25/
LOCATION:Salón A – Ballet Escenario\, 52 calle Minerva\, Mayaguez\, 00680\, Puerto Rico
CATEGORIES:Ballet
END:VEVENT
BEGIN:VEVENT
DTSTART;TZID=America/Puerto_Rico:20251022T185000
DTEND;TZID=America/Puerto_Rico:20251022T195000
DTSTAMP:20260420T000620
CREATED:20250801T041809Z
LAST-MODIFIED:20250825T195458Z
UID:10003549-1761159000-1761162600@balletescenario.com
SUMMARY:Jr. Ballet Miércoles (7-10 años)
DESCRIPTION:
URL:https://balletescenario.com/event/jr-ballet-miercoles-7-10-anos-25/
LOCATION:Salón C – Ballet Escenario\, Calle Minerva #52\, Mayaguez\, 00680\, Puerto Rico
CATEGORIES:Ballet
END:VEVENT
BEGIN:VEVENT
DTSTART;TZID=America/Puerto_Rico:20251022T193000
DTEND;TZID=America/Puerto_Rico:20251022T203000
DTSTAMP:20260420T000620
CREATED:20250801T045033Z
LAST-MODIFIED:20250814T012755Z
UID:10003569-1761161400-1761165000@balletescenario.com
SUMMARY:Salsa Parejas Básico II - Rotando
DESCRIPTION:NOTA: Para esta clase\, puede elegir entre dos opciones: \n– Estudiante Individual: Si asiste solo\, debe comprar un boleto de esta categoría. \n– Solo Para Parejas: Si asiste con una pareja o acompañante\, debe comprar dos boletos de esta categoría para un total a pagar de $15.00. \nImportante: Si compra boletos de la categoría “Solo Para Parejas” pero asiste solo\, se le cobrará la diferencia de precio antes de poder ingresar a la clase. \nPara más información\, comuníquese al 787-402-6350.
URL:https://balletescenario.com/event/salsa-parejas-basico-ii-rotando-25/
LOCATION:Salón B – Ballet Escenario\, Calle Minerva #52\, Mayaguez\, 00680\, Puerto Rico
CATEGORIES:Salsa
END:VEVENT
BEGIN:VEVENT
DTSTART;TZID=America/Puerto_Rico:20251022T200000
DTEND;TZID=America/Puerto_Rico:20251022T210000
DTSTAMP:20260420T000620
CREATED:20250801T050858Z
LAST-MODIFIED:20250825T195639Z
UID:10003588-1761163200-1761166800@balletescenario.com
SUMMARY:Salsa Parejas Intermedio - On2
DESCRIPTION:Nota Aclaratoria para la Compra de Boletos \nEstimados estudiantes\, \nQueremos informarles sobre la política de precios para nuestra próxima clase. Los boletos pueden ser adquiridos de forma individual o en pareja\, según la siguiente estructura de precios: \n\nBoleto individual: $10.00 por persona.\nBoleto para pareja: Si asisten con un acompañante y adquieren dos boletos\, cada uno tendrá un costo reducido de $7.50\, para un total de $15.00.\n\nEste descuento se aplicará automáticamente al agregar dos boletos a su carrito de compra\, y será reflejado en el proceso de checkout. \nGracias por su atención\, y esperamos verlos en la clase. \nPara más información\, comuníquese al 787-402-6350.
URL:https://balletescenario.com/event/salsa-parejas-intermedio-on2-26/
LOCATION:Salón A – Ballet Escenario\, 52 calle Minerva\, Mayaguez\, 00680\, Puerto Rico
CATEGORIES:Salsa
END:VEVENT
BEGIN:VEVENT
DTSTART;TZID=America/Puerto_Rico:20251022T200000
DTEND;TZID=America/Puerto_Rico:20251022T210000
DTSTAMP:20260420T000620
CREATED:20250801T054343Z
LAST-MODIFIED:20250825T195741Z
UID:10003609-1761163200-1761166800@balletescenario.com
SUMMARY:Yoga
DESCRIPTION:
URL:https://balletescenario.com/event/yoga-34/
LOCATION:Salon D – Ballet Escenario\, Calle Minerva #52\, Mayaguez\, 00680\, Puerto Rico
CATEGORIES:Yoga
END:VEVENT
BEGIN:VEVENT
DTSTART;TZID=America/Puerto_Rico:20251023T160000
DTEND;TZID=America/Puerto_Rico:20251023T173000
DTSTAMP:20260420T000620
CREATED:20250801T163745Z
LAST-MODIFIED:20250825T195855Z
UID:10003637-1761235200-1761240600@balletescenario.com
SUMMARY:Ballet III
DESCRIPTION:
URL:https://balletescenario.com/event/ballet-iii-51/
LOCATION:Salón A – Ballet Escenario\, 52 calle Minerva\, Mayaguez\, 00680\, Puerto Rico
CATEGORIES:Ballet
END:VEVENT
BEGIN:VEVENT
DTSTART;TZID=America/Puerto_Rico:20251023T163000
DTEND;TZID=America/Puerto_Rico:20251023T173000
DTSTAMP:20260420T000620
CREATED:20250801T165949Z
LAST-MODIFIED:20250825T200027Z
UID:10003656-1761237000-1761240600@balletescenario.com
SUMMARY:Jazz Lírico Kids (7-12 años)
DESCRIPTION:
URL:https://balletescenario.com/event/jazz-lirico-kids-7-12-anos-15/
LOCATION:Salón B – Ballet Escenario\, Calle Minerva #52\, Mayaguez\, 00680\, Puerto Rico
CATEGORIES:Jazz Lírico
END:VEVENT
BEGIN:VEVENT
DTSTART;TZID=America/Puerto_Rico:20251023T174000
DTEND;TZID=America/Puerto_Rico:20251023T184000
DTSTAMP:20260420T000620
CREATED:20250801T173612Z
LAST-MODIFIED:20250825T200240Z
UID:10003676-1761241200-1761244800@balletescenario.com
SUMMARY:Principios de Acrobacia (7 años+)
DESCRIPTION:
URL:https://balletescenario.com/event/principios-de-acrobacia-7-anos-27/
LOCATION:Salón A – Ballet Escenario\, 52 calle Minerva\, Mayaguez\, 00680\, Puerto Rico
CATEGORIES:Acrobacia
END:VEVENT
BEGIN:VEVENT
DTSTART;TZID=America/Puerto_Rico:20251023T174000
DTEND;TZID=America/Puerto_Rico:20251023T184000
DTSTAMP:20260420T000620
CREATED:20250801T175355Z
LAST-MODIFIED:20250825T200436Z
UID:10003695-1761241200-1761244800@balletescenario.com
SUMMARY:Salsa Kids Avanzado (5-12 años)
DESCRIPTION:
URL:https://balletescenario.com/event/salsa-kids-avanzado-5-12-anos-25/
LOCATION:Salón B – Ballet Escenario\, Calle Minerva #52\, Mayaguez\, 00680\, Puerto Rico
CATEGORIES:Salsa
END:VEVENT
BEGIN:VEVENT
DTSTART;TZID=America/Puerto_Rico:20251023T174000
DTEND;TZID=America/Puerto_Rico:20251023T184000
DTSTAMP:20260420T000620
CREATED:20250801T181249Z
LAST-MODIFIED:20250825T200545Z
UID:10003714-1761241200-1761244800@balletescenario.com
SUMMARY:Stretch and BE Strong
DESCRIPTION:
URL:https://balletescenario.com/event/stretch-and-be-strong-66/
LOCATION:Salón C – Ballet Escenario\, Calle Minerva #52\, Mayaguez\, 00680\, Puerto Rico
CATEGORIES:Stretch and BE Strong
END:VEVENT
BEGIN:VEVENT
DTSTART;TZID=America/Puerto_Rico:20251023T185000
DTEND;TZID=America/Puerto_Rico:20251023T195000
DTSTAMP:20260420T000620
CREATED:20250801T185511Z
LAST-MODIFIED:20250825T200716Z
UID:10003735-1761245400-1761249000@balletescenario.com
SUMMARY:Ballet II
DESCRIPTION:
URL:https://balletescenario.com/event/ballet-ii-29/
LOCATION:Salón A – Ballet Escenario\, 52 calle Minerva\, Mayaguez\, 00680\, Puerto Rico
CATEGORIES:Ballet
END:VEVENT
BEGIN:VEVENT
DTSTART;TZID=America/Puerto_Rico:20251023T185000
DTEND;TZID=America/Puerto_Rico:20251023T195000
DTSTAMP:20260420T000620
CREATED:20250801T193217Z
LAST-MODIFIED:20250825T200831Z
UID:10003754-1761245400-1761249000@balletescenario.com
SUMMARY:Salsa Pasos Libres Intermedio
DESCRIPTION:
URL:https://balletescenario.com/event/salsa-pasos-libres-intermedio-24/
LOCATION:Salón B – Ballet Escenario\, Calle Minerva #52\, Mayaguez\, 00680\, Puerto Rico
CATEGORIES:Salsa
END:VEVENT
BEGIN:VEVENT
DTSTART;TZID=America/Puerto_Rico:20251023T200000
DTEND;TZID=America/Puerto_Rico:20251023T210000
DTSTAMP:20260420T000620
CREATED:20250801T201839Z
LAST-MODIFIED:20250825T201148Z
UID:10003793-1761249600-1761253200@balletescenario.com
SUMMARY:Salsa Pasos Libres Avanzado
DESCRIPTION:
URL:https://balletescenario.com/event/salsa-pasos-libres-avanzado-24/
LOCATION:Salón A – Ballet Escenario\, 52 calle Minerva\, Mayaguez\, 00680\, Puerto Rico
CATEGORIES:Salsa
END:VEVENT
BEGIN:VEVENT
DTSTART;TZID=America/Puerto_Rico:20251024T160000
DTEND;TZID=America/Puerto_Rico:20251024T170000
DTSTAMP:20260420T000620
CREATED:20250803T233032Z
LAST-MODIFIED:20250825T201626Z
UID:10003845-1761321600-1761325200@balletescenario.com
SUMMARY:Ballet II
DESCRIPTION:
URL:https://balletescenario.com/event/ballet-ii-49/
LOCATION:Salón A – Ballet Escenario\, 52 calle Minerva\, Mayaguez\, 00680\, Puerto Rico
CATEGORIES:Ballet
END:VEVENT
BEGIN:VEVENT
DTSTART;TZID=America/Puerto_Rico:20251024T171000
DTEND;TZID=America/Puerto_Rico:20251024T181000
DTSTAMP:20260420T000620
CREATED:20250803T235924Z
LAST-MODIFIED:20250825T202258Z
UID:10003866-1761325800-1761329400@balletescenario.com
SUMMARY:Jr Ballet Nivel II
DESCRIPTION:
URL:https://balletescenario.com/event/jr-ballet-nivel-ii-23/
LOCATION:Salón A – Ballet Escenario\, 52 calle Minerva\, Mayaguez\, 00680\, Puerto Rico
CATEGORIES:Ballet
END:VEVENT
BEGIN:VEVENT
DTSTART;TZID=America/Puerto_Rico:20251024T171000
DTEND;TZID=America/Puerto_Rico:20251024T181000
DTSTAMP:20260420T000620
CREATED:20250804T025924Z
LAST-MODIFIED:20250825T202358Z
UID:10003885-1761325800-1761329400@balletescenario.com
SUMMARY:Stretch and BE Strong
DESCRIPTION:
URL:https://balletescenario.com/event/stretch-and-be-strong-88/
LOCATION:Salón C – Ballet Escenario\, Calle Minerva #52\, Mayaguez\, 00680\, Puerto Rico
CATEGORIES:Stretch and BE Strong
END:VEVENT
BEGIN:VEVENT
DTSTART;TZID=America/Puerto_Rico:20251024T182000
DTEND;TZID=America/Puerto_Rico:20251024T192000
DTSTAMP:20260420T000620
CREATED:20250804T040208Z
LAST-MODIFIED:20250825T202610Z
UID:10003933-1761330000-1761333600@balletescenario.com
SUMMARY:Urban Kids Viernes (5-10 años)
DESCRIPTION:
URL:https://balletescenario.com/event/urban-kids-viernes-5-10-anos-21/
LOCATION:Salón B – Ballet Escenario\, Calle Minerva #52\, Mayaguez\, 00680\, Puerto Rico
CATEGORIES:Urban Style
END:VEVENT
BEGIN:VEVENT
DTSTART;TZID=America/Puerto_Rico:20251024T182000
DTEND;TZID=America/Puerto_Rico:20251024T195000
DTSTAMP:20260420T000620
CREATED:20250804T032208Z
LAST-MODIFIED:20250825T202501Z
UID:10003905-1761330000-1761335400@balletescenario.com
SUMMARY:Ballet IV
DESCRIPTION:
URL:https://balletescenario.com/event/ballet-iv-54/
LOCATION:Salón A – Ballet Escenario\, 52 calle Minerva\, Mayaguez\, 00680\, Puerto Rico
CATEGORIES:Ballet
END:VEVENT
BEGIN:VEVENT
DTSTART;TZID=America/Puerto_Rico:20251025T100000
DTEND;TZID=America/Puerto_Rico:20251025T110000
DTSTAMP:20260420T000620
CREATED:20250804T043753Z
LAST-MODIFIED:20250825T202724Z
UID:10003944-1761386400-1761390000@balletescenario.com
SUMMARY:Jr. Ballet Sábado (7-10 años)
DESCRIPTION:
URL:https://balletescenario.com/event/jr-ballet-sabado-7-10-anos-24/
LOCATION:Salón A – Ballet Escenario\, 52 calle Minerva\, Mayaguez\, 00680\, Puerto Rico
CATEGORIES:Ballet
END:VEVENT
BEGIN:VEVENT
DTSTART;TZID=America/Puerto_Rico:20251025T100000
DTEND;TZID=America/Puerto_Rico:20251025T110000
DTSTAMP:20260420T000620
CREATED:20250804T045743Z
LAST-MODIFIED:20250825T202834Z
UID:10003963-1761386400-1761390000@balletescenario.com
SUMMARY:Yoga
DESCRIPTION:
URL:https://balletescenario.com/event/yoga-54/
LOCATION:Salon D – Ballet Escenario\, Calle Minerva #52\, Mayaguez\, 00680\, Puerto Rico
CATEGORIES:Yoga
END:VEVENT
BEGIN:VEVENT
DTSTART;TZID=America/Puerto_Rico:20251025T100000
DTEND;TZID=America/Puerto_Rico:20251025T110000
DTSTAMP:20260420T000620
CREATED:20250804T051812Z
LAST-MODIFIED:20250825T202953Z
UID:10003983-1761386400-1761390000@balletescenario.com
SUMMARY:Pre Ballet Sábado (5-6 años)
DESCRIPTION:
URL:https://balletescenario.com/event/pre-ballet-sabado-5-6-anos-44/
LOCATION:Salón C – Ballet Escenario\, Calle Minerva #52\, Mayaguez\, 00680\, Puerto Rico
CATEGORIES:Ballet
END:VEVENT
BEGIN:VEVENT
DTSTART;TZID=America/Puerto_Rico:20251025T111000
DTEND;TZID=America/Puerto_Rico:20251025T121000
DTSTAMP:20260420T000620
CREATED:20250804T053555Z
LAST-MODIFIED:20250825T203100Z
UID:10004002-1761390600-1761394200@balletescenario.com
SUMMARY:Ballet V
DESCRIPTION:
URL:https://balletescenario.com/event/ballet-v-17/
LOCATION:Salón A – Ballet Escenario\, 52 calle Minerva\, Mayaguez\, 00680\, Puerto Rico
CATEGORIES:Ballet
END:VEVENT
BEGIN:VEVENT
DTSTART;TZID=America/Puerto_Rico:20251025T111000
DTEND;TZID=America/Puerto_Rico:20251025T121000
DTSTAMP:20260420T000620
CREATED:20250804T060113Z
LAST-MODIFIED:20250825T203211Z
UID:10004022-1761390600-1761394200@balletescenario.com
SUMMARY:Urban Kids Sábado (5-10 años)
DESCRIPTION:
URL:https://balletescenario.com/event/urban-kids-sabado-5-10-anos-24/
LOCATION:Salón B – Ballet Escenario\, Calle Minerva #52\, Mayaguez\, 00680\, Puerto Rico
CATEGORIES:Urban Style
END:VEVENT
BEGIN:VEVENT
DTSTART;TZID=America/Puerto_Rico:20251025T111000
DTEND;TZID=America/Puerto_Rico:20251025T121000
DTSTAMP:20260420T000620
CREATED:20250804T065452Z
LAST-MODIFIED:20250825T203319Z
UID:10004069-1761390600-1761394200@balletescenario.com
SUMMARY:Baby Ballet Sábado (3-4 años)
DESCRIPTION:
URL:https://balletescenario.com/event/baby-ballet-sabado-3-4-anos-33/
LOCATION:Salón C – Ballet Escenario\, Calle Minerva #52\, Mayaguez\, 00680\, Puerto Rico
CATEGORIES:Ballet
END:VEVENT
BEGIN:VEVENT
DTSTART;TZID=America/Puerto_Rico:20251025T122000
DTEND;TZID=America/Puerto_Rico:20251025T132000
DTSTAMP:20260420T000620
CREATED:20250804T063503Z
LAST-MODIFIED:20250825T203431Z
UID:10004060-1761394800-1761398400@balletescenario.com
SUMMARY:Puntas Variaciones
DESCRIPTION:
URL:https://balletescenario.com/event/puntas-variaciones-23/
LOCATION:Salón A – Ballet Escenario\, 52 calle Minerva\, Mayaguez\, 00680\, Puerto Rico
CATEGORIES:Ballet
END:VEVENT
BEGIN:VEVENT
DTSTART;TZID=America/Puerto_Rico:20251027T160000
DTEND;TZID=America/Puerto_Rico:20251027T170000
DTSTAMP:20260420T000620
CREATED:20250729T142125Z
LAST-MODIFIED:20250828T044956Z
UID:10003042-1761580800-1761584400@balletescenario.com
SUMMARY:Jr. Ballet - Lunes (7-10 años)
DESCRIPTION:
URL:https://balletescenario.com/event/jr-ballet-lunes-7-10-anos-24/
LOCATION:Salón A – Ballet Escenario\, 52 calle Minerva\, Mayaguez\, 00680\, Puerto Rico
CATEGORIES:Ballet
END:VEVENT
BEGIN:VEVENT
DTSTART;TZID=America/Puerto_Rico:20251027T160000
DTEND;TZID=America/Puerto_Rico:20251027T170000
DTSTAMP:20260420T000620
CREATED:20250729T145731Z
LAST-MODIFIED:20250828T045139Z
UID:10003061-1761580800-1761584400@balletescenario.com
SUMMARY:Salsa Kids Intermedio (5-12 años)
DESCRIPTION:
URL:https://balletescenario.com/event/salsa-kids-intermedio-5-12-anos-26/
LOCATION:Salón B – Ballet Escenario\, Calle Minerva #52\, Mayaguez\, 00680\, Puerto Rico
CATEGORIES:Salsa
END:VEVENT
BEGIN:VEVENT
DTSTART;TZID=America/Puerto_Rico:20251027T171000
DTEND;TZID=America/Puerto_Rico:20251027T181000
DTSTAMP:20260420T000620
CREATED:20250729T151648Z
LAST-MODIFIED:20250828T045251Z
UID:10003080-1761585000-1761588600@balletescenario.com
SUMMARY:Puntas - Nivel Intermedio
DESCRIPTION:
URL:https://balletescenario.com/event/puntas-nivel-intermedio-24/
LOCATION:Salón A – Ballet Escenario\, 52 calle Minerva\, Mayaguez\, 00680\, Puerto Rico
CATEGORIES:Ballet
END:VEVENT
BEGIN:VEVENT
DTSTART;TZID=America/Puerto_Rico:20251027T171000
DTEND;TZID=America/Puerto_Rico:20251027T181000
DTSTAMP:20260420T000620
CREATED:20250729T153331Z
LAST-MODIFIED:20250828T045417Z
UID:10003099-1761585000-1761588600@balletescenario.com
SUMMARY:Pre Ballet Lunes (5-6 años)
DESCRIPTION:
URL:https://balletescenario.com/event/pre-ballet-lunes-5-6-anos-24/
LOCATION:Salón B – Ballet Escenario\, Calle Minerva #52\, Mayaguez\, 00680\, Puerto Rico
CATEGORIES:Ballet
END:VEVENT
BEGIN:VEVENT
DTSTART;TZID=America/Puerto_Rico:20251027T171000
DTEND;TZID=America/Puerto_Rico:20251027T181000
DTSTAMP:20260420T000620
CREATED:20250729T160253Z
LAST-MODIFIED:20250828T045554Z
UID:10003118-1761585000-1761588600@balletescenario.com
SUMMARY:Baby Ballet Lunes (3-4 años)
DESCRIPTION:
URL:https://balletescenario.com/event/baby-ballet-lunes-3-4-anos-24/
LOCATION:Salón C – Ballet Escenario\, Calle Minerva #52\, Mayaguez\, 00680\, Puerto Rico
CATEGORIES:Ballet
END:VEVENT
END:VCALENDAR