BEGIN:VCALENDAR
VERSION:2.0
PRODID:-//Ballet Escenario - ECPv6.15.20//NONSGML v1.0//EN
CALSCALE:GREGORIAN
METHOD:PUBLISH
X-WR-CALNAME:Ballet Escenario
X-ORIGINAL-URL:https://balletescenario.com
X-WR-CALDESC:Events for Ballet Escenario
REFRESH-INTERVAL;VALUE=DURATION:PT1H
X-Robots-Tag:noindex
X-PUBLISHED-TTL:PT1H
BEGIN:VTIMEZONE
TZID:America/Puerto_Rico
BEGIN:STANDARD
TZOFFSETFROM:-0400
TZOFFSETTO:-0400
TZNAME:AST
DTSTART:20240101T000000
END:STANDARD
END:VTIMEZONE
BEGIN:VEVENT
DTSTART;TZID=America/Puerto_Rico:20251025T122000
DTEND;TZID=America/Puerto_Rico:20251025T132000
DTSTAMP:20260420T000644
CREATED:20250804T063503Z
LAST-MODIFIED:20250825T203431Z
UID:10004060-1761394800-1761398400@balletescenario.com
SUMMARY:Puntas Variaciones
DESCRIPTION:
URL:https://balletescenario.com/event/puntas-variaciones-23/
LOCATION:Salón A – Ballet Escenario\, 52 calle Minerva\, Mayaguez\, 00680\, Puerto Rico
CATEGORIES:Ballet
END:VEVENT
BEGIN:VEVENT
DTSTART;TZID=America/Puerto_Rico:20251027T160000
DTEND;TZID=America/Puerto_Rico:20251027T170000
DTSTAMP:20260420T000644
CREATED:20250729T142125Z
LAST-MODIFIED:20250828T044956Z
UID:10003042-1761580800-1761584400@balletescenario.com
SUMMARY:Jr. Ballet - Lunes (7-10 años)
DESCRIPTION:
URL:https://balletescenario.com/event/jr-ballet-lunes-7-10-anos-24/
LOCATION:Salón A – Ballet Escenario\, 52 calle Minerva\, Mayaguez\, 00680\, Puerto Rico
CATEGORIES:Ballet
END:VEVENT
BEGIN:VEVENT
DTSTART;TZID=America/Puerto_Rico:20251027T160000
DTEND;TZID=America/Puerto_Rico:20251027T170000
DTSTAMP:20260420T000644
CREATED:20250729T145731Z
LAST-MODIFIED:20250828T045139Z
UID:10003061-1761580800-1761584400@balletescenario.com
SUMMARY:Salsa Kids Intermedio (5-12 años)
DESCRIPTION:
URL:https://balletescenario.com/event/salsa-kids-intermedio-5-12-anos-26/
LOCATION:Salón B – Ballet Escenario\, Calle Minerva #52\, Mayaguez\, 00680\, Puerto Rico
CATEGORIES:Salsa
END:VEVENT
BEGIN:VEVENT
DTSTART;TZID=America/Puerto_Rico:20251027T171000
DTEND;TZID=America/Puerto_Rico:20251027T181000
DTSTAMP:20260420T000644
CREATED:20250729T151648Z
LAST-MODIFIED:20250828T045251Z
UID:10003080-1761585000-1761588600@balletescenario.com
SUMMARY:Puntas - Nivel Intermedio
DESCRIPTION:
URL:https://balletescenario.com/event/puntas-nivel-intermedio-24/
LOCATION:Salón A – Ballet Escenario\, 52 calle Minerva\, Mayaguez\, 00680\, Puerto Rico
CATEGORIES:Ballet
END:VEVENT
BEGIN:VEVENT
DTSTART;TZID=America/Puerto_Rico:20251027T171000
DTEND;TZID=America/Puerto_Rico:20251027T181000
DTSTAMP:20260420T000644
CREATED:20250729T153331Z
LAST-MODIFIED:20250828T045417Z
UID:10003099-1761585000-1761588600@balletescenario.com
SUMMARY:Pre Ballet Lunes (5-6 años)
DESCRIPTION:
URL:https://balletescenario.com/event/pre-ballet-lunes-5-6-anos-24/
LOCATION:Salón B – Ballet Escenario\, Calle Minerva #52\, Mayaguez\, 00680\, Puerto Rico
CATEGORIES:Ballet
END:VEVENT
BEGIN:VEVENT
DTSTART;TZID=America/Puerto_Rico:20251027T171000
DTEND;TZID=America/Puerto_Rico:20251027T181000
DTSTAMP:20260420T000644
CREATED:20250729T160253Z
LAST-MODIFIED:20250828T045554Z
UID:10003118-1761585000-1761588600@balletescenario.com
SUMMARY:Baby Ballet Lunes (3-4 años)
DESCRIPTION:
URL:https://balletescenario.com/event/baby-ballet-lunes-3-4-anos-24/
LOCATION:Salón C – Ballet Escenario\, Calle Minerva #52\, Mayaguez\, 00680\, Puerto Rico
CATEGORIES:Ballet
END:VEVENT
BEGIN:VEVENT
DTSTART;TZID=America/Puerto_Rico:20251027T182000
DTEND;TZID=America/Puerto_Rico:20251027T192000
DTSTAMP:20260420T000644
CREATED:20250729T171548Z
LAST-MODIFIED:20250828T045807Z
UID:10003156-1761589200-1761592800@balletescenario.com
SUMMARY:Salsa Parejas Básico I - Rotando
DESCRIPTION:
URL:https://balletescenario.com/event/salsa-parejas-basico-i-rotando-24/
LOCATION:Salón B – Ballet Escenario\, Calle Minerva #52\, Mayaguez\, 00680\, Puerto Rico
CATEGORIES:Salsa
END:VEVENT
BEGIN:VEVENT
DTSTART;TZID=America/Puerto_Rico:20251027T182000
DTEND;TZID=America/Puerto_Rico:20251027T195000
DTSTAMP:20260420T000644
CREATED:20250729T165132Z
LAST-MODIFIED:20250828T045658Z
UID:10003137-1761589200-1761594600@balletescenario.com
SUMMARY:Ballet IV
DESCRIPTION:
URL:https://balletescenario.com/event/ballet-iv-31/
LOCATION:Salón A – Ballet Escenario\, 52 calle Minerva\, Mayaguez\, 00680\, Puerto Rico
CATEGORIES:Ballet
END:VEVENT
BEGIN:VEVENT
DTSTART;TZID=America/Puerto_Rico:20251027T193000
DTEND;TZID=America/Puerto_Rico:20251027T203000
DTSTAMP:20260420T000644
CREATED:20250729T175117Z
LAST-MODIFIED:20250828T045908Z
UID:10003177-1761593400-1761597000@balletescenario.com
SUMMARY:Salsa Pasos Libres Básico
DESCRIPTION:
URL:https://balletescenario.com/event/salsa-pasos-libres-basico-24/
LOCATION:Salón B – Ballet Escenario\, Calle Minerva #52\, Mayaguez\, 00680\, Puerto Rico
CATEGORIES:Salsa
END:VEVENT
BEGIN:VEVENT
DTSTART;TZID=America/Puerto_Rico:20251027T193000
DTEND;TZID=America/Puerto_Rico:20251027T203000
DTSTAMP:20260420T000644
CREATED:20250729T181808Z
LAST-MODIFIED:20250828T050015Z
UID:10003196-1761593400-1761597000@balletescenario.com
SUMMARY:Fitness Bootcamp by Andrés Pagán
DESCRIPTION:Reserva tu espacio y paga en la recepción al llegar – Costo $15.00 x Clase (Por persona)
URL:https://balletescenario.com/event/fitness-bootcamp-by-andres-pagan-35/
LOCATION:Salon D – Ballet Escenario\, Calle Minerva #52\, Mayaguez\, 00680\, Puerto Rico
END:VEVENT
BEGIN:VEVENT
DTSTART;TZID=America/Puerto_Rico:20251027T200000
DTEND;TZID=America/Puerto_Rico:20251027T210000
DTSTAMP:20260420T000644
CREATED:20250729T183900Z
LAST-MODIFIED:20250828T050651Z
UID:10003216-1761595200-1761598800@balletescenario.com
SUMMARY:The Happy Hour
DESCRIPTION:
URL:https://balletescenario.com/event/the-happy-hour-13/
LOCATION:Salón A – Ballet Escenario\, 52 calle Minerva\, Mayaguez\, 00680\, Puerto Rico
END:VEVENT
BEGIN:VEVENT
DTSTART;TZID=America/Puerto_Rico:20251028T160000
DTEND;TZID=America/Puerto_Rico:20251028T173000
DTSTAMP:20260420T000644
CREATED:20250730T160100Z
LAST-MODIFIED:20250828T050752Z
UID:10003244-1761667200-1761672600@balletescenario.com
SUMMARY:Ballet III
DESCRIPTION:
URL:https://balletescenario.com/event/ballet-iii-24/
LOCATION:Salón A – Ballet Escenario\, 52 calle Minerva\, Mayaguez\, 00680\, Puerto Rico
CATEGORIES:Ballet
END:VEVENT
BEGIN:VEVENT
DTSTART;TZID=America/Puerto_Rico:20251028T163000
DTEND;TZID=America/Puerto_Rico:20251028T173000
DTSTAMP:20260420T000644
CREATED:20250730T164228Z
LAST-MODIFIED:20250828T050856Z
UID:10003265-1761669000-1761672600@balletescenario.com
SUMMARY:Salsa Kids Básico (5-12 años)
DESCRIPTION:
URL:https://balletescenario.com/event/salsa-kids-basico-5-12-anos-19/
LOCATION:Salón B – Ballet Escenario\, Calle Minerva #52\, Mayaguez\, 00680\, Puerto Rico
CATEGORIES:Salsa
END:VEVENT
BEGIN:VEVENT
DTSTART;TZID=America/Puerto_Rico:20251028T163000
DTEND;TZID=America/Puerto_Rico:20251028T173000
DTSTAMP:20260420T000644
CREATED:20250730T165914Z
LAST-MODIFIED:20250828T051141Z
UID:10003284-1761669000-1761672600@balletescenario.com
SUMMARY:Baby Ballet Martes (3-4 años)
DESCRIPTION:
URL:https://balletescenario.com/event/baby-ballet-martes-3-4-anos-24/
LOCATION:Salón C – Ballet Escenario\, Calle Minerva #52\, Mayaguez\, 00680\, Puerto Rico
CATEGORIES:Ballet
END:VEVENT
BEGIN:VEVENT
DTSTART;TZID=America/Puerto_Rico:20251028T174000
DTEND;TZID=America/Puerto_Rico:20251028T184000
DTSTAMP:20260420T000644
CREATED:20250730T173313Z
LAST-MODIFIED:20250828T051534Z
UID:10003303-1761673200-1761676800@balletescenario.com
SUMMARY:Pre Puntas
DESCRIPTION:
URL:https://balletescenario.com/event/pre-puntas-13/
LOCATION:Salón A – Ballet Escenario\, 52 calle Minerva\, Mayaguez\, 00680\, Puerto Rico
CATEGORIES:Ballet
END:VEVENT
BEGIN:VEVENT
DTSTART;TZID=America/Puerto_Rico:20251028T174000
DTEND;TZID=America/Puerto_Rico:20251028T184000
DTSTAMP:20260420T000644
CREATED:20250730T175009Z
LAST-MODIFIED:20250828T051735Z
UID:10003322-1761673200-1761676800@balletescenario.com
SUMMARY:Urban Style For Teens (11+)
DESCRIPTION:
URL:https://balletescenario.com/event/urban-style-for-teens-11-24/
LOCATION:Salón B – Ballet Escenario\, Calle Minerva #52\, Mayaguez\, 00680\, Puerto Rico
CATEGORIES:Urban Style
END:VEVENT
BEGIN:VEVENT
DTSTART;TZID=America/Puerto_Rico:20251028T174000
DTEND;TZID=America/Puerto_Rico:20251028T184000
DTSTAMP:20260420T000644
CREATED:20250730T180832Z
LAST-MODIFIED:20250828T051851Z
UID:10003341-1761673200-1761676800@balletescenario.com
SUMMARY:Stretch and BE Strong
DESCRIPTION:
URL:https://balletescenario.com/event/stretch-and-be-strong-37/
LOCATION:Salón C – Ballet Escenario\, Calle Minerva #52\, Mayaguez\, 00680\, Puerto Rico
CATEGORIES:Stretch and BE Strong
END:VEVENT
BEGIN:VEVENT
DTSTART;TZID=America/Puerto_Rico:20251028T185000
DTEND;TZID=America/Puerto_Rico:20251028T195000
DTSTAMP:20260420T000644
CREATED:20250730T182708Z
LAST-MODIFIED:20250828T051957Z
UID:10003360-1761677400-1761681000@balletescenario.com
SUMMARY:Ballet Adultos Ex-Bailarines
DESCRIPTION:
URL:https://balletescenario.com/event/ballet-adultos-ex-bailarines-28/
LOCATION:Salón A – Ballet Escenario\, 52 calle Minerva\, Mayaguez\, 00680\, Puerto Rico
CATEGORIES:Ballet
END:VEVENT
BEGIN:VEVENT
DTSTART;TZID=America/Puerto_Rico:20251028T185000
DTEND;TZID=America/Puerto_Rico:20251028T195000
DTSTAMP:20260420T000644
CREATED:20250730T185154Z
LAST-MODIFIED:20250828T052056Z
UID:10003379-1761677400-1761681000@balletescenario.com
SUMMARY:Ballet I (11-17 años)
DESCRIPTION:
URL:https://balletescenario.com/event/ballet-i-11-17-anos-25/
LOCATION:Salón C – Ballet Escenario\, Calle Minerva #52\, Mayaguez\, 00680\, Puerto Rico
CATEGORIES:Ballet
END:VEVENT
BEGIN:VEVENT
DTSTART;TZID=America/Puerto_Rico:20251029T160000
DTEND;TZID=America/Puerto_Rico:20251029T170000
DTSTAMP:20260420T000644
CREATED:20250801T000613Z
LAST-MODIFIED:20250828T052348Z
UID:10003432-1761753600-1761757200@balletescenario.com
SUMMARY:Acrobacia Continuación
DESCRIPTION:
URL:https://balletescenario.com/event/acrobacia-continuacion-27/
LOCATION:Salón A – Ballet Escenario\, 52 calle Minerva\, Mayaguez\, 00680\, Puerto Rico
CATEGORIES:Acrobacia
END:VEVENT
BEGIN:VEVENT
DTSTART;TZID=America/Puerto_Rico:20251029T160000
DTEND;TZID=America/Puerto_Rico:20251029T170000
DTSTAMP:20260420T000644
CREATED:20250801T003203Z
LAST-MODIFIED:20250828T052449Z
UID:10003451-1761753600-1761757200@balletescenario.com
SUMMARY:Jazz Lírico - (13+ años)
DESCRIPTION:
URL:https://balletescenario.com/event/jazz-lirico-13-anos-13/
LOCATION:Salón B – Ballet Escenario\, Calle Minerva #52\, Mayaguez\, 00680\, Puerto Rico
CATEGORIES:Jazz Lírico
END:VEVENT
BEGIN:VEVENT
DTSTART;TZID=America/Puerto_Rico:20251029T171000
DTEND;TZID=America/Puerto_Rico:20251029T181000
DTSTAMP:20260420T000644
CREATED:20250801T012623Z
LAST-MODIFIED:20250828T052707Z
UID:10003491-1761757800-1761761400@balletescenario.com
SUMMARY:Pre Ballet Miércoles (5-6 años)
DESCRIPTION:
URL:https://balletescenario.com/event/pre-ballet-miercoles-5-6-anos-26/
LOCATION:Salón C – Ballet Escenario\, Calle Minerva #52\, Mayaguez\, 00680\, Puerto Rico
CATEGORIES:Ballet
END:VEVENT
BEGIN:VEVENT
DTSTART;TZID=America/Puerto_Rico:20251029T171000
DTEND;TZID=America/Puerto_Rico:20251029T184000
DTSTAMP:20260420T000644
CREATED:20250801T005234Z
LAST-MODIFIED:20250828T052551Z
UID:10003470-1761757800-1761763200@balletescenario.com
SUMMARY:Puntas Avanzado
DESCRIPTION:
URL:https://balletescenario.com/event/puntas-avanzado-26/
LOCATION:Salón A – Ballet Escenario\, 52 calle Minerva\, Mayaguez\, 00680\, Puerto Rico
CATEGORIES:Ballet
END:VEVENT
BEGIN:VEVENT
DTSTART;TZID=America/Puerto_Rico:20251029T182000
DTEND;TZID=America/Puerto_Rico:20251029T192000
DTSTAMP:20260420T000644
CREATED:20251022T204553Z
LAST-MODIFIED:20251022T204553Z
UID:10004073-1761762000-1761765600@balletescenario.com
SUMMARY:Salsa Parejas Básico II - Rotando
DESCRIPTION:NOTA: Para esta clase\, puede elegir entre dos opciones: \n– Estudiante Individual: Si asiste solo\, debe comprar un boleto de esta categoría. \n– Solo Para Parejas: Si asiste con una pareja o acompañante\, debe comprar dos boletos de esta categoría para un total a pagar de $15.00. \nImportante: Si compra boletos de la categoría “Solo Para Parejas” pero asiste solo\, se le cobrará la diferencia de precio antes de poder ingresar a la clase. \nPara más información\, comuníquese al 787-402-6350.
URL:https://balletescenario.com/event/salsa-parejas-basico-ii-rotando-38/
LOCATION:Salón B – Ballet Escenario\, Calle Minerva #52\, Mayaguez\, 00680\, Puerto Rico
CATEGORIES:Salsa
END:VEVENT
BEGIN:VEVENT
DTSTART;TZID=America/Puerto_Rico:20251029T185000
DTEND;TZID=America/Puerto_Rico:20251029T195000
DTSTAMP:20260420T000644
CREATED:20250801T034944Z
LAST-MODIFIED:20250828T052946Z
UID:10003530-1761763800-1761767400@balletescenario.com
SUMMARY:Ballet Adultos Principiantes
DESCRIPTION:
URL:https://balletescenario.com/event/ballet-adultos-principiantes-26/
LOCATION:Salón A – Ballet Escenario\, 52 calle Minerva\, Mayaguez\, 00680\, Puerto Rico
CATEGORIES:Ballet
END:VEVENT
BEGIN:VEVENT
DTSTART;TZID=America/Puerto_Rico:20251029T185000
DTEND;TZID=America/Puerto_Rico:20251029T195000
DTSTAMP:20260420T000644
CREATED:20250801T041844Z
LAST-MODIFIED:20250828T053047Z
UID:10003550-1761763800-1761767400@balletescenario.com
SUMMARY:Jr. Ballet Miércoles (7-10 años)
DESCRIPTION:
URL:https://balletescenario.com/event/jr-ballet-miercoles-7-10-anos-26/
LOCATION:Salón C – Ballet Escenario\, Calle Minerva #52\, Mayaguez\, 00680\, Puerto Rico
CATEGORIES:Ballet
END:VEVENT
BEGIN:VEVENT
DTSTART;TZID=America/Puerto_Rico:20251029T193000
DTEND;TZID=America/Puerto_Rico:20251029T203000
DTSTAMP:20260420T000644
CREATED:20250801T045110Z
LAST-MODIFIED:20250814T012938Z
UID:10003570-1761766200-1761769800@balletescenario.com
SUMMARY:Salsa Parejas Básico II - Rotando
DESCRIPTION:NOTA: Para esta clase\, puede elegir entre dos opciones: \n– Estudiante Individual: Si asiste solo\, debe comprar un boleto de esta categoría. \n– Solo Para Parejas: Si asiste con una pareja o acompañante\, debe comprar dos boletos de esta categoría para un total a pagar de $15.00. \nImportante: Si compra boletos de la categoría “Solo Para Parejas” pero asiste solo\, se le cobrará la diferencia de precio antes de poder ingresar a la clase. \nPara más información\, comuníquese al 787-402-6350.
URL:https://balletescenario.com/event/salsa-parejas-basico-ii-rotando-26/
LOCATION:Salón B – Ballet Escenario\, Calle Minerva #52\, Mayaguez\, 00680\, Puerto Rico
CATEGORIES:Salsa
END:VEVENT
BEGIN:VEVENT
DTSTART;TZID=America/Puerto_Rico:20251029T200000
DTEND;TZID=America/Puerto_Rico:20251029T210000
DTSTAMP:20260420T000644
CREATED:20250801T050938Z
LAST-MODIFIED:20250828T053242Z
UID:10003589-1761768000-1761771600@balletescenario.com
SUMMARY:Salsa Parejas Intermedio - On2
DESCRIPTION:Nota Aclaratoria para la Compra de Boletos \nEstimados estudiantes\, \nQueremos informarles sobre la política de precios para nuestra próxima clase. Los boletos pueden ser adquiridos de forma individual o en pareja\, según la siguiente estructura de precios: \n\nBoleto individual: $10.00 por persona.\nBoleto para pareja: Si asisten con un acompañante y adquieren dos boletos\, cada uno tendrá un costo reducido de $7.50\, para un total de $15.00.\n\nEste descuento se aplicará automáticamente al agregar dos boletos a su carrito de compra\, y será reflejado en el proceso de checkout. \nGracias por su atención\, y esperamos verlos en la clase. \nPara más información\, comuníquese al 787-402-6350.
URL:https://balletescenario.com/event/salsa-parejas-intermedio-on2-27/
LOCATION:Salón A – Ballet Escenario\, 52 calle Minerva\, Mayaguez\, 00680\, Puerto Rico
CATEGORIES:Salsa
END:VEVENT
BEGIN:VEVENT
DTSTART;TZID=America/Puerto_Rico:20251029T200000
DTEND;TZID=America/Puerto_Rico:20251029T210000
DTSTAMP:20260420T000644
CREATED:20250801T054420Z
LAST-MODIFIED:20250828T053350Z
UID:10003610-1761768000-1761771600@balletescenario.com
SUMMARY:Yoga
DESCRIPTION:
URL:https://balletescenario.com/event/yoga-35/
LOCATION:Salon D – Ballet Escenario\, Calle Minerva #52\, Mayaguez\, 00680\, Puerto Rico
CATEGORIES:Yoga
END:VEVENT
BEGIN:VEVENT
DTSTART;TZID=America/Puerto_Rico:20251030T160000
DTEND;TZID=America/Puerto_Rico:20251030T173000
DTSTAMP:20260420T000644
CREATED:20250801T163820Z
LAST-MODIFIED:20250828T053509Z
UID:10003638-1761840000-1761845400@balletescenario.com
SUMMARY:Ballet III
DESCRIPTION:
URL:https://balletescenario.com/event/ballet-iii-52/
LOCATION:Salón A – Ballet Escenario\, 52 calle Minerva\, Mayaguez\, 00680\, Puerto Rico
CATEGORIES:Ballet
END:VEVENT
END:VCALENDAR