BEGIN:VCALENDAR
VERSION:2.0
PRODID:-//Ballet Escenario - ECPv6.15.20//NONSGML v1.0//EN
CALSCALE:GREGORIAN
METHOD:PUBLISH
X-WR-CALNAME:Ballet Escenario
X-ORIGINAL-URL:https://balletescenario.com
X-WR-CALDESC:Events for Ballet Escenario
REFRESH-INTERVAL;VALUE=DURATION:PT1H
X-Robots-Tag:noindex
X-PUBLISHED-TTL:PT1H
BEGIN:VTIMEZONE
TZID:America/Puerto_Rico
BEGIN:STANDARD
TZOFFSETFROM:-0400
TZOFFSETTO:-0400
TZNAME:AST
DTSTART:20250101T000000
END:STANDARD
END:VTIMEZONE
BEGIN:VEVENT
DTSTART;TZID=America/Puerto_Rico:20260302T193000
DTEND;TZID=America/Puerto_Rico:20260302T203000
DTSTAMP:20260420T023254
CREATED:20260102T022423Z
LAST-MODIFIED:20260102T022451Z
UID:10004526-1772479800-1772483400@balletescenario.com
SUMMARY:Fitness Bootcamp by Andrés Pagán
DESCRIPTION:Reserva tu espacio y paga en la recepción al llegar – Costo $15.00 x Clase (Por persona)
URL:https://balletescenario.com/event/fitness-bootcamp-by-andres-pagan-5/
LOCATION:Salon D – Ballet Escenario\, Calle Minerva #52\, Mayaguez\, 00680\, Puerto Rico
END:VEVENT
BEGIN:VEVENT
DTSTART;TZID=America/Puerto_Rico:20260302T185000
DTEND;TZID=America/Puerto_Rico:20260302T202000
DTSTAMP:20260420T023254
CREATED:20260102T005134Z
LAST-MODIFIED:20260102T005316Z
UID:10004488-1772477400-1772482800@balletescenario.com
SUMMARY:Ballet IV
DESCRIPTION:
URL:https://balletescenario.com/event/ballet-iv-5/
LOCATION:Salón A – Ballet Escenario\, 52 calle Minerva\, Mayaguez\, 00680\, Puerto Rico
CATEGORIES:Ballet
END:VEVENT
BEGIN:VEVENT
DTSTART;TZID=America/Puerto_Rico:20260302T185000
DTEND;TZID=America/Puerto_Rico:20260302T195000
DTSTAMP:20260420T023254
CREATED:20260102T015219Z
LAST-MODIFIED:20260102T015259Z
UID:10004514-1772477400-1772481000@balletescenario.com
SUMMARY:Salsa Pasos Libres Básico
DESCRIPTION:
URL:https://balletescenario.com/event/salsa-pasos-libres-basico-20/
LOCATION:Salón C – Ballet Escenario\, Calle Minerva #52\, Mayaguez\, 00680\, Puerto Rico
CATEGORIES:Salsa
END:VEVENT
BEGIN:VEVENT
DTSTART;TZID=America/Puerto_Rico:20260302T185000
DTEND;TZID=America/Puerto_Rico:20260302T195000
DTSTAMP:20260420T023254
CREATED:20260102T012353Z
LAST-MODIFIED:20260102T012428Z
UID:10004500-1772477400-1772481000@balletescenario.com
SUMMARY:Salsa Parejas Básico I - Rotando
DESCRIPTION:
URL:https://balletescenario.com/event/salsa-parejas-basico-i-rotando-5/
LOCATION:Salón B – Ballet Escenario\, Calle Minerva #52\, Mayaguez\, 00680\, Puerto Rico
CATEGORIES:Salsa
END:VEVENT
BEGIN:VEVENT
DTSTART;TZID=America/Puerto_Rico:20260302T174000
DTEND;TZID=America/Puerto_Rico:20260302T184000
DTSTAMP:20260420T023254
CREATED:20260102T000927Z
LAST-MODIFIED:20260102T001002Z
UID:10004476-1772473200-1772476800@balletescenario.com
SUMMARY:Salsa Kids Intermedio (5-12 años)
DESCRIPTION:
URL:https://balletescenario.com/event/salsa-kids-intermedio-5-12-anos-35/
LOCATION:Salón C – Ballet Escenario\, Calle Minerva #52\, Mayaguez\, 00680\, Puerto Rico
CATEGORIES:Salsa
END:VEVENT
BEGIN:VEVENT
DTSTART;TZID=America/Puerto_Rico:20260302T174000
DTEND;TZID=America/Puerto_Rico:20260302T184000
DTSTAMP:20260420T023254
CREATED:20260101T234740Z
LAST-MODIFIED:20260101T234809Z
UID:10004464-1772473200-1772476800@balletescenario.com
SUMMARY:Puntas - Nivel Intermedio
DESCRIPTION:
URL:https://balletescenario.com/event/puntas-nivel-intermedio-34/
LOCATION:Salón A – Ballet Escenario\, 52 calle Minerva\, Mayaguez\, 00680\, Puerto Rico
CATEGORIES:Ballet
END:VEVENT
BEGIN:VEVENT
DTSTART;TZID=America/Puerto_Rico:20260302T163000
DTEND;TZID=America/Puerto_Rico:20260302T173000
DTSTAMP:20260420T023254
CREATED:20251228T070101Z
LAST-MODIFIED:20251228T070140Z
UID:10004171-1772469000-1772472600@balletescenario.com
SUMMARY:Baby Ballet Lunes (3-4 años)
DESCRIPTION:
URL:https://balletescenario.com/event/baby-ballet-lunes-3-4-anos-32/
LOCATION:Salón C – Ballet Escenario\, Calle Minerva #52\, Mayaguez\, 00680\, Puerto Rico
CATEGORIES:Ballet
END:VEVENT
BEGIN:VEVENT
DTSTART;TZID=America/Puerto_Rico:20260302T163000
DTEND;TZID=America/Puerto_Rico:20260302T173000
DTSTAMP:20260420T023254
CREATED:20251228T062953Z
LAST-MODIFIED:20251228T063027Z
UID:10004154-1772469000-1772472600@balletescenario.com
SUMMARY:Pre Ballet Lunes (5-6 años)
DESCRIPTION:
URL:https://balletescenario.com/event/pre-ballet-lunes-5-6-anos-32/
LOCATION:Salón B – Ballet Escenario\, Calle Minerva #52\, Mayaguez\, 00680\, Puerto Rico
CATEGORIES:Ballet
END:VEVENT
BEGIN:VEVENT
DTSTART;TZID=America/Puerto_Rico:20260302T163000
DTEND;TZID=America/Puerto_Rico:20260302T173000
DTSTAMP:20260420T023254
CREATED:20251226T204341Z
LAST-MODIFIED:20260117T145555Z
UID:10004086-1772469000-1772472600@balletescenario.com
SUMMARY:Jr. Ballet - Lunes (7-10 años)
DESCRIPTION:
URL:https://balletescenario.com/event/jr-ballet-lunes-7-10-anos-33/
LOCATION:Salón A – Ballet Escenario\, 52 calle Minerva\, Mayaguez\, 00680\, Puerto Rico
CATEGORIES:Ballet
END:VEVENT
BEGIN:VEVENT
DTSTART;TZID=America/Puerto_Rico:20260228T122000
DTEND;TZID=America/Puerto_Rico:20260228T132000
DTSTAMP:20260420T023254
CREATED:20251231T192450Z
LAST-MODIFIED:20251231T192534Z
UID:10004463-1772281200-1772284800@balletescenario.com
SUMMARY:Puntas Variaciones
DESCRIPTION:
URL:https://balletescenario.com/event/puntas-variaciones-22/
LOCATION:Salón A – Ballet Escenario\, 52 calle Minerva\, Mayaguez\, 00680\, Puerto Rico
CATEGORIES:Ballet
END:VEVENT
BEGIN:VEVENT
DTSTART;TZID=America/Puerto_Rico:20260228T111000
DTEND;TZID=America/Puerto_Rico:20260228T121000
DTSTAMP:20260420T023254
CREATED:20251231T191817Z
LAST-MODIFIED:20251231T191859Z
UID:10004459-1772277000-1772280600@balletescenario.com
SUMMARY:Baby Ballet Sábado (3-4 años)
DESCRIPTION:
URL:https://balletescenario.com/event/baby-ballet-sabado-3-4-anos-20/
LOCATION:Salón C – Ballet Escenario\, Calle Minerva #52\, Mayaguez\, 00680\, Puerto Rico
CATEGORIES:Ballet
END:VEVENT
BEGIN:VEVENT
DTSTART;TZID=America/Puerto_Rico:20260228T111000
DTEND;TZID=America/Puerto_Rico:20260228T121000
DTSTAMP:20260420T023254
CREATED:20251231T191130Z
LAST-MODIFIED:20251231T191208Z
UID:10004455-1772277000-1772280600@balletescenario.com
SUMMARY:Urban Kids Sábado (5-10 años)
DESCRIPTION:
URL:https://balletescenario.com/event/urban-kids-sabado-5-10-anos-20/
LOCATION:Salón B – Ballet Escenario\, Calle Minerva #52\, Mayaguez\, 00680\, Puerto Rico
CATEGORIES:Urban Style
END:VEVENT
BEGIN:VEVENT
DTSTART;TZID=America/Puerto_Rico:20260228T100000
DTEND;TZID=America/Puerto_Rico:20260228T110000
DTSTAMP:20260420T023254
CREATED:20251231T185242Z
LAST-MODIFIED:20251231T185315Z
UID:10004447-1772272800-1772276400@balletescenario.com
SUMMARY:Pre Ballet Sábado (5-6 años)
DESCRIPTION:
URL:https://balletescenario.com/event/pre-ballet-sabado-5-6-anos-20/
LOCATION:Salón C – Ballet Escenario\, Calle Minerva #52\, Mayaguez\, 00680\, Puerto Rico
CATEGORIES:Ballet
END:VEVENT
BEGIN:VEVENT
DTSTART;TZID=America/Puerto_Rico:20260228T100000
DTEND;TZID=America/Puerto_Rico:20260228T110000
DTSTAMP:20260420T023254
CREATED:20251231T184713Z
LAST-MODIFIED:20251231T184756Z
UID:10004443-1772272800-1772276400@balletescenario.com
SUMMARY:Jr. Ballet Sábado (7-10 años)
DESCRIPTION:
URL:https://balletescenario.com/event/jr-ballet-sabado-7-10-anos-20/
LOCATION:Salón A – Ballet Escenario\, 52 calle Minerva\, Mayaguez\, 00680\, Puerto Rico
CATEGORIES:Ballet
END:VEVENT
BEGIN:VEVENT
DTSTART;TZID=America/Puerto_Rico:20260227T182000
DTEND;TZID=America/Puerto_Rico:20260227T195000
DTSTAMP:20260420T023254
CREATED:20251231T182825Z
LAST-MODIFIED:20251231T182859Z
UID:10004435-1772216400-1772221800@balletescenario.com
SUMMARY:Ballet IV
DESCRIPTION:
URL:https://balletescenario.com/event/ballet-iv-63/
LOCATION:Salón A – Ballet Escenario\, 52 calle Minerva\, Mayaguez\, 00680\, Puerto Rico
CATEGORIES:Ballet
END:VEVENT
BEGIN:VEVENT
DTSTART;TZID=America/Puerto_Rico:20260227T182000
DTEND;TZID=America/Puerto_Rico:20260227T192000
DTSTAMP:20260420T023254
CREATED:20251231T183413Z
LAST-MODIFIED:20251231T183454Z
UID:10004439-1772216400-1772220000@balletescenario.com
SUMMARY:Urban Kids Viernes (5-10 años)
DESCRIPTION:
URL:https://balletescenario.com/event/urban-kids-viernes-5-10-anos-28/
LOCATION:Salón B – Ballet Escenario\, Calle Minerva #52\, Mayaguez\, 00680\, Puerto Rico
CATEGORIES:Urban Style
END:VEVENT
BEGIN:VEVENT
DTSTART;TZID=America/Puerto_Rico:20260227T171000
DTEND;TZID=America/Puerto_Rico:20260227T181000
DTSTAMP:20260420T023254
CREATED:20251231T182332Z
LAST-MODIFIED:20251231T182406Z
UID:10004431-1772212200-1772215800@balletescenario.com
SUMMARY:Stretch and BE Strong
DESCRIPTION:
URL:https://balletescenario.com/event/stretch-and-be-strong-98/
LOCATION:Salón B – Ballet Escenario\, Calle Minerva #52\, Mayaguez\, 00680\, Puerto Rico
CATEGORIES:Stretch and BE Strong
END:VEVENT
BEGIN:VEVENT
DTSTART;TZID=America/Puerto_Rico:20260227T171000
DTEND;TZID=America/Puerto_Rico:20260227T181000
DTSTAMP:20260420T023254
CREATED:20251231T181651Z
LAST-MODIFIED:20251231T181720Z
UID:10004426-1772212200-1772215800@balletescenario.com
SUMMARY:Jr Ballet Nivel II
DESCRIPTION:
URL:https://balletescenario.com/event/jr-ballet-nivel-ii-32/
LOCATION:Salón A – Ballet Escenario\, 52 calle Minerva\, Mayaguez\, 00680\, Puerto Rico
CATEGORIES:Ballet
END:VEVENT
BEGIN:VEVENT
DTSTART;TZID=America/Puerto_Rico:20260227T160000
DTEND;TZID=America/Puerto_Rico:20260227T170000
DTSTAMP:20260420T023254
CREATED:20251231T181020Z
LAST-MODIFIED:20251231T181103Z
UID:10004421-1772208000-1772211600@balletescenario.com
SUMMARY:Ballet II
DESCRIPTION:
URL:https://balletescenario.com/event/ballet-ii-66/
LOCATION:Salón A – Ballet Escenario\, 52 calle Minerva\, Mayaguez\, 00680\, Puerto Rico
CATEGORIES:Ballet
END:VEVENT
BEGIN:VEVENT
DTSTART;TZID=America/Puerto_Rico:20260226T200000
DTEND;TZID=America/Puerto_Rico:20260226T210000
DTSTAMP:20260420T023254
CREATED:20251230T061351Z
LAST-MODIFIED:20251230T061428Z
UID:10004417-1772136000-1772139600@balletescenario.com
SUMMARY:Salsa Pasos Libres Avanzado
DESCRIPTION:
URL:https://balletescenario.com/event/salsa-pasos-libres-avanzado-34/
LOCATION:Salón A – Ballet Escenario\, 52 calle Minerva\, Mayaguez\, 00680\, Puerto Rico
CATEGORIES:Salsa
END:VEVENT
BEGIN:VEVENT
DTSTART;TZID=America/Puerto_Rico:20260226T193000
DTEND;TZID=America/Puerto_Rico:20260226T203000
DTSTAMP:20260420T023254
CREATED:20251230T060652Z
LAST-MODIFIED:20251230T060724Z
UID:10004413-1772134200-1772137800@balletescenario.com
SUMMARY:Fitness Bootcamp by Andrés Pagán
DESCRIPTION:Reserva tu espacio y paga en la recepción al llegar – Costo $15.00 x Clase (Por persona)
URL:https://balletescenario.com/event/fitness-bootcamp-by-andres-pagan-23/
LOCATION:Salon D – Ballet Escenario\, Calle Minerva #52\, Mayaguez\, 00680\, Puerto Rico
END:VEVENT
BEGIN:VEVENT
DTSTART;TZID=America/Puerto_Rico:20260226T185000
DTEND;TZID=America/Puerto_Rico:20260226T195000
DTSTAMP:20260420T023254
CREATED:20251230T055833Z
LAST-MODIFIED:20260109T040746Z
UID:10004409-1772131800-1772135400@balletescenario.com
SUMMARY:Jr. Ballet jueves (7-10 años)
DESCRIPTION:
URL:https://balletescenario.com/event/jr-ballet-miercoles-7-10-anos-19/
LOCATION:Salón C – Ballet Escenario\, Calle Minerva #52\, Mayaguez\, 00680\, Puerto Rico
CATEGORIES:Ballet
END:VEVENT
BEGIN:VEVENT
DTSTART;TZID=America/Puerto_Rico:20260226T185000
DTEND;TZID=America/Puerto_Rico:20260226T195000
DTSTAMP:20260420T023254
CREATED:20251230T054954Z
LAST-MODIFIED:20251230T055031Z
UID:10004405-1772131800-1772135400@balletescenario.com
SUMMARY:Salsa Pasos Libres Intermedio
DESCRIPTION:
URL:https://balletescenario.com/event/salsa-pasos-libres-intermedio-34/
LOCATION:Salón B – Ballet Escenario\, Calle Minerva #52\, Mayaguez\, 00680\, Puerto Rico
CATEGORIES:Salsa
END:VEVENT
BEGIN:VEVENT
DTSTART;TZID=America/Puerto_Rico:20260226T185000
DTEND;TZID=America/Puerto_Rico:20260226T195000
DTSTAMP:20260420T023254
CREATED:20251230T054224Z
LAST-MODIFIED:20251230T054306Z
UID:10004401-1772131800-1772135400@balletescenario.com
SUMMARY:Ballet II
DESCRIPTION:
URL:https://balletescenario.com/event/ballet-ii-62/
LOCATION:Salón A – Ballet Escenario\, 52 calle Minerva\, Mayaguez\, 00680\, Puerto Rico
CATEGORIES:Ballet
END:VEVENT
BEGIN:VEVENT
DTSTART;TZID=America/Puerto_Rico:20260226T174000
DTEND;TZID=America/Puerto_Rico:20260226T184000
DTSTAMP:20260420T023254
CREATED:20251230T053202Z
LAST-MODIFIED:20251230T053257Z
UID:10004397-1772127600-1772131200@balletescenario.com
SUMMARY:Stretch and BE Strong
DESCRIPTION:
URL:https://balletescenario.com/event/stretch-and-be-strong-65/
LOCATION:Salón C – Ballet Escenario\, Calle Minerva #52\, Mayaguez\, 00680\, Puerto Rico
CATEGORIES:Stretch and BE Strong
END:VEVENT
BEGIN:VEVENT
DTSTART;TZID=America/Puerto_Rico:20260226T174000
DTEND;TZID=America/Puerto_Rico:20260226T184000
DTSTAMP:20260420T023254
CREATED:20251230T052326Z
LAST-MODIFIED:20251230T052415Z
UID:10004393-1772127600-1772131200@balletescenario.com
SUMMARY:Salsa Kids Avanzado (5-12 años)
DESCRIPTION:
URL:https://balletescenario.com/event/salsa-kids-avanzado-5-12-anos-22/
LOCATION:Salón B – Ballet Escenario\, Calle Minerva #52\, Mayaguez\, 00680\, Puerto Rico
CATEGORIES:Salsa
END:VEVENT
BEGIN:VEVENT
DTSTART;TZID=America/Puerto_Rico:20260226T174000
DTEND;TZID=America/Puerto_Rico:20260226T184000
DTSTAMP:20260420T023254
CREATED:20251230T051524Z
LAST-MODIFIED:20251230T051559Z
UID:10004389-1772127600-1772131200@balletescenario.com
SUMMARY:Principios de Acrobacia (7 años+)
DESCRIPTION:
URL:https://balletescenario.com/event/principios-de-acrobacia-7-anos-22/
LOCATION:Salón A – Ballet Escenario\, 52 calle Minerva\, Mayaguez\, 00680\, Puerto Rico
CATEGORIES:Acrobacia
END:VEVENT
BEGIN:VEVENT
DTSTART;TZID=America/Puerto_Rico:20260226T163000
DTEND;TZID=America/Puerto_Rico:20260226T173000
DTSTAMP:20260420T023254
CREATED:20251230T050840Z
LAST-MODIFIED:20251230T050917Z
UID:10004385-1772123400-1772127000@balletescenario.com
SUMMARY:Jazz Lírico Kids (7-12 años)
DESCRIPTION:
URL:https://balletescenario.com/event/jazz-lirico-kids-7-12-anos-30/
LOCATION:Salón B – Ballet Escenario\, Calle Minerva #52\, Mayaguez\, 00680\, Puerto Rico
CATEGORIES:Jazz Lírico
END:VEVENT
BEGIN:VEVENT
DTSTART;TZID=America/Puerto_Rico:20260225T203000
DTEND;TZID=America/Puerto_Rico:20260225T213000
DTSTAMP:20260420T023254
CREATED:20260112T190153Z
LAST-MODIFIED:20260112T190255Z
UID:10004953-1772051400-1772055000@balletescenario.com
SUMMARY:Salsa Parejas Intermedio - On2
DESCRIPTION:Nota Aclaratoria para la Compra de Boletos \nEstimados estudiantes\, \nQueremos informarles sobre la política de precios para nuestra próxima clase. Los boletos pueden ser adquiridos de forma individual o en pareja\, según la siguiente estructura de precios: \n\nBoleto individual: $10.00 por persona.\nBoleto para pareja: Si asisten con un acompañante y adquieren dos boletos\, cada uno tendrá un costo reducido de $7.50\, para un total de $15.00.\n\nEste descuento se aplicará automáticamente al agregar dos boletos a su carrito de compra\, y será reflejado en el proceso de checkout. \nGracias por su atención\, y esperamos verlos en la clase. \nPara más información\, comuníquese al 787-402-6350.
URL:https://balletescenario.com/event/salsa-parejas-intermedio-on2-19/
LOCATION:Salón A – Ballet Escenario\, 52 calle Minerva\, Mayaguez\, 00680\, Puerto Rico
CATEGORIES:Salsa
END:VEVENT
BEGIN:VEVENT
DTSTART;TZID=America/Puerto_Rico:20260225T203000
DTEND;TZID=America/Puerto_Rico:20260225T213000
DTSTAMP:20260420T023254
CREATED:20251230T050016Z
LAST-MODIFIED:20251230T050104Z
UID:10004381-1772051400-1772055000@balletescenario.com
SUMMARY:Salsa Parejas Básico II - Rotando
DESCRIPTION:NOTA: Para esta clase\, puede elegir entre dos opciones: \n– Estudiante Individual: Si asiste solo\, debe comprar un boleto de esta categoría. \n– Solo Para Parejas: Si asiste con una pareja o acompañante\, debe comprar dos boletos de esta categoría para un total a pagar de $15.00. \nImportante: Si compra boletos de la categoría “Solo Para Parejas” pero asiste solo\, se le cobrará la diferencia de precio antes de poder ingresar a la clase. \nPara más información\, comuníquese al 787-402-6350.
URL:https://balletescenario.com/event/salsa-parejas-basico-ii-rotando-20/
LOCATION:Salón B – Ballet Escenario\, Calle Minerva #52\, Mayaguez\, 00680\, Puerto Rico
CATEGORIES:Salsa
END:VEVENT
END:VCALENDAR