BEGIN:VCALENDAR
VERSION:2.0
PRODID:-//Ballet Escenario - ECPv6.15.20//NONSGML v1.0//EN
CALSCALE:GREGORIAN
METHOD:PUBLISH
X-WR-CALNAME:Ballet Escenario
X-ORIGINAL-URL:https://balletescenario.com
X-WR-CALDESC:Events for Ballet Escenario
REFRESH-INTERVAL;VALUE=DURATION:PT1H
X-Robots-Tag:noindex
X-PUBLISHED-TTL:PT1H
BEGIN:VTIMEZONE
TZID:America/Puerto_Rico
BEGIN:STANDARD
TZOFFSETFROM:-0400
TZOFFSETTO:-0400
TZNAME:AST
DTSTART:20250101T000000
END:STANDARD
END:VTIMEZONE
BEGIN:VEVENT
DTSTART;TZID=America/Puerto_Rico:20260312T163000
DTEND;TZID=America/Puerto_Rico:20260312T173000
DTSTAMP:20260419T120714
CREATED:20260105T010451Z
LAST-MODIFIED:20260105T010615Z
UID:10004697-1773333000-1773336600@balletescenario.com
SUMMARY:Jazz Lírico Kids (7-12 años)
DESCRIPTION:
URL:https://balletescenario.com/event/jazz-lirico-kids-7-12-anos-32/
LOCATION:Salón B – Ballet Escenario\, Calle Minerva #52\, Mayaguez\, 00680\, Puerto Rico
CATEGORIES:Jazz Lírico
END:VEVENT
BEGIN:VEVENT
DTSTART;TZID=America/Puerto_Rico:20260312T174000
DTEND;TZID=America/Puerto_Rico:20260312T184000
DTSTAMP:20260419T120714
CREATED:20260105T014101Z
LAST-MODIFIED:20260105T014142Z
UID:10004710-1773337200-1773340800@balletescenario.com
SUMMARY:Principios de Acrobacia (7 años+)
DESCRIPTION:
URL:https://balletescenario.com/event/principios-de-acrobacia-7-anos-32/
LOCATION:Salón A – Ballet Escenario\, 52 calle Minerva\, Mayaguez\, 00680\, Puerto Rico
CATEGORIES:Acrobacia
END:VEVENT
BEGIN:VEVENT
DTSTART;TZID=America/Puerto_Rico:20260312T174000
DTEND;TZID=America/Puerto_Rico:20260312T184000
DTSTAMP:20260419T120714
CREATED:20260105T020520Z
LAST-MODIFIED:20260105T020558Z
UID:10004723-1773337200-1773340800@balletescenario.com
SUMMARY:Salsa Kids Avanzado (5-12 años)
DESCRIPTION:
URL:https://balletescenario.com/event/salsa-kids-avanzado-5-12-anos-30/
LOCATION:Salón B – Ballet Escenario\, Calle Minerva #52\, Mayaguez\, 00680\, Puerto Rico
CATEGORIES:Salsa
END:VEVENT
BEGIN:VEVENT
DTSTART;TZID=America/Puerto_Rico:20260312T174000
DTEND;TZID=America/Puerto_Rico:20260312T184000
DTSTAMP:20260419T120714
CREATED:20260105T212130Z
LAST-MODIFIED:20260105T212225Z
UID:10004735-1773337200-1773340800@balletescenario.com
SUMMARY:Stretch and BE Strong
DESCRIPTION:
URL:https://balletescenario.com/event/stretch-and-be-strong-110/
LOCATION:Salón C – Ballet Escenario\, Calle Minerva #52\, Mayaguez\, 00680\, Puerto Rico
CATEGORIES:Stretch and BE Strong
END:VEVENT
BEGIN:VEVENT
DTSTART;TZID=America/Puerto_Rico:20260312T185000
DTEND;TZID=America/Puerto_Rico:20260312T195000
DTSTAMP:20260419T120714
CREATED:20260105T214325Z
LAST-MODIFIED:20260105T214422Z
UID:10004747-1773341400-1773345000@balletescenario.com
SUMMARY:Ballet II
DESCRIPTION:
URL:https://balletescenario.com/event/ballet-ii-67/
LOCATION:Salón A – Ballet Escenario\, 52 calle Minerva\, Mayaguez\, 00680\, Puerto Rico
CATEGORIES:Ballet
END:VEVENT
BEGIN:VEVENT
DTSTART;TZID=America/Puerto_Rico:20260312T185000
DTEND;TZID=America/Puerto_Rico:20260312T195000
DTSTAMP:20260419T120714
CREATED:20260105T221935Z
LAST-MODIFIED:20260105T222005Z
UID:10004759-1773341400-1773345000@balletescenario.com
SUMMARY:Salsa Pasos Libres Intermedio
DESCRIPTION:
URL:https://balletescenario.com/event/salsa-pasos-libres-intermedio-35/
LOCATION:Salón B – Ballet Escenario\, Calle Minerva #52\, Mayaguez\, 00680\, Puerto Rico
CATEGORIES:Salsa
END:VEVENT
BEGIN:VEVENT
DTSTART;TZID=America/Puerto_Rico:20260312T185000
DTEND;TZID=America/Puerto_Rico:20260312T195000
DTSTAMP:20260419T120714
CREATED:20260105T230608Z
LAST-MODIFIED:20260109T041442Z
UID:10004773-1773341400-1773345000@balletescenario.com
SUMMARY:Jr. Ballet jueves (7-10 años)
DESCRIPTION:
URL:https://balletescenario.com/event/jr-ballet-miercoles-7-10-anos-34/
LOCATION:Salón C – Ballet Escenario\, Calle Minerva #52\, Mayaguez\, 00680\, Puerto Rico
CATEGORIES:Ballet
END:VEVENT
BEGIN:VEVENT
DTSTART;TZID=America/Puerto_Rico:20260312T193000
DTEND;TZID=America/Puerto_Rico:20260312T203000
DTSTAMP:20260419T120714
CREATED:20260106T041814Z
LAST-MODIFIED:20260106T042110Z
UID:10004785-1773343800-1773347400@balletescenario.com
SUMMARY:Fitness Bootcamp by Andrés Pagán
DESCRIPTION:Reserva tu espacio y paga en la recepción al llegar – Costo $15.00 x Clase (Por persona)
URL:https://balletescenario.com/event/fitness-bootcamp-by-andres-pagan-70/
LOCATION:Salon D – Ballet Escenario\, Calle Minerva #52\, Mayaguez\, 00680\, Puerto Rico
END:VEVENT
BEGIN:VEVENT
DTSTART;TZID=America/Puerto_Rico:20260312T200000
DTEND;TZID=America/Puerto_Rico:20260312T210000
DTSTAMP:20260419T120714
CREATED:20260106T044409Z
LAST-MODIFIED:20260106T044445Z
UID:10004797-1773345600-1773349200@balletescenario.com
SUMMARY:Salsa Pasos Libres Avanzado
DESCRIPTION:
URL:https://balletescenario.com/event/salsa-pasos-libres-avanzado-35/
LOCATION:Salón A – Ballet Escenario\, 52 calle Minerva\, Mayaguez\, 00680\, Puerto Rico
CATEGORIES:Salsa
END:VEVENT
BEGIN:VEVENT
DTSTART;TZID=America/Puerto_Rico:20260313T160000
DTEND;TZID=America/Puerto_Rico:20260313T170000
DTSTAMP:20260419T120714
CREATED:20260107T044007Z
LAST-MODIFIED:20260107T044040Z
UID:10004815-1773417600-1773421200@balletescenario.com
SUMMARY:Ballet II
DESCRIPTION:
URL:https://balletescenario.com/event/ballet-ii-79/
LOCATION:Salón A – Ballet Escenario\, 52 calle Minerva\, Mayaguez\, 00680\, Puerto Rico
CATEGORIES:Ballet
END:VEVENT
BEGIN:VEVENT
DTSTART;TZID=America/Puerto_Rico:20260313T171000
DTEND;TZID=America/Puerto_Rico:20260313T181000
DTSTAMP:20260419T120714
CREATED:20260107T050106Z
LAST-MODIFIED:20260107T050138Z
UID:10004827-1773421800-1773425400@balletescenario.com
SUMMARY:Jr Ballet Nivel II
DESCRIPTION:
URL:https://balletescenario.com/event/jr-ballet-nivel-ii-34/
LOCATION:Salón A – Ballet Escenario\, 52 calle Minerva\, Mayaguez\, 00680\, Puerto Rico
CATEGORIES:Ballet
END:VEVENT
BEGIN:VEVENT
DTSTART;TZID=America/Puerto_Rico:20260313T171000
DTEND;TZID=America/Puerto_Rico:20260313T181000
DTSTAMP:20260419T120714
CREATED:20260107T051925Z
LAST-MODIFIED:20260107T051958Z
UID:10004839-1773421800-1773425400@balletescenario.com
SUMMARY:Stretch and BE Strong
DESCRIPTION:
URL:https://balletescenario.com/event/stretch-and-be-strong-122/
LOCATION:Salón B – Ballet Escenario\, Calle Minerva #52\, Mayaguez\, 00680\, Puerto Rico
CATEGORIES:Stretch and BE Strong
END:VEVENT
BEGIN:VEVENT
DTSTART;TZID=America/Puerto_Rico:20260313T182000
DTEND;TZID=America/Puerto_Rico:20260313T192000
DTSTAMP:20260419T120714
CREATED:20260107T055717Z
LAST-MODIFIED:20260107T055743Z
UID:10004863-1773426000-1773429600@balletescenario.com
SUMMARY:Urban Kids Viernes (5-10 años)
DESCRIPTION:
URL:https://balletescenario.com/event/urban-kids-viernes-5-10-anos-30/
LOCATION:Salón B – Ballet Escenario\, Calle Minerva #52\, Mayaguez\, 00680\, Puerto Rico
CATEGORIES:Urban Style
END:VEVENT
BEGIN:VEVENT
DTSTART;TZID=America/Puerto_Rico:20260313T182000
DTEND;TZID=America/Puerto_Rico:20260313T195000
DTSTAMP:20260419T120714
CREATED:20260107T053843Z
LAST-MODIFIED:20260107T053930Z
UID:10004851-1773426000-1773431400@balletescenario.com
SUMMARY:Ballet IV
DESCRIPTION:
URL:https://balletescenario.com/event/ballet-iv-76/
LOCATION:Salón A – Ballet Escenario\, 52 calle Minerva\, Mayaguez\, 00680\, Puerto Rico
CATEGORIES:Ballet
END:VEVENT
BEGIN:VEVENT
DTSTART;TZID=America/Puerto_Rico:20260314T100000
DTEND;TZID=America/Puerto_Rico:20260314T110000
DTSTAMP:20260419T120714
CREATED:20260107T202357Z
LAST-MODIFIED:20260107T202430Z
UID:10004875-1773482400-1773486000@balletescenario.com
SUMMARY:Jr. Ballet Sábado (7-10 años)
DESCRIPTION:
URL:https://balletescenario.com/event/jr-ballet-sabado-7-10-anos-33/
LOCATION:Salón A – Ballet Escenario\, 52 calle Minerva\, Mayaguez\, 00680\, Puerto Rico
CATEGORIES:Ballet
END:VEVENT
BEGIN:VEVENT
DTSTART;TZID=America/Puerto_Rico:20260314T100000
DTEND;TZID=America/Puerto_Rico:20260314T110000
DTSTAMP:20260419T120714
CREATED:20260107T204638Z
LAST-MODIFIED:20260107T204716Z
UID:10004887-1773482400-1773486000@balletescenario.com
SUMMARY:Pre Ballet Sábado (5-6 años)
DESCRIPTION:
URL:https://balletescenario.com/event/pre-ballet-sabado-5-6-anos-47/
LOCATION:Salón C – Ballet Escenario\, Calle Minerva #52\, Mayaguez\, 00680\, Puerto Rico
CATEGORIES:Ballet
END:VEVENT
BEGIN:VEVENT
DTSTART;TZID=America/Puerto_Rico:20260314T111000
DTEND;TZID=America/Puerto_Rico:20260314T121000
DTSTAMP:20260419T120714
CREATED:20260107T211353Z
LAST-MODIFIED:20260107T211426Z
UID:10004899-1773486600-1773490200@balletescenario.com
SUMMARY:Ballet V
DESCRIPTION:
URL:https://balletescenario.com/event/ballet-v-27/
LOCATION:Salón A – Ballet Escenario\, 52 calle Minerva\, Mayaguez\, 00680\, Puerto Rico
CATEGORIES:Ballet
END:VEVENT
BEGIN:VEVENT
DTSTART;TZID=America/Puerto_Rico:20260314T111000
DTEND;TZID=America/Puerto_Rico:20260314T121000
DTSTAMP:20260419T120714
CREATED:20260107T214034Z
LAST-MODIFIED:20260107T214107Z
UID:10004911-1773486600-1773490200@balletescenario.com
SUMMARY:Urban Kids Sábado (5-10 años)
DESCRIPTION:
URL:https://balletescenario.com/event/urban-kids-sabado-5-10-anos-33/
LOCATION:Salón B – Ballet Escenario\, Calle Minerva #52\, Mayaguez\, 00680\, Puerto Rico
CATEGORIES:Urban Style
END:VEVENT
BEGIN:VEVENT
DTSTART;TZID=America/Puerto_Rico:20260314T111000
DTEND;TZID=America/Puerto_Rico:20260314T121000
DTSTAMP:20260419T120714
CREATED:20260107T221455Z
LAST-MODIFIED:20260107T221528Z
UID:10004923-1773486600-1773490200@balletescenario.com
SUMMARY:Baby Ballet Sábado (3-4 años)
DESCRIPTION:
URL:https://balletescenario.com/event/baby-ballet-sabado-3-4-anos-27/
LOCATION:Salón C – Ballet Escenario\, Calle Minerva #52\, Mayaguez\, 00680\, Puerto Rico
CATEGORIES:Ballet
END:VEVENT
BEGIN:VEVENT
DTSTART;TZID=America/Puerto_Rico:20260314T122000
DTEND;TZID=America/Puerto_Rico:20260314T132000
DTSTAMP:20260419T120714
CREATED:20260107T223751Z
LAST-MODIFIED:20260107T223916Z
UID:10004935-1773490800-1773494400@balletescenario.com
SUMMARY:Puntas Variaciones
DESCRIPTION:
URL:https://balletescenario.com/event/puntas-variaciones-32/
LOCATION:Salón A – Ballet Escenario\, 52 calle Minerva\, Mayaguez\, 00680\, Puerto Rico
CATEGORIES:Ballet
END:VEVENT
BEGIN:VEVENT
DTSTART;TZID=America/Puerto_Rico:20260316T163000
DTEND;TZID=America/Puerto_Rico:20260316T173000
DTSTAMP:20260419T120714
CREATED:20251226T204551Z
LAST-MODIFIED:20251226T204645Z
UID:10004087-1773678600-1773682200@balletescenario.com
SUMMARY:Jr. Ballet - Lunes (7-10 años)
DESCRIPTION:
URL:https://balletescenario.com/event/jr-ballet-lunes-7-10-anos-34/
LOCATION:Salón A – Ballet Escenario\, 52 calle Minerva\, Mayaguez\, 00680\, Puerto Rico
CATEGORIES:Ballet
END:VEVENT
BEGIN:VEVENT
DTSTART;TZID=America/Puerto_Rico:20260316T163000
DTEND;TZID=America/Puerto_Rico:20260316T173000
DTSTAMP:20260419T120714
CREATED:20251228T063301Z
LAST-MODIFIED:20251228T063341Z
UID:10004156-1773678600-1773682200@balletescenario.com
SUMMARY:Pre Ballet Lunes (5-6 años)
DESCRIPTION:
URL:https://balletescenario.com/event/pre-ballet-lunes-5-6-anos-34/
LOCATION:Salón B – Ballet Escenario\, Calle Minerva #52\, Mayaguez\, 00680\, Puerto Rico
CATEGORIES:Ballet
END:VEVENT
BEGIN:VEVENT
DTSTART;TZID=America/Puerto_Rico:20260316T163000
DTEND;TZID=America/Puerto_Rico:20260316T173000
DTSTAMP:20260419T120714
CREATED:20251228T070335Z
LAST-MODIFIED:20251228T070408Z
UID:10004173-1773678600-1773682200@balletescenario.com
SUMMARY:Baby Ballet Lunes (3-4 años)
DESCRIPTION:
URL:https://balletescenario.com/event/baby-ballet-lunes-3-4-anos-34/
LOCATION:Salón C – Ballet Escenario\, Calle Minerva #52\, Mayaguez\, 00680\, Puerto Rico
CATEGORIES:Ballet
END:VEVENT
BEGIN:VEVENT
DTSTART;TZID=America/Puerto_Rico:20260316T174000
DTEND;TZID=America/Puerto_Rico:20260316T184000
DTSTAMP:20260419T120714
CREATED:20260101T235015Z
LAST-MODIFIED:20260101T235047Z
UID:10004466-1773682800-1773686400@balletescenario.com
SUMMARY:Puntas - Nivel Intermedio
DESCRIPTION:
URL:https://balletescenario.com/event/puntas-nivel-intermedio-36/
LOCATION:Salón A – Ballet Escenario\, 52 calle Minerva\, Mayaguez\, 00680\, Puerto Rico
CATEGORIES:Ballet
END:VEVENT
BEGIN:VEVENT
DTSTART;TZID=America/Puerto_Rico:20260316T174000
DTEND;TZID=America/Puerto_Rico:20260316T184000
DTSTAMP:20260419T120714
CREATED:20260102T001214Z
LAST-MODIFIED:20260102T001247Z
UID:10004478-1773682800-1773686400@balletescenario.com
SUMMARY:Salsa Kids Intermedio (5-12 años)
DESCRIPTION:
URL:https://balletescenario.com/event/salsa-kids-intermedio-5-12-anos-37/
LOCATION:Salón C – Ballet Escenario\, Calle Minerva #52\, Mayaguez\, 00680\, Puerto Rico
CATEGORIES:Salsa
END:VEVENT
BEGIN:VEVENT
DTSTART;TZID=America/Puerto_Rico:20260316T185000
DTEND;TZID=America/Puerto_Rico:20260316T195000
DTSTAMP:20260419T120714
CREATED:20260102T012645Z
LAST-MODIFIED:20260102T012738Z
UID:10004502-1773687000-1773690600@balletescenario.com
SUMMARY:Salsa Parejas Básico I - Rotando
DESCRIPTION:
URL:https://balletescenario.com/event/salsa-parejas-basico-i-rotando-20/
LOCATION:Salón B – Ballet Escenario\, Calle Minerva #52\, Mayaguez\, 00680\, Puerto Rico
CATEGORIES:Salsa
END:VEVENT
BEGIN:VEVENT
DTSTART;TZID=America/Puerto_Rico:20260316T185000
DTEND;TZID=America/Puerto_Rico:20260316T195000
DTSTAMP:20260419T120714
CREATED:20260102T015506Z
LAST-MODIFIED:20260102T015536Z
UID:10004516-1773687000-1773690600@balletescenario.com
SUMMARY:Salsa Pasos Libres Básico
DESCRIPTION:
URL:https://balletescenario.com/event/salsa-pasos-libres-basico-22/
LOCATION:Salón C – Ballet Escenario\, Calle Minerva #52\, Mayaguez\, 00680\, Puerto Rico
CATEGORIES:Salsa
END:VEVENT
BEGIN:VEVENT
DTSTART;TZID=America/Puerto_Rico:20260316T185000
DTEND;TZID=America/Puerto_Rico:20260316T202000
DTSTAMP:20260419T120714
CREATED:20260102T005527Z
LAST-MODIFIED:20260102T005624Z
UID:10004490-1773687000-1773692400@balletescenario.com
SUMMARY:Ballet IV
DESCRIPTION:
URL:https://balletescenario.com/event/ballet-iv-65/
LOCATION:Salón A – Ballet Escenario\, 52 calle Minerva\, Mayaguez\, 00680\, Puerto Rico
CATEGORIES:Ballet
END:VEVENT
BEGIN:VEVENT
DTSTART;TZID=America/Puerto_Rico:20260317T163000
DTEND;TZID=America/Puerto_Rico:20260317T180000
DTSTAMP:20260419T120714
CREATED:20251229T224118Z
LAST-MODIFIED:20251229T224235Z
UID:10004352-1773765000-1773770400@balletescenario.com
SUMMARY:Ballet III
DESCRIPTION:
URL:https://balletescenario.com/event/ballet-iii-61/
LOCATION:Salón A – Ballet Escenario\, 52 calle Minerva\, Mayaguez\, 00680\, Puerto Rico
CATEGORIES:Ballet
END:VEVENT
BEGIN:VEVENT
DTSTART;TZID=America/Puerto_Rico:20260317T170000
DTEND;TZID=America/Puerto_Rico:20260317T180000
DTSTAMP:20260419T120714
CREATED:20260103T045046Z
LAST-MODIFIED:20260103T045046Z
UID:10004540-1773766800-1773770400@balletescenario.com
SUMMARY:Salsa Kids Básico (5-12 años)
DESCRIPTION:
URL:https://balletescenario.com/event/salsa-kids-basico-5-12-anos-33/
LOCATION:Salón B – Ballet Escenario\, Calle Minerva #52\, Mayaguez\, 00680\, Puerto Rico
CATEGORIES:Salsa
END:VEVENT
END:VCALENDAR