BEGIN:VCALENDAR
VERSION:2.0
PRODID:-//Ballet Escenario - ECPv6.15.20//NONSGML v1.0//EN
CALSCALE:GREGORIAN
METHOD:PUBLISH
X-ORIGINAL-URL:https://balletescenario.com
X-WR-CALDESC:Events for Ballet Escenario
REFRESH-INTERVAL;VALUE=DURATION:PT1H
X-Robots-Tag:noindex
X-PUBLISHED-TTL:PT1H
BEGIN:VTIMEZONE
TZID:America/Puerto_Rico
BEGIN:STANDARD
TZOFFSETFROM:-0400
TZOFFSETTO:-0400
TZNAME:AST
DTSTART:20250101T000000
END:STANDARD
END:VTIMEZONE
BEGIN:VEVENT
DTSTART;TZID=America/Puerto_Rico:20260303T163000
DTEND;TZID=America/Puerto_Rico:20260303T180000
DTSTAMP:20260419T094419
CREATED:20251229T223836Z
LAST-MODIFIED:20251229T223916Z
UID:10004350-1772555400-1772560800@balletescenario.com
SUMMARY:Ballet III
DESCRIPTION:
URL:https://balletescenario.com/event/ballet-iii-56/
LOCATION:Salón A – Ballet Escenario\, 52 calle Minerva\, Mayaguez\, 00680\, Puerto Rico
CATEGORIES:Ballet
END:VEVENT
BEGIN:VEVENT
DTSTART;TZID=America/Puerto_Rico:20260303T170000
DTEND;TZID=America/Puerto_Rico:20260303T180000
DTSTAMP:20260419T094419
CREATED:20260103T044708Z
LAST-MODIFIED:20260103T044823Z
UID:10004538-1772557200-1772560800@balletescenario.com
SUMMARY:Salsa Kids Básico (5-12 años)
DESCRIPTION:
URL:https://balletescenario.com/event/salsa-kids-basico-5-12-anos-31/
LOCATION:Salón B – Ballet Escenario\, Calle Minerva #52\, Mayaguez\, 00680\, Puerto Rico
CATEGORIES:Salsa
END:VEVENT
BEGIN:VEVENT
DTSTART;TZID=America/Puerto_Rico:20260303T170000
DTEND;TZID=America/Puerto_Rico:20260303T180000
DTSTAMP:20260419T094419
CREATED:20260103T051405Z
LAST-MODIFIED:20260103T051437Z
UID:10004550-1772557200-1772560800@balletescenario.com
SUMMARY:Baby Ballet Martes (3-4 años)
DESCRIPTION:
URL:https://balletescenario.com/event/baby-ballet-martes-3-4-anos-5/
LOCATION:Salón C – Ballet Escenario\, Calle Minerva #52\, Mayaguez\, 00680\, Puerto Rico
CATEGORIES:Ballet
END:VEVENT
BEGIN:VEVENT
DTSTART;TZID=America/Puerto_Rico:20260303T181000
DTEND;TZID=America/Puerto_Rico:20260303T191000
DTSTAMP:20260419T094419
CREATED:20260103T053436Z
LAST-MODIFIED:20260103T053511Z
UID:10004562-1772561400-1772565000@balletescenario.com
SUMMARY:Pre Puntas
DESCRIPTION:
URL:https://balletescenario.com/event/pre-puntas-28/
LOCATION:Salón A – Ballet Escenario\, 52 calle Minerva\, Mayaguez\, 00680\, Puerto Rico
CATEGORIES:Ballet
END:VEVENT
BEGIN:VEVENT
DTSTART;TZID=America/Puerto_Rico:20260303T181000
DTEND;TZID=America/Puerto_Rico:20260303T191000
DTSTAMP:20260419T094419
CREATED:20260103T055427Z
LAST-MODIFIED:20260103T055507Z
UID:10004574-1772561400-1772565000@balletescenario.com
SUMMARY:Urban Style For Teens (11+)
DESCRIPTION:
URL:https://balletescenario.com/event/urban-style-for-teens-11-5/
LOCATION:Salón B – Ballet Escenario\, Calle Minerva #52\, Mayaguez\, 00680\, Puerto Rico
CATEGORIES:Urban Style
END:VEVENT
BEGIN:VEVENT
DTSTART;TZID=America/Puerto_Rico:20260303T181000
DTEND;TZID=America/Puerto_Rico:20260303T191000
DTSTAMP:20260419T094419
CREATED:20260103T061757Z
LAST-MODIFIED:20260103T061825Z
UID:10004586-1772561400-1772565000@balletescenario.com
SUMMARY:Stretch and BE Strong
DESCRIPTION:
URL:https://balletescenario.com/event/stretch-and-be-strong-15/
LOCATION:Salón C – Ballet Escenario\, Calle Minerva #52\, Mayaguez\, 00680\, Puerto Rico
CATEGORIES:Stretch and BE Strong
END:VEVENT
BEGIN:VEVENT
DTSTART;TZID=America/Puerto_Rico:20260303T192000
DTEND;TZID=America/Puerto_Rico:20260303T202000
DTSTAMP:20260419T094419
CREATED:20260103T064255Z
LAST-MODIFIED:20260103T064356Z
UID:10004599-1772565600-1772569200@balletescenario.com
SUMMARY:Ballet Adultos Ex-Bailarines
DESCRIPTION:
URL:https://balletescenario.com/event/ballet-adultos-ex-bailarines-9/
LOCATION:Salón A – Ballet Escenario\, 52 calle Minerva\, Mayaguez\, 00680\, Puerto Rico
CATEGORIES:Ballet
END:VEVENT
BEGIN:VEVENT
DTSTART;TZID=America/Puerto_Rico:20260303T192000
DTEND;TZID=America/Puerto_Rico:20260303T202000
DTSTAMP:20260419T094419
CREATED:20260103T070415Z
LAST-MODIFIED:20260103T070445Z
UID:10004611-1772565600-1772569200@balletescenario.com
SUMMARY:Ballet I (11-17 años)
DESCRIPTION:
URL:https://balletescenario.com/event/ballet-i-11-17-anos-5/
LOCATION:Salón C – Ballet Escenario\, Calle Minerva #52\, Mayaguez\, 00680\, Puerto Rico
CATEGORIES:Ballet
END:VEVENT
BEGIN:VEVENT
DTSTART;TZID=America/Puerto_Rico:20260304T163000
DTEND;TZID=America/Puerto_Rico:20260304T173000
DTSTAMP:20260419T094419
CREATED:20251228T233126Z
LAST-MODIFIED:20251228T233207Z
UID:10004192-1772641800-1772645400@balletescenario.com
SUMMARY:Acrobacia Continuación
DESCRIPTION:
URL:https://balletescenario.com/event/acrobacia-continuacion-35/
LOCATION:Salón A – Ballet Escenario\, 52 calle Minerva\, Mayaguez\, 00680\, Puerto Rico
CATEGORIES:Acrobacia
END:VEVENT
BEGIN:VEVENT
DTSTART;TZID=America/Puerto_Rico:20260304T174000
DTEND;TZID=America/Puerto_Rico:20260304T191000
DTSTAMP:20260419T094419
CREATED:20260104T044330Z
LAST-MODIFIED:20260104T044412Z
UID:10004635-1772646000-1772651400@balletescenario.com
SUMMARY:Puntas Avanzado
DESCRIPTION:
URL:https://balletescenario.com/event/puntas-avanzado-5/
LOCATION:Salón A – Ballet Escenario\, 52 calle Minerva\, Mayaguez\, 00680\, Puerto Rico
CATEGORIES:Ballet
END:VEVENT
BEGIN:VEVENT
DTSTART;TZID=America/Puerto_Rico:20260304T181000
DTEND;TZID=America/Puerto_Rico:20260304T191000
DTSTAMP:20260419T094419
CREATED:20260104T050859Z
LAST-MODIFIED:20260104T050932Z
UID:10004648-1772647800-1772651400@balletescenario.com
SUMMARY:Pre Ballet Miércoles (5-6 años)
DESCRIPTION:
URL:https://balletescenario.com/event/pre-ballet-miercoles-5-6-anos-5/
LOCATION:Salón C – Ballet Escenario\, Calle Minerva #52\, Mayaguez\, 00680\, Puerto Rico
CATEGORIES:Ballet
END:VEVENT
BEGIN:VEVENT
DTSTART;TZID=America/Puerto_Rico:20260304T192000
DTEND;TZID=America/Puerto_Rico:20260304T202000
DTSTAMP:20260419T094419
CREATED:20260104T053554Z
LAST-MODIFIED:20260104T053628Z
UID:10004660-1772652000-1772655600@balletescenario.com
SUMMARY:Ballet Adultos Principiantes
DESCRIPTION:
URL:https://balletescenario.com/event/ballet-adultos-principiantes-5/
LOCATION:Salón A – Ballet Escenario\, 52 calle Minerva\, Mayaguez\, 00680\, Puerto Rico
CATEGORIES:Ballet
END:VEVENT
BEGIN:VEVENT
DTSTART;TZID=America/Puerto_Rico:20260304T192000
DTEND;TZID=America/Puerto_Rico:20260304T202000
DTSTAMP:20260419T094419
CREATED:20260104T060056Z
LAST-MODIFIED:20260127T154126Z
UID:10004672-1772652000-1772655600@balletescenario.com
SUMMARY:Salsa Parejas Básico On - 1
DESCRIPTION:NOTA: Para esta clase\, puede elegir entre dos opciones: \n– Estudiante Individual: Si asiste solo\, debe comprar un boleto de esta categoría. \n– Solo Para Parejas: Si asiste con una pareja o acompañante\, debe comprar dos boletos de esta categoría para un total a pagar de $15.00. \nImportante: Si compra boletos de la categoría “Solo Para Parejas” pero asiste solo\, se le cobrará la diferencia de precio antes de poder ingresar a la clase. \nPara más información\, comuníquese al 787-402-6350.
URL:https://balletescenario.com/event/salsa-parejas-basico-on-1-5/
LOCATION:Salón B – Ballet Escenario\, Calle Minerva #52\, Mayaguez\, 00680\, Puerto Rico
CATEGORIES:Salsa
END:VEVENT
BEGIN:VEVENT
DTSTART;TZID=America/Puerto_Rico:20260304T203000
DTEND;TZID=America/Puerto_Rico:20260304T213000
DTSTAMP:20260419T094419
CREATED:20260104T062215Z
LAST-MODIFIED:20260104T062252Z
UID:10004684-1772656200-1772659800@balletescenario.com
SUMMARY:Salsa Parejas Básico II - Rotando
DESCRIPTION:NOTA: Para esta clase\, puede elegir entre dos opciones: \n– Estudiante Individual: Si asiste solo\, debe comprar un boleto de esta categoría. \n– Solo Para Parejas: Si asiste con una pareja o acompañante\, debe comprar dos boletos de esta categoría para un total a pagar de $15.00. \nImportante: Si compra boletos de la categoría “Solo Para Parejas” pero asiste solo\, se le cobrará la diferencia de precio antes de poder ingresar a la clase. \nPara más información\, comuníquese al 787-402-6350.
URL:https://balletescenario.com/event/salsa-parejas-basico-ii-rotando-5/
LOCATION:Salón B – Ballet Escenario\, Calle Minerva #52\, Mayaguez\, 00680\, Puerto Rico
CATEGORIES:Salsa
END:VEVENT
BEGIN:VEVENT
DTSTART;TZID=America/Puerto_Rico:20260305T163000
DTEND;TZID=America/Puerto_Rico:20260305T173000
DTSTAMP:20260419T094419
CREATED:20260105T010205Z
LAST-MODIFIED:20260105T010314Z
UID:10004696-1772728200-1772731800@balletescenario.com
SUMMARY:Jazz Lírico Kids (7-12 años)
DESCRIPTION:
URL:https://balletescenario.com/event/jazz-lirico-kids-7-12-anos-31/
LOCATION:Salón B – Ballet Escenario\, Calle Minerva #52\, Mayaguez\, 00680\, Puerto Rico
CATEGORIES:Jazz Lírico
END:VEVENT
BEGIN:VEVENT
DTSTART;TZID=America/Puerto_Rico:20260305T174000
DTEND;TZID=America/Puerto_Rico:20260305T184000
DTSTAMP:20260419T094419
CREATED:20260105T013949Z
LAST-MODIFIED:20260105T014022Z
UID:10004709-1772732400-1772736000@balletescenario.com
SUMMARY:Principios de Acrobacia (7 años+)
DESCRIPTION:
URL:https://balletescenario.com/event/principios-de-acrobacia-7-anos-5/
LOCATION:Salón A – Ballet Escenario\, 52 calle Minerva\, Mayaguez\, 00680\, Puerto Rico
CATEGORIES:Acrobacia
END:VEVENT
BEGIN:VEVENT
DTSTART;TZID=America/Puerto_Rico:20260305T174000
DTEND;TZID=America/Puerto_Rico:20260305T184000
DTSTAMP:20260419T094419
CREATED:20260105T020305Z
LAST-MODIFIED:20260105T020437Z
UID:10004722-1772732400-1772736000@balletescenario.com
SUMMARY:Salsa Kids Avanzado (5-12 años)
DESCRIPTION:
URL:https://balletescenario.com/event/salsa-kids-avanzado-5-12-anos-5/
LOCATION:Salón B – Ballet Escenario\, Calle Minerva #52\, Mayaguez\, 00680\, Puerto Rico
CATEGORIES:Salsa
END:VEVENT
BEGIN:VEVENT
DTSTART;TZID=America/Puerto_Rico:20260305T174000
DTEND;TZID=America/Puerto_Rico:20260305T184000
DTSTAMP:20260419T094419
CREATED:20260105T212015Z
LAST-MODIFIED:20260105T212050Z
UID:10004734-1772732400-1772736000@balletescenario.com
SUMMARY:Stretch and BE Strong
DESCRIPTION:
URL:https://balletescenario.com/event/stretch-and-be-strong-5/
LOCATION:Salón C – Ballet Escenario\, Calle Minerva #52\, Mayaguez\, 00680\, Puerto Rico
CATEGORIES:Stretch and BE Strong
END:VEVENT
BEGIN:VEVENT
DTSTART;TZID=America/Puerto_Rico:20260305T185000
DTEND;TZID=America/Puerto_Rico:20260305T195000
DTSTAMP:20260419T094419
CREATED:20260105T214155Z
LAST-MODIFIED:20260105T214236Z
UID:10004746-1772736600-1772740200@balletescenario.com
SUMMARY:Ballet II
DESCRIPTION:
URL:https://balletescenario.com/event/ballet-ii-7/
LOCATION:Salón A – Ballet Escenario\, 52 calle Minerva\, Mayaguez\, 00680\, Puerto Rico
CATEGORIES:Ballet
END:VEVENT
BEGIN:VEVENT
DTSTART;TZID=America/Puerto_Rico:20260305T185000
DTEND;TZID=America/Puerto_Rico:20260305T195000
DTSTAMP:20260419T094419
CREATED:20260105T230430Z
LAST-MODIFIED:20260109T041209Z
UID:10004772-1772736600-1772740200@balletescenario.com
SUMMARY:Jr. Ballet jueves (7-10 años)
DESCRIPTION:
URL:https://balletescenario.com/event/jr-ballet-miercoles-7-10-anos-5/
LOCATION:Salón C – Ballet Escenario\, Calle Minerva #52\, Mayaguez\, 00680\, Puerto Rico
CATEGORIES:Ballet
END:VEVENT
BEGIN:VEVENT
DTSTART;TZID=America/Puerto_Rico:20260305T193000
DTEND;TZID=America/Puerto_Rico:20260305T203000
DTSTAMP:20260419T094419
CREATED:20260106T041637Z
LAST-MODIFIED:20260106T041712Z
UID:10004784-1772739000-1772742600@balletescenario.com
SUMMARY:Fitness Bootcamp by Andrés Pagán
DESCRIPTION:Reserva tu espacio y paga en la recepción al llegar – Costo $15.00 x Clase (Por persona)
URL:https://balletescenario.com/event/fitness-bootcamp-by-andres-pagan-16/
LOCATION:Salon D – Ballet Escenario\, Calle Minerva #52\, Mayaguez\, 00680\, Puerto Rico
END:VEVENT
BEGIN:VEVENT
DTSTART;TZID=America/Puerto_Rico:20260305T200000
DTEND;TZID=America/Puerto_Rico:20260305T210000
DTSTAMP:20260419T094419
CREATED:20260106T044235Z
LAST-MODIFIED:20260106T044324Z
UID:10004796-1772740800-1772744400@balletescenario.com
SUMMARY:Salsa Pasos Libres Avanzado
DESCRIPTION:
URL:https://balletescenario.com/event/salsa-pasos-libres-avanzado-5/
LOCATION:Salón A – Ballet Escenario\, 52 calle Minerva\, Mayaguez\, 00680\, Puerto Rico
CATEGORIES:Salsa
END:VEVENT
BEGIN:VEVENT
DTSTART;TZID=America/Puerto_Rico:20260306T160000
DTEND;TZID=America/Puerto_Rico:20260306T170000
DTSTAMP:20260419T094419
CREATED:20260107T043841Z
LAST-MODIFIED:20260107T043919Z
UID:10004814-1772812800-1772816400@balletescenario.com
SUMMARY:Ballet II
DESCRIPTION:
URL:https://balletescenario.com/event/ballet-ii-78/
LOCATION:Salón A – Ballet Escenario\, 52 calle Minerva\, Mayaguez\, 00680\, Puerto Rico
CATEGORIES:Ballet
END:VEVENT
BEGIN:VEVENT
DTSTART;TZID=America/Puerto_Rico:20260306T171000
DTEND;TZID=America/Puerto_Rico:20260306T181000
DTSTAMP:20260419T094419
CREATED:20260107T045952Z
LAST-MODIFIED:20260107T050028Z
UID:10004826-1772817000-1772820600@balletescenario.com
SUMMARY:Jr Ballet Nivel II
DESCRIPTION:
URL:https://balletescenario.com/event/jr-ballet-nivel-ii-33/
LOCATION:Salón A – Ballet Escenario\, 52 calle Minerva\, Mayaguez\, 00680\, Puerto Rico
CATEGORIES:Ballet
END:VEVENT
BEGIN:VEVENT
DTSTART;TZID=America/Puerto_Rico:20260306T171000
DTEND;TZID=America/Puerto_Rico:20260306T181000
DTSTAMP:20260419T094419
CREATED:20260107T051751Z
LAST-MODIFIED:20260107T051851Z
UID:10004838-1772817000-1772820600@balletescenario.com
SUMMARY:Stretch and BE Strong
DESCRIPTION:
URL:https://balletescenario.com/event/stretch-and-be-strong-121/
LOCATION:Salón B – Ballet Escenario\, Calle Minerva #52\, Mayaguez\, 00680\, Puerto Rico
CATEGORIES:Stretch and BE Strong
END:VEVENT
BEGIN:VEVENT
DTSTART;TZID=America/Puerto_Rico:20260306T182000
DTEND;TZID=America/Puerto_Rico:20260306T192000
DTSTAMP:20260419T094419
CREATED:20260107T055606Z
LAST-MODIFIED:20260107T055636Z
UID:10004862-1772821200-1772824800@balletescenario.com
SUMMARY:Urban Kids Viernes (5-10 años)
DESCRIPTION:
URL:https://balletescenario.com/event/urban-kids-viernes-5-10-anos-29/
LOCATION:Salón B – Ballet Escenario\, Calle Minerva #52\, Mayaguez\, 00680\, Puerto Rico
CATEGORIES:Urban Style
END:VEVENT
BEGIN:VEVENT
DTSTART;TZID=America/Puerto_Rico:20260306T182000
DTEND;TZID=America/Puerto_Rico:20260306T195000
DTSTAMP:20260419T094419
CREATED:20260107T053732Z
LAST-MODIFIED:20260107T053806Z
UID:10004850-1772821200-1772826600@balletescenario.com
SUMMARY:Ballet IV
DESCRIPTION:
URL:https://balletescenario.com/event/ballet-iv-75/
LOCATION:Salón A – Ballet Escenario\, 52 calle Minerva\, Mayaguez\, 00680\, Puerto Rico
CATEGORIES:Ballet
END:VEVENT
BEGIN:VEVENT
DTSTART;TZID=America/Puerto_Rico:20260307T100000
DTEND;TZID=America/Puerto_Rico:20260307T110000
DTSTAMP:20260419T094419
CREATED:20260107T202230Z
LAST-MODIFIED:20260107T202318Z
UID:10004874-1772877600-1772881200@balletescenario.com
SUMMARY:Jr. Ballet Sábado (7-10 años)
DESCRIPTION:
URL:https://balletescenario.com/event/jr-ballet-sabado-7-10-anos-21/
LOCATION:Salón A – Ballet Escenario\, 52 calle Minerva\, Mayaguez\, 00680\, Puerto Rico
CATEGORIES:Ballet
END:VEVENT
BEGIN:VEVENT
DTSTART;TZID=America/Puerto_Rico:20260307T100000
DTEND;TZID=America/Puerto_Rico:20260307T110000
DTSTAMP:20260419T094419
CREATED:20260107T204500Z
LAST-MODIFIED:20260107T204558Z
UID:10004886-1772877600-1772881200@balletescenario.com
SUMMARY:Pre Ballet Sábado (5-6 años)
DESCRIPTION:
URL:https://balletescenario.com/event/pre-ballet-sabado-5-6-anos-21/
LOCATION:Salón C – Ballet Escenario\, Calle Minerva #52\, Mayaguez\, 00680\, Puerto Rico
CATEGORIES:Ballet
END:VEVENT
BEGIN:VEVENT
DTSTART;TZID=America/Puerto_Rico:20260307T111000
DTEND;TZID=America/Puerto_Rico:20260307T121000
DTSTAMP:20260419T094419
CREATED:20260107T213915Z
LAST-MODIFIED:20260107T213950Z
UID:10004910-1772881800-1772885400@balletescenario.com
SUMMARY:Urban Kids Sábado (5-10 años)
DESCRIPTION:
URL:https://balletescenario.com/event/urban-kids-sabado-5-10-anos-27/
LOCATION:Salón B – Ballet Escenario\, Calle Minerva #52\, Mayaguez\, 00680\, Puerto Rico
CATEGORIES:Urban Style
END:VEVENT
END:VCALENDAR