BEGIN:VCALENDAR
VERSION:2.0
PRODID:-//Ballet Escenario - ECPv6.15.20//NONSGML v1.0//EN
CALSCALE:GREGORIAN
METHOD:PUBLISH
X-ORIGINAL-URL:https://balletescenario.com
X-WR-CALDESC:Events for Ballet Escenario
REFRESH-INTERVAL;VALUE=DURATION:PT1H
X-Robots-Tag:noindex
X-PUBLISHED-TTL:PT1H
BEGIN:VTIMEZONE
TZID:America/Puerto_Rico
BEGIN:STANDARD
TZOFFSETFROM:-0400
TZOFFSETTO:-0400
TZNAME:AST
DTSTART:20250101T000000
END:STANDARD
END:VTIMEZONE
BEGIN:VEVENT
DTSTART;TZID=America/Puerto_Rico:20260504T163000
DTEND;TZID=America/Puerto_Rico:20260504T173000
DTSTAMP:20260419T105023
CREATED:20251228T064216Z
LAST-MODIFIED:20251228T064249Z
UID:10004162-1777912200-1777915800@balletescenario.com
SUMMARY:Pre Ballet Lunes (5-6 años)
DESCRIPTION:
URL:https://balletescenario.com/event/pre-ballet-lunes-5-6-anos-40/
LOCATION:Salón B – Ballet Escenario\, Calle Minerva #52\, Mayaguez\, 00680\, Puerto Rico
CATEGORIES:Ballet
END:VEVENT
BEGIN:VEVENT
DTSTART;TZID=America/Puerto_Rico:20260504T163000
DTEND;TZID=America/Puerto_Rico:20260504T173000
DTSTAMP:20260419T105023
CREATED:20251228T071547Z
LAST-MODIFIED:20251228T071621Z
UID:10004179-1777912200-1777915800@balletescenario.com
SUMMARY:Baby Ballet Lunes (3-4 años)
DESCRIPTION:
URL:https://balletescenario.com/event/baby-ballet-lunes-3-4-anos-40/
LOCATION:Salón C – Ballet Escenario\, Calle Minerva #52\, Mayaguez\, 00680\, Puerto Rico
CATEGORIES:Ballet
END:VEVENT
BEGIN:VEVENT
DTSTART;TZID=America/Puerto_Rico:20260504T174000
DTEND;TZID=America/Puerto_Rico:20260504T184000
DTSTAMP:20260419T105023
CREATED:20260101T235916Z
LAST-MODIFIED:20260102T000054Z
UID:10004472-1777916400-1777920000@balletescenario.com
SUMMARY:Puntas - Nivel Intermedio
DESCRIPTION:
URL:https://balletescenario.com/event/puntas-nivel-intermedio-42/
LOCATION:Salón A – Ballet Escenario\, 52 calle Minerva\, Mayaguez\, 00680\, Puerto Rico
CATEGORIES:Ballet
END:VEVENT
BEGIN:VEVENT
DTSTART;TZID=America/Puerto_Rico:20260504T174000
DTEND;TZID=America/Puerto_Rico:20260504T184000
DTSTAMP:20260419T105023
CREATED:20260102T003441Z
LAST-MODIFIED:20260102T003627Z
UID:10004484-1777916400-1777920000@balletescenario.com
SUMMARY:Salsa Kids Intermedio (5-12 años)
DESCRIPTION:
URL:https://balletescenario.com/event/salsa-kids-intermedio-5-12-anos-43/
LOCATION:Salón C – Ballet Escenario\, Calle Minerva #52\, Mayaguez\, 00680\, Puerto Rico
CATEGORIES:Salsa
END:VEVENT
BEGIN:VEVENT
DTSTART;TZID=America/Puerto_Rico:20260504T185000
DTEND;TZID=America/Puerto_Rico:20260504T195000
DTSTAMP:20260419T105023
CREATED:20260102T013858Z
LAST-MODIFIED:20260102T013931Z
UID:10004509-1777920600-1777924200@balletescenario.com
SUMMARY:Salsa Parejas Básico I - Rotando
DESCRIPTION:
URL:https://balletescenario.com/event/salsa-parejas-basico-i-rotando-40/
LOCATION:Salón B – Ballet Escenario\, Calle Minerva #52\, Mayaguez\, 00680\, Puerto Rico
CATEGORIES:Salsa
END:VEVENT
BEGIN:VEVENT
DTSTART;TZID=America/Puerto_Rico:20260504T185000
DTEND;TZID=America/Puerto_Rico:20260504T195000
DTSTAMP:20260419T105023
CREATED:20260102T020249Z
LAST-MODIFIED:20260102T020317Z
UID:10004522-1777920600-1777924200@balletescenario.com
SUMMARY:Salsa Pasos Libres Básico
DESCRIPTION:
URL:https://balletescenario.com/event/salsa-pasos-libres-basico-37/
LOCATION:Salón C – Ballet Escenario\, Calle Minerva #52\, Mayaguez\, 00680\, Puerto Rico
CATEGORIES:Salsa
END:VEVENT
BEGIN:VEVENT
DTSTART;TZID=America/Puerto_Rico:20260504T185000
DTEND;TZID=America/Puerto_Rico:20260504T202000
DTSTAMP:20260419T105023
CREATED:20260102T010519Z
LAST-MODIFIED:20260102T010626Z
UID:10004496-1777920600-1777926000@balletescenario.com
SUMMARY:Ballet IV
DESCRIPTION:
URL:https://balletescenario.com/event/ballet-iv-71/
LOCATION:Salón A – Ballet Escenario\, 52 calle Minerva\, Mayaguez\, 00680\, Puerto Rico
CATEGORIES:Ballet
END:VEVENT
BEGIN:VEVENT
DTSTART;TZID=America/Puerto_Rico:20260504T193000
DTEND;TZID=America/Puerto_Rico:20260504T203000
DTSTAMP:20260419T105023
CREATED:20260102T023328Z
LAST-MODIFIED:20260102T023404Z
UID:10004534-1777923000-1777926600@balletescenario.com
SUMMARY:Fitness Bootcamp by Andrés Pagán
DESCRIPTION:Reserva tu espacio y paga en la recepción al llegar – Costo $15.00 x Clase (Por persona)
URL:https://balletescenario.com/event/fitness-bootcamp-by-andres-pagan-66/
LOCATION:Salon D – Ballet Escenario\, Calle Minerva #52\, Mayaguez\, 00680\, Puerto Rico
END:VEVENT
BEGIN:VEVENT
DTSTART;TZID=America/Puerto_Rico:20260505T163000
DTEND;TZID=America/Puerto_Rico:20260505T180000
DTSTAMP:20260419T105023
CREATED:20251229T225138Z
LAST-MODIFIED:20251229T225211Z
UID:10004358-1777998600-1778004000@balletescenario.com
SUMMARY:Ballet III
DESCRIPTION:
URL:https://balletescenario.com/event/ballet-iii-67/
LOCATION:Salón A – Ballet Escenario\, 52 calle Minerva\, Mayaguez\, 00680\, Puerto Rico
CATEGORIES:Ballet
END:VEVENT
BEGIN:VEVENT
DTSTART;TZID=America/Puerto_Rico:20260505T170000
DTEND;TZID=America/Puerto_Rico:20260505T180000
DTSTAMP:20260419T105023
CREATED:20260103T050511Z
LAST-MODIFIED:20260103T050542Z
UID:10004546-1778000400-1778004000@balletescenario.com
SUMMARY:Salsa Kids Básico (5-12 años)
DESCRIPTION:
URL:https://balletescenario.com/event/salsa-kids-basico-5-12-anos-46/
LOCATION:Salón B – Ballet Escenario\, Calle Minerva #52\, Mayaguez\, 00680\, Puerto Rico
CATEGORIES:Salsa
END:VEVENT
BEGIN:VEVENT
DTSTART;TZID=America/Puerto_Rico:20260505T170000
DTEND;TZID=America/Puerto_Rico:20260505T180000
DTSTAMP:20260419T105023
CREATED:20260103T052434Z
LAST-MODIFIED:20260103T052509Z
UID:10004558-1778000400-1778004000@balletescenario.com
SUMMARY:Baby Ballet Martes (3-4 años)
DESCRIPTION:
URL:https://balletescenario.com/event/baby-ballet-martes-3-4-anos-39/
LOCATION:Salón C – Ballet Escenario\, Calle Minerva #52\, Mayaguez\, 00680\, Puerto Rico
CATEGORIES:Ballet
END:VEVENT
BEGIN:VEVENT
DTSTART;TZID=America/Puerto_Rico:20260505T181000
DTEND;TZID=America/Puerto_Rico:20260505T191000
DTSTAMP:20260419T105023
CREATED:20260103T054512Z
LAST-MODIFIED:20260103T054548Z
UID:10004570-1778004600-1778008200@balletescenario.com
SUMMARY:Pre Puntas
DESCRIPTION:
URL:https://balletescenario.com/event/pre-puntas-36/
LOCATION:Salón A – Ballet Escenario\, 52 calle Minerva\, Mayaguez\, 00680\, Puerto Rico
CATEGORIES:Ballet
END:VEVENT
BEGIN:VEVENT
DTSTART;TZID=America/Puerto_Rico:20260505T181000
DTEND;TZID=America/Puerto_Rico:20260505T191000
DTSTAMP:20260419T105023
CREATED:20260103T060655Z
LAST-MODIFIED:20260103T060724Z
UID:10004582-1778004600-1778008200@balletescenario.com
SUMMARY:Urban Style For Teens (11+)
DESCRIPTION:
URL:https://balletescenario.com/event/urban-style-for-teens-11-39/
LOCATION:Salón B – Ballet Escenario\, Calle Minerva #52\, Mayaguez\, 00680\, Puerto Rico
CATEGORIES:Urban Style
END:VEVENT
BEGIN:VEVENT
DTSTART;TZID=America/Puerto_Rico:20260505T181000
DTEND;TZID=America/Puerto_Rico:20260505T191000
DTSTAMP:20260419T105023
CREATED:20260103T062745Z
LAST-MODIFIED:20260103T062818Z
UID:10004594-1778004600-1778008200@balletescenario.com
SUMMARY:Stretch and BE Strong
DESCRIPTION:
URL:https://balletescenario.com/event/stretch-and-be-strong-106/
LOCATION:Salón C – Ballet Escenario\, Calle Minerva #52\, Mayaguez\, 00680\, Puerto Rico
CATEGORIES:Stretch and BE Strong
END:VEVENT
BEGIN:VEVENT
DTSTART;TZID=America/Puerto_Rico:20260505T192000
DTEND;TZID=America/Puerto_Rico:20260505T202000
DTSTAMP:20260419T105023
CREATED:20260103T065608Z
LAST-MODIFIED:20260103T065641Z
UID:10004607-1778008800-1778012400@balletescenario.com
SUMMARY:Ballet Adultos Ex-Bailarines
DESCRIPTION:
URL:https://balletescenario.com/event/ballet-adultos-ex-bailarines-43/
LOCATION:Salón A – Ballet Escenario\, 52 calle Minerva\, Mayaguez\, 00680\, Puerto Rico
CATEGORIES:Ballet
END:VEVENT
BEGIN:VEVENT
DTSTART;TZID=America/Puerto_Rico:20260505T192000
DTEND;TZID=America/Puerto_Rico:20260505T202000
DTSTAMP:20260419T105023
CREATED:20260103T071548Z
LAST-MODIFIED:20260103T071655Z
UID:10004619-1778008800-1778012400@balletescenario.com
SUMMARY:Ballet I (11-17 años)
DESCRIPTION:
URL:https://balletescenario.com/event/ballet-i-11-17-anos-43/
LOCATION:Salón C – Ballet Escenario\, Calle Minerva #52\, Mayaguez\, 00680\, Puerto Rico
CATEGORIES:Ballet
END:VEVENT
BEGIN:VEVENT
DTSTART;TZID=America/Puerto_Rico:20260505T203000
DTEND;TZID=America/Puerto_Rico:20260505T213000
DTSTAMP:20260419T105023
CREATED:20260103T073536Z
LAST-MODIFIED:20260103T073613Z
UID:10004631-1778013000-1778016600@balletescenario.com
SUMMARY:Salsa Parejas Avanzado - On2
DESCRIPTION:Nota Aclaratoria para la Compra de Boletos \nEstimados estudiantes\, \nQueremos informarles sobre la política de precios para nuestra próxima clase. Los boletos pueden ser adquiridos de forma individual o en pareja\, según la siguiente estructura de precios: \n\nBoleto individual: $10.00 por persona.\nBoleto para pareja: Si asisten con un acompañante y adquieren dos boletos\, cada uno tendrá un costo reducido de $7.50\, para un total de $15.00.\n\nEste descuento se aplicará automáticamente al agregar dos boletos a su carrito de compra\, y será reflejado en el proceso de checkout. \nGracias por su atención\, y esperamos verlos en la clase. \nPara más información\, comuníquese al 787-402-6350.
URL:https://balletescenario.com/event/salsa-parejas-avanzado-on2-40/
LOCATION:Salón A – Ballet Escenario\, 52 calle Minerva\, Mayaguez\, 00680\, Puerto Rico
CATEGORIES:Salsa
END:VEVENT
BEGIN:VEVENT
DTSTART;TZID=America/Puerto_Rico:20260506T163000
DTEND;TZID=America/Puerto_Rico:20260506T173000
DTSTAMP:20260419T105023
CREATED:20251228T234812Z
LAST-MODIFIED:20251228T234911Z
UID:10004200-1778085000-1778088600@balletescenario.com
SUMMARY:Acrobacia Continuación
DESCRIPTION:
URL:https://balletescenario.com/event/acrobacia-continuacion-43/
LOCATION:Salón A – Ballet Escenario\, 52 calle Minerva\, Mayaguez\, 00680\, Puerto Rico
CATEGORIES:Acrobacia
END:VEVENT
BEGIN:VEVENT
DTSTART;TZID=America/Puerto_Rico:20260506T174000
DTEND;TZID=America/Puerto_Rico:20260506T191000
DTSTAMP:20260419T105023
CREATED:20260104T045544Z
LAST-MODIFIED:20260104T045614Z
UID:10004643-1778089200-1778094600@balletescenario.com
SUMMARY:Puntas Avanzado
DESCRIPTION:
URL:https://balletescenario.com/event/puntas-avanzado-41/
LOCATION:Salón A – Ballet Escenario\, 52 calle Minerva\, Mayaguez\, 00680\, Puerto Rico
CATEGORIES:Ballet
END:VEVENT
BEGIN:VEVENT
DTSTART;TZID=America/Puerto_Rico:20260506T181000
DTEND;TZID=America/Puerto_Rico:20260506T191000
DTSTAMP:20260419T105023
CREATED:20260104T052425Z
LAST-MODIFIED:20260104T052507Z
UID:10004656-1778091000-1778094600@balletescenario.com
SUMMARY:Pre Ballet Miércoles (5-6 años)
DESCRIPTION:
URL:https://balletescenario.com/event/pre-ballet-miercoles-5-6-anos-41/
LOCATION:Salón C – Ballet Escenario\, Calle Minerva #52\, Mayaguez\, 00680\, Puerto Rico
CATEGORIES:Ballet
END:VEVENT
BEGIN:VEVENT
DTSTART;TZID=America/Puerto_Rico:20260506T192000
DTEND;TZID=America/Puerto_Rico:20260506T202000
DTSTAMP:20260419T105023
CREATED:20260104T054636Z
LAST-MODIFIED:20260104T054706Z
UID:10004668-1778095200-1778098800@balletescenario.com
SUMMARY:Ballet Adultos Principiantes
DESCRIPTION:
URL:https://balletescenario.com/event/ballet-adultos-principiantes-42/
LOCATION:Salón A – Ballet Escenario\, 52 calle Minerva\, Mayaguez\, 00680\, Puerto Rico
CATEGORIES:Ballet
END:VEVENT
BEGIN:VEVENT
DTSTART;TZID=America/Puerto_Rico:20260506T192000
DTEND;TZID=America/Puerto_Rico:20260506T202000
DTSTAMP:20260419T105023
CREATED:20260104T061218Z
LAST-MODIFIED:20260127T160035Z
UID:10004680-1778095200-1778098800@balletescenario.com
SUMMARY:Salsa Parejas Básico On - 1
DESCRIPTION:NOTA: Para esta clase\, puede elegir entre dos opciones: \n– Estudiante Individual: Si asiste solo\, debe comprar un boleto de esta categoría. \n– Solo Para Parejas: Si asiste con una pareja o acompañante\, debe comprar dos boletos de esta categoría para un total a pagar de $15.00. \nImportante: Si compra boletos de la categoría “Solo Para Parejas” pero asiste solo\, se le cobrará la diferencia de precio antes de poder ingresar a la clase. \nPara más información\, comuníquese al 787-402-6350.
URL:https://balletescenario.com/event/salsa-parejas-basico-on-1-42/
LOCATION:Salón B – Ballet Escenario\, Calle Minerva #52\, Mayaguez\, 00680\, Puerto Rico
CATEGORIES:Salsa
END:VEVENT
BEGIN:VEVENT
DTSTART;TZID=America/Puerto_Rico:20260506T203000
DTEND;TZID=America/Puerto_Rico:20260506T213000
DTSTAMP:20260419T105023
CREATED:20260104T063606Z
LAST-MODIFIED:20260104T063634Z
UID:10004692-1778099400-1778103000@balletescenario.com
SUMMARY:Salsa Parejas Básico II - Rotando
DESCRIPTION:NOTA: Para esta clase\, puede elegir entre dos opciones: \n– Estudiante Individual: Si asiste solo\, debe comprar un boleto de esta categoría. \n– Solo Para Parejas: Si asiste con una pareja o acompañante\, debe comprar dos boletos de esta categoría para un total a pagar de $15.00. \nImportante: Si compra boletos de la categoría “Solo Para Parejas” pero asiste solo\, se le cobrará la diferencia de precio antes de poder ingresar a la clase. \nPara más información\, comuníquese al 787-402-6350.
URL:https://balletescenario.com/event/salsa-parejas-basico-ii-rotando-44/
LOCATION:Salón B – Ballet Escenario\, Calle Minerva #52\, Mayaguez\, 00680\, Puerto Rico
CATEGORIES:Salsa
END:VEVENT
BEGIN:VEVENT
DTSTART;TZID=America/Puerto_Rico:20260506T203000
DTEND;TZID=America/Puerto_Rico:20260506T213000
DTSTAMP:20260419T105023
CREATED:20260112T193445Z
LAST-MODIFIED:20260112T193520Z
UID:10004964-1778099400-1778103000@balletescenario.com
SUMMARY:Salsa Parejas Intermedio - On2
DESCRIPTION:Nota Aclaratoria para la Compra de Boletos \nEstimados estudiantes\, \nQueremos informarles sobre la política de precios para nuestra próxima clase. Los boletos pueden ser adquiridos de forma individual o en pareja\, según la siguiente estructura de precios: \n\nBoleto individual: $10.00 por persona.\nBoleto para pareja: Si asisten con un acompañante y adquieren dos boletos\, cada uno tendrá un costo reducido de $7.50\, para un total de $15.00.\n\nEste descuento se aplicará automáticamente al agregar dos boletos a su carrito de compra\, y será reflejado en el proceso de checkout. \nGracias por su atención\, y esperamos verlos en la clase. \nPara más información\, comuníquese al 787-402-6350.
URL:https://balletescenario.com/event/salsa-parejas-intermedio-on2-36/
LOCATION:Salón A – Ballet Escenario\, 52 calle Minerva\, Mayaguez\, 00680\, Puerto Rico
CATEGORIES:Salsa
END:VEVENT
BEGIN:VEVENT
DTSTART;TZID=America/Puerto_Rico:20260507T163000
DTEND;TZID=America/Puerto_Rico:20260507T173000
DTSTAMP:20260419T105023
CREATED:20260105T012755Z
LAST-MODIFIED:20260105T012841Z
UID:10004705-1778171400-1778175000@balletescenario.com
SUMMARY:Jazz Lírico Kids (7-12 años)
DESCRIPTION:
URL:https://balletescenario.com/event/jazz-lirico-kids-7-12-anos-39/
LOCATION:Salón B – Ballet Escenario\, Calle Minerva #52\, Mayaguez\, 00680\, Puerto Rico
CATEGORIES:Jazz Lírico
END:VEVENT
BEGIN:VEVENT
DTSTART;TZID=America/Puerto_Rico:20260507T174000
DTEND;TZID=America/Puerto_Rico:20260507T184000
DTSTAMP:20260419T105023
CREATED:20260105T014926Z
LAST-MODIFIED:20260105T015008Z
UID:10004717-1778175600-1778179200@balletescenario.com
SUMMARY:Principios de Acrobacia (7 años+)
DESCRIPTION:
URL:https://balletescenario.com/event/principios-de-acrobacia-7-anos-41/
LOCATION:Salón A – Ballet Escenario\, 52 calle Minerva\, Mayaguez\, 00680\, Puerto Rico
CATEGORIES:Acrobacia
END:VEVENT
BEGIN:VEVENT
DTSTART;TZID=America/Puerto_Rico:20260507T174000
DTEND;TZID=America/Puerto_Rico:20260507T184000
DTSTAMP:20260419T105023
CREATED:20260105T022101Z
LAST-MODIFIED:20260105T022133Z
UID:10004730-1778175600-1778179200@balletescenario.com
SUMMARY:Salsa Kids Avanzado (5-12 años)
DESCRIPTION:
URL:https://balletescenario.com/event/salsa-kids-avanzado-5-12-anos-40/
LOCATION:Salón B – Ballet Escenario\, Calle Minerva #52\, Mayaguez\, 00680\, Puerto Rico
CATEGORIES:Salsa
END:VEVENT
BEGIN:VEVENT
DTSTART;TZID=America/Puerto_Rico:20260507T174000
DTEND;TZID=America/Puerto_Rico:20260507T184000
DTSTAMP:20260419T105023
CREATED:20260105T213130Z
LAST-MODIFIED:20260105T213201Z
UID:10004742-1778175600-1778179200@balletescenario.com
SUMMARY:Stretch and BE Strong
DESCRIPTION:
URL:https://balletescenario.com/event/stretch-and-be-strong-117/
LOCATION:Salón C – Ballet Escenario\, Calle Minerva #52\, Mayaguez\, 00680\, Puerto Rico
CATEGORIES:Stretch and BE Strong
END:VEVENT
BEGIN:VEVENT
DTSTART;TZID=America/Puerto_Rico:20260507T185000
DTEND;TZID=America/Puerto_Rico:20260507T195000
DTSTAMP:20260419T105023
CREATED:20260105T215255Z
LAST-MODIFIED:20260105T215339Z
UID:10004754-1778179800-1778183400@balletescenario.com
SUMMARY:Ballet II
DESCRIPTION:
URL:https://balletescenario.com/event/ballet-ii-74/
LOCATION:Salón A – Ballet Escenario\, 52 calle Minerva\, Mayaguez\, 00680\, Puerto Rico
CATEGORIES:Ballet
END:VEVENT
BEGIN:VEVENT
DTSTART;TZID=America/Puerto_Rico:20260507T185000
DTEND;TZID=America/Puerto_Rico:20260507T195000
DTSTAMP:20260419T105023
CREATED:20260105T231420Z
LAST-MODIFIED:20260109T043619Z
UID:10004780-1778179800-1778183400@balletescenario.com
SUMMARY:Jr. Ballet jueves (7-10 años)
DESCRIPTION:
URL:https://balletescenario.com/event/jr-ballet-miercoles-7-10-anos-41/
LOCATION:Salón C – Ballet Escenario\, Calle Minerva #52\, Mayaguez\, 00680\, Puerto Rico
CATEGORIES:Ballet
END:VEVENT
END:VCALENDAR