BEGIN:VCALENDAR
VERSION:2.0
PRODID:-//Ballet Escenario - ECPv6.15.20//NONSGML v1.0//EN
CALSCALE:GREGORIAN
METHOD:PUBLISH
X-ORIGINAL-URL:https://balletescenario.com
X-WR-CALDESC:Events for Ballet Escenario
REFRESH-INTERVAL;VALUE=DURATION:PT1H
X-Robots-Tag:noindex
X-PUBLISHED-TTL:PT1H
BEGIN:VTIMEZONE
TZID:America/Puerto_Rico
BEGIN:STANDARD
TZOFFSETFROM:-0400
TZOFFSETTO:-0400
TZNAME:AST
DTSTART:20250101T000000
END:STANDARD
END:VTIMEZONE
BEGIN:VEVENT
DTSTART;TZID=America/Puerto_Rico:20260522T182000
DTEND;TZID=America/Puerto_Rico:20260522T192000
DTSTAMP:20260419T115831
CREATED:20260107T060717Z
LAST-MODIFIED:20260107T060745Z
UID:10004872-1779474000-1779477600@balletescenario.com
SUMMARY:Urban Kids Viernes (5-10 años)
DESCRIPTION:
URL:https://balletescenario.com/event/urban-kids-viernes-5-10-anos-39/
LOCATION:Salón B – Ballet Escenario\, Calle Minerva #52\, Mayaguez\, 00680\, Puerto Rico
CATEGORIES:Urban Style
END:VEVENT
BEGIN:VEVENT
DTSTART;TZID=America/Puerto_Rico:20260522T182000
DTEND;TZID=America/Puerto_Rico:20260522T195000
DTSTAMP:20260419T115831
CREATED:20260107T054954Z
LAST-MODIFIED:20260107T055021Z
UID:10004860-1779474000-1779479400@balletescenario.com
SUMMARY:Ballet IV
DESCRIPTION:
URL:https://balletescenario.com/event/ballet-iv-85/
LOCATION:Salón A – Ballet Escenario\, 52 calle Minerva\, Mayaguez\, 00680\, Puerto Rico
CATEGORIES:Ballet
END:VEVENT
BEGIN:VEVENT
DTSTART;TZID=America/Puerto_Rico:20260523T100000
DTEND;TZID=America/Puerto_Rico:20260523T110000
DTSTAMP:20260419T115831
CREATED:20260107T203500Z
LAST-MODIFIED:20260107T203528Z
UID:10004884-1779530400-1779534000@balletescenario.com
SUMMARY:Jr. Ballet Sábado (7-10 años)
DESCRIPTION:
URL:https://balletescenario.com/event/jr-ballet-sabado-7-10-anos-42/
LOCATION:Salón A – Ballet Escenario\, 52 calle Minerva\, Mayaguez\, 00680\, Puerto Rico
CATEGORIES:Ballet
END:VEVENT
BEGIN:VEVENT
DTSTART;TZID=America/Puerto_Rico:20260523T100000
DTEND;TZID=America/Puerto_Rico:20260523T110000
DTSTAMP:20260419T115831
CREATED:20260107T205713Z
LAST-MODIFIED:20260107T205800Z
UID:10004896-1779530400-1779534000@balletescenario.com
SUMMARY:Pre Ballet Sábado (5-6 años)
DESCRIPTION:
URL:https://balletescenario.com/event/pre-ballet-sabado-5-6-anos-61/
LOCATION:Salón C – Ballet Escenario\, Calle Minerva #52\, Mayaguez\, 00680\, Puerto Rico
CATEGORIES:Ballet
END:VEVENT
BEGIN:VEVENT
DTSTART;TZID=America/Puerto_Rico:20260523T111000
DTEND;TZID=America/Puerto_Rico:20260523T121000
DTSTAMP:20260419T115831
CREATED:20260107T213058Z
LAST-MODIFIED:20260107T213601Z
UID:10004909-1779534600-1779538200@balletescenario.com
SUMMARY:Ballet V
DESCRIPTION:
URL:https://balletescenario.com/event/ballet-v-37/
LOCATION:Salón A – Ballet Escenario\, 52 calle Minerva\, Mayaguez\, 00680\, Puerto Rico
CATEGORIES:Ballet
END:VEVENT
BEGIN:VEVENT
DTSTART;TZID=America/Puerto_Rico:20260523T111000
DTEND;TZID=America/Puerto_Rico:20260523T121000
DTSTAMP:20260419T115831
CREATED:20260107T215357Z
LAST-MODIFIED:20260107T215428Z
UID:10004920-1779534600-1779538200@balletescenario.com
SUMMARY:Urban Kids Sábado (5-10 años)
DESCRIPTION:
URL:https://balletescenario.com/event/urban-kids-sabado-5-10-anos-42/
LOCATION:Salón B – Ballet Escenario\, Calle Minerva #52\, Mayaguez\, 00680\, Puerto Rico
CATEGORIES:Urban Style
END:VEVENT
BEGIN:VEVENT
DTSTART;TZID=America/Puerto_Rico:20260523T111000
DTEND;TZID=America/Puerto_Rico:20260523T121000
DTSTAMP:20260419T115831
CREATED:20260107T223013Z
LAST-MODIFIED:20260107T223110Z
UID:10004932-1779534600-1779538200@balletescenario.com
SUMMARY:Baby Ballet Sábado (3-4 años)
DESCRIPTION:
URL:https://balletescenario.com/event/baby-ballet-sabado-3-4-anos-42/
LOCATION:Salón C – Ballet Escenario\, Calle Minerva #52\, Mayaguez\, 00680\, Puerto Rico
CATEGORIES:Ballet
END:VEVENT
BEGIN:VEVENT
DTSTART;TZID=America/Puerto_Rico:20260523T122000
DTEND;TZID=America/Puerto_Rico:20260523T132000
DTSTAMP:20260419T115831
CREATED:20260107T224939Z
LAST-MODIFIED:20260107T225008Z
UID:10004944-1779538800-1779542400@balletescenario.com
SUMMARY:Puntas Variaciones
DESCRIPTION:
URL:https://balletescenario.com/event/puntas-variaciones-41/
LOCATION:Salón A – Ballet Escenario\, 52 calle Minerva\, Mayaguez\, 00680\, Puerto Rico
CATEGORIES:Ballet
END:VEVENT
BEGIN:VEVENT
DTSTART;TZID=America/Puerto_Rico:20260525T163000
DTEND;TZID=America/Puerto_Rico:20260525T173000
DTSTAMP:20260419T115831
CREATED:20251226T210715Z
LAST-MODIFIED:20251226T210748Z
UID:10004096-1779726600-1779730200@balletescenario.com
SUMMARY:Jr. Ballet - Lunes (7-10 años)
DESCRIPTION:
URL:https://balletescenario.com/event/jr-ballet-lunes-7-10-anos-43/
LOCATION:Salón A – Ballet Escenario\, 52 calle Minerva\, Mayaguez\, 00680\, Puerto Rico
CATEGORIES:Ballet
END:VEVENT
BEGIN:VEVENT
DTSTART;TZID=America/Puerto_Rico:20260525T163000
DTEND;TZID=America/Puerto_Rico:20260525T173000
DTSTAMP:20260419T115831
CREATED:20251228T064616Z
LAST-MODIFIED:20251228T064650Z
UID:10004165-1779726600-1779730200@balletescenario.com
SUMMARY:Pre Ballet Lunes (5-6 años)
DESCRIPTION:
URL:https://balletescenario.com/event/pre-ballet-lunes-5-6-anos-43/
LOCATION:Salón B – Ballet Escenario\, Calle Minerva #52\, Mayaguez\, 00680\, Puerto Rico
CATEGORIES:Ballet
END:VEVENT
BEGIN:VEVENT
DTSTART;TZID=America/Puerto_Rico:20260525T163000
DTEND;TZID=America/Puerto_Rico:20260525T173000
DTSTAMP:20260419T115831
CREATED:20251228T071941Z
LAST-MODIFIED:20251228T072032Z
UID:10004182-1779726600-1779730200@balletescenario.com
SUMMARY:Baby Ballet Lunes (3-4 años)
DESCRIPTION:
URL:https://balletescenario.com/event/baby-ballet-lunes-3-4-anos-43/
LOCATION:Salón C – Ballet Escenario\, Calle Minerva #52\, Mayaguez\, 00680\, Puerto Rico
CATEGORIES:Ballet
END:VEVENT
BEGIN:VEVENT
DTSTART;TZID=America/Puerto_Rico:20260525T174000
DTEND;TZID=America/Puerto_Rico:20260525T184000
DTSTAMP:20260419T115831
CREATED:20260102T000408Z
LAST-MODIFIED:20260102T000441Z
UID:10004475-1779730800-1779734400@balletescenario.com
SUMMARY:Puntas - Nivel Intermedio
DESCRIPTION:
URL:https://balletescenario.com/event/puntas-nivel-intermedio-45/
LOCATION:Salón A – Ballet Escenario\, 52 calle Minerva\, Mayaguez\, 00680\, Puerto Rico
CATEGORIES:Ballet
END:VEVENT
BEGIN:VEVENT
DTSTART;TZID=America/Puerto_Rico:20260525T174000
DTEND;TZID=America/Puerto_Rico:20260525T184000
DTSTAMP:20260419T115831
CREATED:20260102T004046Z
LAST-MODIFIED:20260102T004145Z
UID:10004487-1779730800-1779734400@balletescenario.com
SUMMARY:Salsa Kids Intermedio (5-12 años)
DESCRIPTION:
URL:https://balletescenario.com/event/salsa-kids-intermedio-5-12-anos-46/
LOCATION:Salón C – Ballet Escenario\, Calle Minerva #52\, Mayaguez\, 00680\, Puerto Rico
CATEGORIES:Salsa
END:VEVENT
BEGIN:VEVENT
DTSTART;TZID=America/Puerto_Rico:20260525T185000
DTEND;TZID=America/Puerto_Rico:20260525T195000
DTSTAMP:20260419T115831
CREATED:20260102T014725Z
LAST-MODIFIED:20260102T014801Z
UID:10004512-1779735000-1779738600@balletescenario.com
SUMMARY:Salsa Parejas Básico I - Rotando
DESCRIPTION:
URL:https://balletescenario.com/event/salsa-parejas-basico-i-rotando-43/
LOCATION:Salón B – Ballet Escenario\, Calle Minerva #52\, Mayaguez\, 00680\, Puerto Rico
CATEGORIES:Salsa
END:VEVENT
BEGIN:VEVENT
DTSTART;TZID=America/Puerto_Rico:20260525T185000
DTEND;TZID=America/Puerto_Rico:20260525T195000
DTSTAMP:20260419T115831
CREATED:20260102T020619Z
LAST-MODIFIED:20260102T020656Z
UID:10004525-1779735000-1779738600@balletescenario.com
SUMMARY:Salsa Pasos Libres Básico
DESCRIPTION:
URL:https://balletescenario.com/event/salsa-pasos-libres-basico-40/
LOCATION:Salón C – Ballet Escenario\, Calle Minerva #52\, Mayaguez\, 00680\, Puerto Rico
CATEGORIES:Salsa
END:VEVENT
BEGIN:VEVENT
DTSTART;TZID=America/Puerto_Rico:20260525T185000
DTEND;TZID=America/Puerto_Rico:20260525T202000
DTSTAMP:20260419T115831
CREATED:20260102T011034Z
LAST-MODIFIED:20260102T011112Z
UID:10004499-1779735000-1779740400@balletescenario.com
SUMMARY:Ballet IV
DESCRIPTION:
URL:https://balletescenario.com/event/ballet-iv-74/
LOCATION:Salón A – Ballet Escenario\, 52 calle Minerva\, Mayaguez\, 00680\, Puerto Rico
CATEGORIES:Ballet
END:VEVENT
BEGIN:VEVENT
DTSTART;TZID=America/Puerto_Rico:20260525T193000
DTEND;TZID=America/Puerto_Rico:20260525T203000
DTSTAMP:20260419T115831
CREATED:20260102T023716Z
LAST-MODIFIED:20260102T023745Z
UID:10004537-1779737400-1779741000@balletescenario.com
SUMMARY:Fitness Bootcamp by Andrés Pagán
DESCRIPTION:Reserva tu espacio y paga en la recepción al llegar – Costo $15.00 x Clase (Por persona)
URL:https://balletescenario.com/event/fitness-bootcamp-by-andres-pagan-69/
LOCATION:Salon D – Ballet Escenario\, Calle Minerva #52\, Mayaguez\, 00680\, Puerto Rico
END:VEVENT
BEGIN:VEVENT
DTSTART;TZID=America/Puerto_Rico:20260526T163000
DTEND;TZID=America/Puerto_Rico:20260526T180000
DTSTAMP:20260419T115831
CREATED:20251229T225530Z
LAST-MODIFIED:20251229T225603Z
UID:10004361-1779813000-1779818400@balletescenario.com
SUMMARY:Ballet III
DESCRIPTION:
URL:https://balletescenario.com/event/ballet-iii-70/
LOCATION:Salón A – Ballet Escenario\, 52 calle Minerva\, Mayaguez\, 00680\, Puerto Rico
CATEGORIES:Ballet
END:VEVENT
BEGIN:VEVENT
DTSTART;TZID=America/Puerto_Rico:20260526T170000
DTEND;TZID=America/Puerto_Rico:20260526T180000
DTSTAMP:20260419T115831
CREATED:20260103T050903Z
LAST-MODIFIED:20260103T050935Z
UID:10004549-1779814800-1779818400@balletescenario.com
SUMMARY:Salsa Kids Básico (5-12 años)
DESCRIPTION:
URL:https://balletescenario.com/event/salsa-kids-basico-5-12-anos-49/
LOCATION:Salón B – Ballet Escenario\, Calle Minerva #52\, Mayaguez\, 00680\, Puerto Rico
CATEGORIES:Salsa
END:VEVENT
BEGIN:VEVENT
DTSTART;TZID=America/Puerto_Rico:20260526T170000
DTEND;TZID=America/Puerto_Rico:20260526T180000
DTSTAMP:20260419T115831
CREATED:20260103T052840Z
LAST-MODIFIED:20260103T052908Z
UID:10004561-1779814800-1779818400@balletescenario.com
SUMMARY:Baby Ballet Martes (3-4 años)
DESCRIPTION:
URL:https://balletescenario.com/event/baby-ballet-martes-3-4-anos-42/
LOCATION:Salón C – Ballet Escenario\, Calle Minerva #52\, Mayaguez\, 00680\, Puerto Rico
CATEGORIES:Ballet
END:VEVENT
BEGIN:VEVENT
DTSTART;TZID=America/Puerto_Rico:20260526T181000
DTEND;TZID=America/Puerto_Rico:20260526T191000
DTSTAMP:20260419T115831
CREATED:20260103T054846Z
LAST-MODIFIED:20260103T054920Z
UID:10004573-1779819000-1779822600@balletescenario.com
SUMMARY:Pre Puntas
DESCRIPTION:
URL:https://balletescenario.com/event/pre-puntas-39/
LOCATION:Salón A – Ballet Escenario\, 52 calle Minerva\, Mayaguez\, 00680\, Puerto Rico
CATEGORIES:Ballet
END:VEVENT
BEGIN:VEVENT
DTSTART;TZID=America/Puerto_Rico:20260526T181000
DTEND;TZID=America/Puerto_Rico:20260526T191000
DTSTAMP:20260419T115831
CREATED:20260103T061056Z
LAST-MODIFIED:20260103T061131Z
UID:10004585-1779819000-1779822600@balletescenario.com
SUMMARY:Urban Style For Teens (11+)
DESCRIPTION:
URL:https://balletescenario.com/event/urban-style-for-teens-11-42/
LOCATION:Salón B – Ballet Escenario\, Calle Minerva #52\, Mayaguez\, 00680\, Puerto Rico
CATEGORIES:Urban Style
END:VEVENT
BEGIN:VEVENT
DTSTART;TZID=America/Puerto_Rico:20260526T181000
DTEND;TZID=America/Puerto_Rico:20260526T191000
DTSTAMP:20260419T115831
CREATED:20260103T063244Z
LAST-MODIFIED:20260103T063323Z
UID:10004597-1779819000-1779822600@balletescenario.com
SUMMARY:Stretch and BE Strong
DESCRIPTION:
URL:https://balletescenario.com/event/stretch-and-be-strong-109/
LOCATION:Salón C – Ballet Escenario\, Calle Minerva #52\, Mayaguez\, 00680\, Puerto Rico
CATEGORIES:Stretch and BE Strong
END:VEVENT
BEGIN:VEVENT
DTSTART;TZID=America/Puerto_Rico:20260526T192000
DTEND;TZID=America/Puerto_Rico:20260526T202000
DTSTAMP:20260419T115831
CREATED:20260103T070007Z
LAST-MODIFIED:20260103T070037Z
UID:10004610-1779823200-1779826800@balletescenario.com
SUMMARY:Ballet Adultos Ex-Bailarines
DESCRIPTION:
URL:https://balletescenario.com/event/ballet-adultos-ex-bailarines-46/
LOCATION:Salón A – Ballet Escenario\, 52 calle Minerva\, Mayaguez\, 00680\, Puerto Rico
CATEGORIES:Ballet
END:VEVENT
BEGIN:VEVENT
DTSTART;TZID=America/Puerto_Rico:20260526T192000
DTEND;TZID=America/Puerto_Rico:20260526T202000
DTSTAMP:20260419T115831
CREATED:20260103T071959Z
LAST-MODIFIED:20260103T072028Z
UID:10004622-1779823200-1779826800@balletescenario.com
SUMMARY:Ballet I (11-17 años)
DESCRIPTION:
URL:https://balletescenario.com/event/ballet-i-11-17-anos-46/
LOCATION:Salón C – Ballet Escenario\, Calle Minerva #52\, Mayaguez\, 00680\, Puerto Rico
CATEGORIES:Ballet
END:VEVENT
BEGIN:VEVENT
DTSTART;TZID=America/Puerto_Rico:20260526T203000
DTEND;TZID=America/Puerto_Rico:20260526T213000
DTSTAMP:20260419T115831
CREATED:20260103T073948Z
LAST-MODIFIED:20260103T074019Z
UID:10004634-1779827400-1779831000@balletescenario.com
SUMMARY:Salsa Parejas Avanzado - On2
DESCRIPTION:Nota Aclaratoria para la Compra de Boletos \nEstimados estudiantes\, \nQueremos informarles sobre la política de precios para nuestra próxima clase. Los boletos pueden ser adquiridos de forma individual o en pareja\, según la siguiente estructura de precios: \n\nBoleto individual: $10.00 por persona.\nBoleto para pareja: Si asisten con un acompañante y adquieren dos boletos\, cada uno tendrá un costo reducido de $7.50\, para un total de $15.00.\n\nEste descuento se aplicará automáticamente al agregar dos boletos a su carrito de compra\, y será reflejado en el proceso de checkout. \nGracias por su atención\, y esperamos verlos en la clase. \nPara más información\, comuníquese al 787-402-6350.
URL:https://balletescenario.com/event/salsa-parejas-avanzado-on2-43/
LOCATION:Salón A – Ballet Escenario\, 52 calle Minerva\, Mayaguez\, 00680\, Puerto Rico
CATEGORIES:Salsa
END:VEVENT
BEGIN:VEVENT
DTSTART;TZID=America/Puerto_Rico:20260527T163000
DTEND;TZID=America/Puerto_Rico:20260527T173000
DTSTAMP:20260419T115831
CREATED:20251228T235405Z
LAST-MODIFIED:20251228T235442Z
UID:10004203-1779899400-1779903000@balletescenario.com
SUMMARY:Acrobacia Continuación
DESCRIPTION:
URL:https://balletescenario.com/event/acrobacia-continuacion-46/
LOCATION:Salón A – Ballet Escenario\, 52 calle Minerva\, Mayaguez\, 00680\, Puerto Rico
CATEGORIES:Acrobacia
END:VEVENT
BEGIN:VEVENT
DTSTART;TZID=America/Puerto_Rico:20260527T174000
DTEND;TZID=America/Puerto_Rico:20260527T191000
DTSTAMP:20260419T115831
CREATED:20260104T050131Z
LAST-MODIFIED:20260104T050201Z
UID:10004647-1779903600-1779909000@balletescenario.com
SUMMARY:Puntas Avanzado
DESCRIPTION:
URL:https://balletescenario.com/event/puntas-avanzado-45/
LOCATION:Salón A – Ballet Escenario\, 52 calle Minerva\, Mayaguez\, 00680\, Puerto Rico
CATEGORIES:Ballet
END:VEVENT
BEGIN:VEVENT
DTSTART;TZID=America/Puerto_Rico:20260527T181000
DTEND;TZID=America/Puerto_Rico:20260527T191000
DTSTAMP:20260419T115831
CREATED:20260104T052835Z
LAST-MODIFIED:20260104T052943Z
UID:10004659-1779905400-1779909000@balletescenario.com
SUMMARY:Pre Ballet Miércoles (5-6 años)
DESCRIPTION:
URL:https://balletescenario.com/event/pre-ballet-miercoles-5-6-anos-44/
LOCATION:Salón C – Ballet Escenario\, Calle Minerva #52\, Mayaguez\, 00680\, Puerto Rico
CATEGORIES:Ballet
END:VEVENT
BEGIN:VEVENT
DTSTART;TZID=America/Puerto_Rico:20260527T192000
DTEND;TZID=America/Puerto_Rico:20260527T202000
DTSTAMP:20260419T115831
CREATED:20260104T055033Z
LAST-MODIFIED:20260104T055117Z
UID:10004671-1779909600-1779913200@balletescenario.com
SUMMARY:Ballet Adultos Principiantes
DESCRIPTION:
URL:https://balletescenario.com/event/ballet-adultos-principiantes-45/
LOCATION:Salón A – Ballet Escenario\, 52 calle Minerva\, Mayaguez\, 00680\, Puerto Rico
CATEGORIES:Ballet
END:VEVENT
END:VCALENDAR