BEGIN:VCALENDAR
VERSION:2.0
PRODID:-//Ballet Escenario - ECPv6.15.20//NONSGML v1.0//EN
CALSCALE:GREGORIAN
METHOD:PUBLISH
X-WR-CALNAME:Ballet Escenario
X-ORIGINAL-URL:https://balletescenario.com
X-WR-CALDESC:Events for Ballet Escenario
REFRESH-INTERVAL;VALUE=DURATION:PT1H
X-Robots-Tag:noindex
X-PUBLISHED-TTL:PT1H
BEGIN:VTIMEZONE
TZID:America/Puerto_Rico
BEGIN:STANDARD
TZOFFSETFROM:-0400
TZOFFSETTO:-0400
TZNAME:AST
DTSTART:20250101T000000
END:STANDARD
END:VTIMEZONE
BEGIN:VEVENT
DTSTART;TZID=America/Puerto_Rico:20260325T203000
DTEND;TZID=America/Puerto_Rico:20260325T213000
DTSTAMP:20260419T183129
CREATED:20260112T191145Z
LAST-MODIFIED:20260112T191309Z
UID:10004957-1774470600-1774474200@balletescenario.com
SUMMARY:Salsa Parejas Intermedio - On2
DESCRIPTION:Nota Aclaratoria para la Compra de Boletos \nEstimados estudiantes\, \nQueremos informarles sobre la política de precios para nuestra próxima clase. Los boletos pueden ser adquiridos de forma individual o en pareja\, según la siguiente estructura de precios: \n\nBoleto individual: $10.00 por persona.\nBoleto para pareja: Si asisten con un acompañante y adquieren dos boletos\, cada uno tendrá un costo reducido de $7.50\, para un total de $15.00.\n\nEste descuento se aplicará automáticamente al agregar dos boletos a su carrito de compra\, y será reflejado en el proceso de checkout. \nGracias por su atención\, y esperamos verlos en la clase. \nPara más información\, comuníquese al 787-402-6350.
URL:https://balletescenario.com/event/salsa-parejas-intermedio-on2-31/
LOCATION:Salón A – Ballet Escenario\, 52 calle Minerva\, Mayaguez\, 00680\, Puerto Rico
CATEGORIES:Salsa
END:VEVENT
BEGIN:VEVENT
DTSTART;TZID=America/Puerto_Rico:20260326T185000
DTEND;TZID=America/Puerto_Rico:20260326T195000
DTSTAMP:20260419T183129
CREATED:20260105T214616Z
LAST-MODIFIED:20260105T214646Z
UID:10004749-1774551000-1774554600@balletescenario.com
SUMMARY:Ballet II
DESCRIPTION:
URL:https://balletescenario.com/event/ballet-ii-69/
LOCATION:Salón A – Ballet Escenario\, 52 calle Minerva\, Mayaguez\, 00680\, Puerto Rico
CATEGORIES:Ballet
END:VEVENT
BEGIN:VEVENT
DTSTART;TZID=America/Puerto_Rico:20260326T185000
DTEND;TZID=America/Puerto_Rico:20260326T195000
DTSTAMP:20260419T183129
CREATED:20260105T224907Z
LAST-MODIFIED:20260105T224943Z
UID:10004771-1774551000-1774554600@balletescenario.com
SUMMARY:Salsa Pasos Libres Intermedio
DESCRIPTION:
URL:https://balletescenario.com/event/salsa-pasos-libres-intermedio-46/
LOCATION:Salón B – Ballet Escenario\, Calle Minerva #52\, Mayaguez\, 00680\, Puerto Rico
CATEGORIES:Salsa
END:VEVENT
BEGIN:VEVENT
DTSTART;TZID=America/Puerto_Rico:20260326T185000
DTEND;TZID=America/Puerto_Rico:20260326T195000
DTSTAMP:20260419T183129
CREATED:20260105T230836Z
LAST-MODIFIED:20260109T041842Z
UID:10004775-1774551000-1774554600@balletescenario.com
SUMMARY:Jr. Ballet jueves (7-10 años)
DESCRIPTION:
URL:https://balletescenario.com/event/jr-ballet-miercoles-7-10-anos-36/
LOCATION:Salón C – Ballet Escenario\, Calle Minerva #52\, Mayaguez\, 00680\, Puerto Rico
CATEGORIES:Ballet
END:VEVENT
BEGIN:VEVENT
DTSTART;TZID=America/Puerto_Rico:20260326T200000
DTEND;TZID=America/Puerto_Rico:20260326T210000
DTSTAMP:20260419T183129
CREATED:20260106T044637Z
LAST-MODIFIED:20260106T044748Z
UID:10004799-1774555200-1774558800@balletescenario.com
SUMMARY:Salsa Pasos Libres Avanzado
DESCRIPTION:
URL:https://balletescenario.com/event/salsa-pasos-libres-avanzado-37/
LOCATION:Salón A – Ballet Escenario\, 52 calle Minerva\, Mayaguez\, 00680\, Puerto Rico
CATEGORIES:Salsa
END:VEVENT
BEGIN:VEVENT
DTSTART;TZID=America/Puerto_Rico:20260327T160000
DTEND;TZID=America/Puerto_Rico:20260327T170000
DTSTAMP:20260419T183129
CREATED:20260107T044329Z
LAST-MODIFIED:20260107T044423Z
UID:10004817-1774627200-1774630800@balletescenario.com
SUMMARY:Ballet II
DESCRIPTION:
URL:https://balletescenario.com/event/ballet-ii-81/
LOCATION:Salón A – Ballet Escenario\, 52 calle Minerva\, Mayaguez\, 00680\, Puerto Rico
CATEGORIES:Ballet
END:VEVENT
BEGIN:VEVENT
DTSTART;TZID=America/Puerto_Rico:20260327T171000
DTEND;TZID=America/Puerto_Rico:20260327T181000
DTSTAMP:20260419T183129
CREATED:20260107T050337Z
LAST-MODIFIED:20260107T050408Z
UID:10004829-1774631400-1774635000@balletescenario.com
SUMMARY:Jr Ballet Nivel II
DESCRIPTION:
URL:https://balletescenario.com/event/jr-ballet-nivel-ii-36/
LOCATION:Salón A – Ballet Escenario\, 52 calle Minerva\, Mayaguez\, 00680\, Puerto Rico
CATEGORIES:Ballet
END:VEVENT
BEGIN:VEVENT
DTSTART;TZID=America/Puerto_Rico:20260327T171000
DTEND;TZID=America/Puerto_Rico:20260327T181000
DTSTAMP:20260419T183129
CREATED:20260107T052225Z
LAST-MODIFIED:20260107T052255Z
UID:10004841-1774631400-1774635000@balletescenario.com
SUMMARY:Stretch and BE Strong
DESCRIPTION:
URL:https://balletescenario.com/event/stretch-and-be-strong-124/
LOCATION:Salón B – Ballet Escenario\, Calle Minerva #52\, Mayaguez\, 00680\, Puerto Rico
CATEGORIES:Stretch and BE Strong
END:VEVENT
BEGIN:VEVENT
DTSTART;TZID=America/Puerto_Rico:20260327T182000
DTEND;TZID=America/Puerto_Rico:20260327T192000
DTSTAMP:20260419T183129
CREATED:20260107T055924Z
LAST-MODIFIED:20260107T055951Z
UID:10004865-1774635600-1774639200@balletescenario.com
SUMMARY:Urban Kids Viernes (5-10 años)
DESCRIPTION:
URL:https://balletescenario.com/event/urban-kids-viernes-5-10-anos-32/
LOCATION:Salón B – Ballet Escenario\, Calle Minerva #52\, Mayaguez\, 00680\, Puerto Rico
CATEGORIES:Urban Style
END:VEVENT
BEGIN:VEVENT
DTSTART;TZID=America/Puerto_Rico:20260327T182000
DTEND;TZID=America/Puerto_Rico:20260327T195000
DTSTAMP:20260419T183129
CREATED:20260107T054120Z
LAST-MODIFIED:20260107T054152Z
UID:10004853-1774635600-1774641000@balletescenario.com
SUMMARY:Ballet IV
DESCRIPTION:
URL:https://balletescenario.com/event/ballet-iv-78/
LOCATION:Salón A – Ballet Escenario\, 52 calle Minerva\, Mayaguez\, 00680\, Puerto Rico
CATEGORIES:Ballet
END:VEVENT
BEGIN:VEVENT
DTSTART;TZID=America/Puerto_Rico:20260328T100000
DTEND;TZID=America/Puerto_Rico:20260328T110000
DTSTAMP:20260419T183129
CREATED:20260107T202623Z
LAST-MODIFIED:20260107T202651Z
UID:10004877-1774692000-1774695600@balletescenario.com
SUMMARY:Jr. Ballet Sábado (7-10 años)
DESCRIPTION:
URL:https://balletescenario.com/event/jr-ballet-sabado-7-10-anos-35/
LOCATION:Salón A – Ballet Escenario\, 52 calle Minerva\, Mayaguez\, 00680\, Puerto Rico
CATEGORIES:Ballet
END:VEVENT
BEGIN:VEVENT
DTSTART;TZID=America/Puerto_Rico:20260328T100000
DTEND;TZID=America/Puerto_Rico:20260328T110000
DTSTAMP:20260419T183129
CREATED:20260107T204907Z
LAST-MODIFIED:20260107T204944Z
UID:10004889-1774692000-1774695600@balletescenario.com
SUMMARY:Pre Ballet Sábado (5-6 años)
DESCRIPTION:
URL:https://balletescenario.com/event/pre-ballet-sabado-5-6-anos-54/
LOCATION:Salón C – Ballet Escenario\, Calle Minerva #52\, Mayaguez\, 00680\, Puerto Rico
CATEGORIES:Ballet
END:VEVENT
BEGIN:VEVENT
DTSTART;TZID=America/Puerto_Rico:20260328T111000
DTEND;TZID=America/Puerto_Rico:20260328T121000
DTSTAMP:20260419T183129
CREATED:20260107T211607Z
LAST-MODIFIED:20260107T211638Z
UID:10004901-1774696200-1774699800@balletescenario.com
SUMMARY:Ballet V
DESCRIPTION:
URL:https://balletescenario.com/event/ballet-v-29/
LOCATION:Salón A – Ballet Escenario\, 52 calle Minerva\, Mayaguez\, 00680\, Puerto Rico
CATEGORIES:Ballet
END:VEVENT
BEGIN:VEVENT
DTSTART;TZID=America/Puerto_Rico:20260328T111000
DTEND;TZID=America/Puerto_Rico:20260328T121000
DTSTAMP:20260419T183129
CREATED:20260107T214450Z
LAST-MODIFIED:20260107T214527Z
UID:10004913-1774696200-1774699800@balletescenario.com
SUMMARY:Urban Kids Sábado (5-10 años)
DESCRIPTION:
URL:https://balletescenario.com/event/urban-kids-sabado-5-10-anos-35/
LOCATION:Salón B – Ballet Escenario\, Calle Minerva #52\, Mayaguez\, 00680\, Puerto Rico
CATEGORIES:Urban Style
END:VEVENT
BEGIN:VEVENT
DTSTART;TZID=America/Puerto_Rico:20260328T111000
DTEND;TZID=America/Puerto_Rico:20260328T121000
DTSTAMP:20260419T183129
CREATED:20260107T221749Z
LAST-MODIFIED:20260107T221822Z
UID:10004925-1774696200-1774699800@balletescenario.com
SUMMARY:Baby Ballet Sábado (3-4 años)
DESCRIPTION:
URL:https://balletescenario.com/event/baby-ballet-sabado-3-4-anos-35/
LOCATION:Salón C – Ballet Escenario\, Calle Minerva #52\, Mayaguez\, 00680\, Puerto Rico
CATEGORIES:Ballet
END:VEVENT
BEGIN:VEVENT
DTSTART;TZID=America/Puerto_Rico:20260328T122000
DTEND;TZID=America/Puerto_Rico:20260328T132000
DTSTAMP:20260419T183129
CREATED:20260107T224116Z
LAST-MODIFIED:20260107T224153Z
UID:10004937-1774700400-1774704000@balletescenario.com
SUMMARY:Puntas Variaciones
DESCRIPTION:
URL:https://balletescenario.com/event/puntas-variaciones-34/
LOCATION:Salón A – Ballet Escenario\, 52 calle Minerva\, Mayaguez\, 00680\, Puerto Rico
CATEGORIES:Ballet
END:VEVENT
BEGIN:VEVENT
DTSTART;TZID=America/Puerto_Rico:20260330T163000
DTEND;TZID=America/Puerto_Rico:20260330T173000
DTSTAMP:20260419T183129
CREATED:20260305T223617Z
LAST-MODIFIED:20260305T223617Z
UID:10004975-1774888200-1774891800@balletescenario.com
SUMMARY:Jr. Ballet - Lunes (7-10 años)
DESCRIPTION:
URL:https://balletescenario.com/event/jr-ballet-lunes-7-10-anos-4/
LOCATION:Salón A – Ballet Escenario\, 52 calle Minerva\, Mayaguez\, 00680\, Puerto Rico
CATEGORIES:Ballet
END:VEVENT
BEGIN:VEVENT
DTSTART;TZID=America/Puerto_Rico:20260330T163000
DTEND;TZID=America/Puerto_Rico:20260330T173000
DTSTAMP:20260419T183129
CREATED:20260305T223823Z
LAST-MODIFIED:20260305T223823Z
UID:10004976-1774888200-1774891800@balletescenario.com
SUMMARY:Pre Ballet Lunes (5-6 años)
DESCRIPTION:
URL:https://balletescenario.com/event/pre-ballet-lunes-5-6-anos-5/
LOCATION:Salón B – Ballet Escenario\, Calle Minerva #52\, Mayaguez\, 00680\, Puerto Rico
CATEGORIES:Ballet
END:VEVENT
BEGIN:VEVENT
DTSTART;TZID=America/Puerto_Rico:20260330T163000
DTEND;TZID=America/Puerto_Rico:20260330T173000
DTSTAMP:20260419T183129
CREATED:20260305T223831Z
LAST-MODIFIED:20260305T223831Z
UID:10004977-1774888200-1774891800@balletescenario.com
SUMMARY:Baby Ballet Lunes (3-4 años)
DESCRIPTION:
URL:https://balletescenario.com/event/baby-ballet-lunes-3-4-anos-5/
LOCATION:Salón C – Ballet Escenario\, Calle Minerva #52\, Mayaguez\, 00680\, Puerto Rico
CATEGORIES:Ballet
END:VEVENT
BEGIN:VEVENT
DTSTART;TZID=America/Puerto_Rico:20260330T174000
DTEND;TZID=America/Puerto_Rico:20260330T184000
DTSTAMP:20260419T183129
CREATED:20260305T223834Z
LAST-MODIFIED:20260305T223834Z
UID:10004978-1774892400-1774896000@balletescenario.com
SUMMARY:Puntas - Nivel Intermedio
DESCRIPTION:
URL:https://balletescenario.com/event/puntas-nivel-intermedio-2/
LOCATION:Salón A – Ballet Escenario\, 52 calle Minerva\, Mayaguez\, 00680\, Puerto Rico
CATEGORIES:Ballet
END:VEVENT
BEGIN:VEVENT
DTSTART;TZID=America/Puerto_Rico:20260330T174000
DTEND;TZID=America/Puerto_Rico:20260330T184000
DTSTAMP:20260419T183129
CREATED:20260305T223839Z
LAST-MODIFIED:20260305T223839Z
UID:10004979-1774892400-1774896000@balletescenario.com
SUMMARY:Salsa Kids Intermedio (5-12 años)
DESCRIPTION:
URL:https://balletescenario.com/event/salsa-kids-intermedio-5-12-anos-2/
LOCATION:Salón C – Ballet Escenario\, Calle Minerva #52\, Mayaguez\, 00680\, Puerto Rico
CATEGORIES:Salsa
END:VEVENT
BEGIN:VEVENT
DTSTART;TZID=America/Puerto_Rico:20260330T185000
DTEND;TZID=America/Puerto_Rico:20260330T195000
DTSTAMP:20260419T183129
CREATED:20260305T223848Z
LAST-MODIFIED:20260305T223848Z
UID:10004981-1774896600-1774900200@balletescenario.com
SUMMARY:Salsa Parejas Básico I - Rotando
DESCRIPTION:
URL:https://balletescenario.com/event/salsa-parejas-basico-i-rotando/
LOCATION:Salón B – Ballet Escenario\, Calle Minerva #52\, Mayaguez\, 00680\, Puerto Rico
CATEGORIES:Salsa
END:VEVENT
BEGIN:VEVENT
DTSTART;TZID=America/Puerto_Rico:20260330T185000
DTEND;TZID=America/Puerto_Rico:20260330T195000
DTSTAMP:20260419T183129
CREATED:20260305T223853Z
LAST-MODIFIED:20260305T223853Z
UID:10004982-1774896600-1774900200@balletescenario.com
SUMMARY:Salsa Pasos Libres Básico
DESCRIPTION:
URL:https://balletescenario.com/event/salsa-pasos-libres-basico/
LOCATION:Salón C – Ballet Escenario\, Calle Minerva #52\, Mayaguez\, 00680\, Puerto Rico
CATEGORIES:Salsa
END:VEVENT
BEGIN:VEVENT
DTSTART;TZID=America/Puerto_Rico:20260330T185000
DTEND;TZID=America/Puerto_Rico:20260330T202000
DTSTAMP:20260419T183129
CREATED:20260305T223843Z
LAST-MODIFIED:20260305T223843Z
UID:10004980-1774896600-1774902000@balletescenario.com
SUMMARY:Ballet IV
DESCRIPTION:
URL:https://balletescenario.com/event/ballet-iv-6/
LOCATION:Salón A – Ballet Escenario\, 52 calle Minerva\, Mayaguez\, 00680\, Puerto Rico
CATEGORIES:Ballet
END:VEVENT
BEGIN:VEVENT
DTSTART;TZID=America/Puerto_Rico:20260330T193000
DTEND;TZID=America/Puerto_Rico:20260330T203000
DTSTAMP:20260419T183129
CREATED:20260305T223857Z
LAST-MODIFIED:20260305T223857Z
UID:10004983-1774899000-1774902600@balletescenario.com
SUMMARY:Fitness Bootcamp by Andrés Pagán
DESCRIPTION:Reserva tu espacio y paga en la recepción al llegar – Costo $15.00 x Clase (Por persona)
URL:https://balletescenario.com/event/fitness-bootcamp-by-andres-pagan/
LOCATION:Salon D – Ballet Escenario\, Calle Minerva #52\, Mayaguez\, 00680\, Puerto Rico
END:VEVENT
BEGIN:VEVENT
DTSTART;TZID=America/Puerto_Rico:20260331T163000
DTEND;TZID=America/Puerto_Rico:20260331T180000
DTSTAMP:20260419T183129
CREATED:20260305T224728Z
LAST-MODIFIED:20260305T224728Z
UID:10004984-1774974600-1774980000@balletescenario.com
SUMMARY:Ballet III
DESCRIPTION:
URL:https://balletescenario.com/event/ballet-iii-5/
LOCATION:Salón A – Ballet Escenario\, 52 calle Minerva\, Mayaguez\, 00680\, Puerto Rico
CATEGORIES:Ballet
END:VEVENT
BEGIN:VEVENT
DTSTART;TZID=America/Puerto_Rico:20260331T170000
DTEND;TZID=America/Puerto_Rico:20260331T180000
DTSTAMP:20260419T183129
CREATED:20260305T224730Z
LAST-MODIFIED:20260305T224730Z
UID:10004985-1774976400-1774980000@balletescenario.com
SUMMARY:Salsa Kids Básico (5-12 años)
DESCRIPTION:
URL:https://balletescenario.com/event/salsa-kids-basico-5-12-anos-3/
LOCATION:Salón B – Ballet Escenario\, Calle Minerva #52\, Mayaguez\, 00680\, Puerto Rico
CATEGORIES:Salsa
END:VEVENT
BEGIN:VEVENT
DTSTART;TZID=America/Puerto_Rico:20260331T170000
DTEND;TZID=America/Puerto_Rico:20260331T180000
DTSTAMP:20260419T183129
CREATED:20260305T224732Z
LAST-MODIFIED:20260305T224732Z
UID:10004987-1774976400-1774980000@balletescenario.com
SUMMARY:Baby Ballet Martes (3-4 años)
DESCRIPTION:
URL:https://balletescenario.com/event/baby-ballet-martes-3-4-anos-6/
LOCATION:Salón C – Ballet Escenario\, Calle Minerva #52\, Mayaguez\, 00680\, Puerto Rico
CATEGORIES:Ballet
END:VEVENT
BEGIN:VEVENT
DTSTART;TZID=America/Puerto_Rico:20260331T181000
DTEND;TZID=America/Puerto_Rico:20260331T191000
DTSTAMP:20260419T183129
CREATED:20260305T224736Z
LAST-MODIFIED:20260305T224736Z
UID:10004988-1774980600-1774984200@balletescenario.com
SUMMARY:Pre Puntas
DESCRIPTION:
URL:https://balletescenario.com/event/pre-puntas/
LOCATION:Salón A – Ballet Escenario\, 52 calle Minerva\, Mayaguez\, 00680\, Puerto Rico
CATEGORIES:Ballet
END:VEVENT
BEGIN:VEVENT
DTSTART;TZID=America/Puerto_Rico:20260331T181000
DTEND;TZID=America/Puerto_Rico:20260331T191000
DTSTAMP:20260419T183129
CREATED:20260305T224739Z
LAST-MODIFIED:20260305T224739Z
UID:10004989-1774980600-1774984200@balletescenario.com
SUMMARY:Urban Style For Teens (11+)
DESCRIPTION:
URL:https://balletescenario.com/event/urban-style-for-teens-11-6/
LOCATION:Salón B – Ballet Escenario\, Calle Minerva #52\, Mayaguez\, 00680\, Puerto Rico
CATEGORIES:Urban Style
END:VEVENT
END:VCALENDAR