BEGIN:VCALENDAR
VERSION:2.0
PRODID:-//Ballet Escenario - ECPv6.15.20//NONSGML v1.0//EN
CALSCALE:GREGORIAN
METHOD:PUBLISH
X-WR-CALNAME:Ballet Escenario
X-ORIGINAL-URL:https://balletescenario.com
X-WR-CALDESC:Events for Ballet Escenario
REFRESH-INTERVAL;VALUE=DURATION:PT1H
X-Robots-Tag:noindex
X-PUBLISHED-TTL:PT1H
BEGIN:VTIMEZONE
TZID:America/Puerto_Rico
BEGIN:STANDARD
TZOFFSETFROM:-0400
TZOFFSETTO:-0400
TZNAME:AST
DTSTART:20250101T000000
END:STANDARD
END:VTIMEZONE
BEGIN:VEVENT
DTSTART;TZID=America/Puerto_Rico:20260223T174000
DTEND;TZID=America/Puerto_Rico:20260223T184000
DTSTAMP:20260420T000911
CREATED:20251229T192220Z
LAST-MODIFIED:20251229T192306Z
UID:10004291-1771868400-1771872000@balletescenario.com
SUMMARY:Salsa Kids Intermedio (5-12 años)
DESCRIPTION:
URL:https://balletescenario.com/event/salsa-kids-intermedio-5-12-anos-34/
LOCATION:Salón C – Ballet Escenario\, Calle Minerva #52\, Mayaguez\, 00680\, Puerto Rico
CATEGORIES:Salsa
END:VEVENT
BEGIN:VEVENT
DTSTART;TZID=America/Puerto_Rico:20260223T174000
DTEND;TZID=America/Puerto_Rico:20260223T184000
DTSTAMP:20260420T000911
CREATED:20251229T191216Z
LAST-MODIFIED:20251229T191250Z
UID:10004287-1771868400-1771872000@balletescenario.com
SUMMARY:Puntas - Nivel Intermedio
DESCRIPTION:
URL:https://balletescenario.com/event/puntas-nivel-intermedio-33/
LOCATION:Salón A – Ballet Escenario\, 52 calle Minerva\, Mayaguez\, 00680\, Puerto Rico
CATEGORIES:Ballet
END:VEVENT
BEGIN:VEVENT
DTSTART;TZID=America/Puerto_Rico:20260223T163000
DTEND;TZID=America/Puerto_Rico:20260223T173000
DTSTAMP:20260420T000911
CREATED:20251228T065940Z
LAST-MODIFIED:20251228T070015Z
UID:10004170-1771864200-1771867800@balletescenario.com
SUMMARY:Baby Ballet Lunes (3-4 años)
DESCRIPTION:
URL:https://balletescenario.com/event/baby-ballet-lunes-3-4-anos-20/
LOCATION:Salón C – Ballet Escenario\, Calle Minerva #52\, Mayaguez\, 00680\, Puerto Rico
CATEGORIES:Ballet
END:VEVENT
BEGIN:VEVENT
DTSTART;TZID=America/Puerto_Rico:20260223T163000
DTEND;TZID=America/Puerto_Rico:20260223T173000
DTSTAMP:20260420T000911
CREATED:20251228T062806Z
LAST-MODIFIED:20251228T062857Z
UID:10004153-1771864200-1771867800@balletescenario.com
SUMMARY:Pre Ballet Lunes (5-6 años)
DESCRIPTION:
URL:https://balletescenario.com/event/pre-ballet-lunes-5-6-anos-20/
LOCATION:Salón B – Ballet Escenario\, Calle Minerva #52\, Mayaguez\, 00680\, Puerto Rico
CATEGORIES:Ballet
END:VEVENT
BEGIN:VEVENT
DTSTART;TZID=America/Puerto_Rico:20260223T163000
DTEND;TZID=America/Puerto_Rico:20260223T173000
DTSTAMP:20260420T000911
CREATED:20251226T203818Z
LAST-MODIFIED:20251226T203921Z
UID:10004084-1771864200-1771867800@balletescenario.com
SUMMARY:Jr. Ballet - Lunes (7-10 años)
DESCRIPTION:
URL:https://balletescenario.com/event/jr-ballet-lunes-7-10-anos-20/
LOCATION:Salón A – Ballet Escenario\, 52 calle Minerva\, Mayaguez\, 00680\, Puerto Rico
CATEGORIES:Ballet
END:VEVENT
BEGIN:VEVENT
DTSTART;TZID=America/Puerto_Rico:20260221T122000
DTEND;TZID=America/Puerto_Rico:20260221T132000
DTSTAMP:20260420T000911
CREATED:20251231T192320Z
LAST-MODIFIED:20251231T192405Z
UID:10004462-1771676400-1771680000@balletescenario.com
SUMMARY:Puntas Variaciones
DESCRIPTION:
URL:https://balletescenario.com/event/puntas-variaciones-21/
LOCATION:Salón A – Ballet Escenario\, 52 calle Minerva\, Mayaguez\, 00680\, Puerto Rico
CATEGORIES:Ballet
END:VEVENT
BEGIN:VEVENT
DTSTART;TZID=America/Puerto_Rico:20260221T111000
DTEND;TZID=America/Puerto_Rico:20260221T121000
DTSTAMP:20260420T000911
CREATED:20251231T191628Z
LAST-MODIFIED:20251231T191706Z
UID:10004458-1771672200-1771675800@balletescenario.com
SUMMARY:Baby Ballet Sábado (3-4 años)
DESCRIPTION:
URL:https://balletescenario.com/event/baby-ballet-sabado-3-4-anos-19/
LOCATION:Salón C – Ballet Escenario\, Calle Minerva #52\, Mayaguez\, 00680\, Puerto Rico
CATEGORIES:Ballet
END:VEVENT
BEGIN:VEVENT
DTSTART;TZID=America/Puerto_Rico:20260221T111000
DTEND;TZID=America/Puerto_Rico:20260221T121000
DTSTAMP:20260420T000911
CREATED:20251231T191013Z
LAST-MODIFIED:20251231T191051Z
UID:10004454-1771672200-1771675800@balletescenario.com
SUMMARY:Urban Kids Sábado (5-10 años)
DESCRIPTION:
URL:https://balletescenario.com/event/urban-kids-sabado-5-10-anos-19/
LOCATION:Salón B – Ballet Escenario\, Calle Minerva #52\, Mayaguez\, 00680\, Puerto Rico
CATEGORIES:Urban Style
END:VEVENT
BEGIN:VEVENT
DTSTART;TZID=America/Puerto_Rico:20260221T111000
DTEND;TZID=America/Puerto_Rico:20260221T121000
DTSTAMP:20260420T000911
CREATED:20251231T190247Z
LAST-MODIFIED:20251231T190323Z
UID:10004450-1771672200-1771675800@balletescenario.com
SUMMARY:Ballet V
DESCRIPTION:
URL:https://balletescenario.com/event/ballet-v-20/
LOCATION:Salón A – Ballet Escenario\, 52 calle Minerva\, Mayaguez\, 00680\, Puerto Rico
CATEGORIES:Ballet
END:VEVENT
BEGIN:VEVENT
DTSTART;TZID=America/Puerto_Rico:20260221T100000
DTEND;TZID=America/Puerto_Rico:20260221T110000
DTSTAMP:20260420T000911
CREATED:20251231T185135Z
LAST-MODIFIED:20251231T185209Z
UID:10004446-1771668000-1771671600@balletescenario.com
SUMMARY:Pre Ballet Sábado (5-6 años)
DESCRIPTION:
URL:https://balletescenario.com/event/pre-ballet-sabado-5-6-anos-19/
LOCATION:Salón C – Ballet Escenario\, Calle Minerva #52\, Mayaguez\, 00680\, Puerto Rico
CATEGORIES:Ballet
END:VEVENT
BEGIN:VEVENT
DTSTART;TZID=America/Puerto_Rico:20260221T100000
DTEND;TZID=America/Puerto_Rico:20260221T110000
DTSTAMP:20260420T000911
CREATED:20251231T184546Z
LAST-MODIFIED:20251231T184632Z
UID:10004442-1771668000-1771671600@balletescenario.com
SUMMARY:Jr. Ballet Sábado (7-10 años)
DESCRIPTION:
URL:https://balletescenario.com/event/jr-ballet-sabado-7-10-anos-19/
LOCATION:Salón A – Ballet Escenario\, 52 calle Minerva\, Mayaguez\, 00680\, Puerto Rico
CATEGORIES:Ballet
END:VEVENT
BEGIN:VEVENT
DTSTART;TZID=America/Puerto_Rico:20260220T182000
DTEND;TZID=America/Puerto_Rico:20260220T195000
DTSTAMP:20260420T000911
CREATED:20251231T182708Z
LAST-MODIFIED:20251231T182748Z
UID:10004434-1771611600-1771617000@balletescenario.com
SUMMARY:Ballet IV
DESCRIPTION:
URL:https://balletescenario.com/event/ballet-iv-43/
LOCATION:Salón A – Ballet Escenario\, 52 calle Minerva\, Mayaguez\, 00680\, Puerto Rico
CATEGORIES:Ballet
END:VEVENT
BEGIN:VEVENT
DTSTART;TZID=America/Puerto_Rico:20260220T182000
DTEND;TZID=America/Puerto_Rico:20260220T192000
DTSTAMP:20260420T000911
CREATED:20251231T183242Z
LAST-MODIFIED:20251231T183315Z
UID:10004438-1771611600-1771615200@balletescenario.com
SUMMARY:Urban Kids Viernes (5-10 años)
DESCRIPTION:
URL:https://balletescenario.com/event/urban-kids-viernes-5-10-anos-27/
LOCATION:Salón B – Ballet Escenario\, Calle Minerva #52\, Mayaguez\, 00680\, Puerto Rico
CATEGORIES:Urban Style
END:VEVENT
BEGIN:VEVENT
DTSTART;TZID=America/Puerto_Rico:20260220T171000
DTEND;TZID=America/Puerto_Rico:20260220T181000
DTSTAMP:20260420T000911
CREATED:20251231T182218Z
LAST-MODIFIED:20251231T182251Z
UID:10004430-1771607400-1771611000@balletescenario.com
SUMMARY:Stretch and BE Strong
DESCRIPTION:
URL:https://balletescenario.com/event/stretch-and-be-strong-97/
LOCATION:Salón B – Ballet Escenario\, Calle Minerva #52\, Mayaguez\, 00680\, Puerto Rico
CATEGORIES:Stretch and BE Strong
END:VEVENT
BEGIN:VEVENT
DTSTART;TZID=America/Puerto_Rico:20260220T171000
DTEND;TZID=America/Puerto_Rico:20260220T181000
DTSTAMP:20260420T000911
CREATED:20251231T181450Z
LAST-MODIFIED:20251231T181610Z
UID:10004425-1771607400-1771611000@balletescenario.com
SUMMARY:Jr Ballet Nivel II
DESCRIPTION:
URL:https://balletescenario.com/event/jr-ballet-nivel-ii-22/
LOCATION:Salón A – Ballet Escenario\, 52 calle Minerva\, Mayaguez\, 00680\, Puerto Rico
CATEGORIES:Ballet
END:VEVENT
BEGIN:VEVENT
DTSTART;TZID=America/Puerto_Rico:20260220T160000
DTEND;TZID=America/Puerto_Rico:20260220T170000
DTSTAMP:20260420T000911
CREATED:20251231T180845Z
LAST-MODIFIED:20251231T180938Z
UID:10004420-1771603200-1771606800@balletescenario.com
SUMMARY:Ballet II
DESCRIPTION:
URL:https://balletescenario.com/event/ballet-ii-65/
LOCATION:Salón A – Ballet Escenario\, 52 calle Minerva\, Mayaguez\, 00680\, Puerto Rico
CATEGORIES:Ballet
END:VEVENT
BEGIN:VEVENT
DTSTART;TZID=America/Puerto_Rico:20260219T200000
DTEND;TZID=America/Puerto_Rico:20260219T210000
DTSTAMP:20260420T000911
CREATED:20251230T061234Z
LAST-MODIFIED:20251230T061311Z
UID:10004416-1771531200-1771534800@balletescenario.com
SUMMARY:Salsa Pasos Libres Avanzado
DESCRIPTION:
URL:https://balletescenario.com/event/salsa-pasos-libres-avanzado-29/
LOCATION:Salón A – Ballet Escenario\, 52 calle Minerva\, Mayaguez\, 00680\, Puerto Rico
CATEGORIES:Salsa
END:VEVENT
BEGIN:VEVENT
DTSTART;TZID=America/Puerto_Rico:20260219T193000
DTEND;TZID=America/Puerto_Rico:20260219T203000
DTSTAMP:20260420T000911
CREATED:20251230T060530Z
LAST-MODIFIED:20251230T060620Z
UID:10004412-1771529400-1771533000@balletescenario.com
SUMMARY:Fitness Bootcamp by Andrés Pagán
DESCRIPTION:Reserva tu espacio y paga en la recepción al llegar – Costo $15.00 x Clase (Por persona)
URL:https://balletescenario.com/event/fitness-bootcamp-by-andres-pagan-22/
LOCATION:Salon D – Ballet Escenario\, Calle Minerva #52\, Mayaguez\, 00680\, Puerto Rico
END:VEVENT
BEGIN:VEVENT
DTSTART;TZID=America/Puerto_Rico:20260219T185000
DTEND;TZID=America/Puerto_Rico:20260219T195000
DTSTAMP:20260420T000911
CREATED:20251230T055727Z
LAST-MODIFIED:20260109T040557Z
UID:10004408-1771527000-1771530600@balletescenario.com
SUMMARY:Jr. Ballet jueves (7-10 años)
DESCRIPTION:
URL:https://balletescenario.com/event/jr-ballet-miercoles-7-10-anos-18/
LOCATION:Salón C – Ballet Escenario\, Calle Minerva #52\, Mayaguez\, 00680\, Puerto Rico
CATEGORIES:Ballet
END:VEVENT
BEGIN:VEVENT
DTSTART;TZID=America/Puerto_Rico:20260219T185000
DTEND;TZID=America/Puerto_Rico:20260219T195000
DTSTAMP:20260420T000911
CREATED:20251230T054848Z
LAST-MODIFIED:20251230T054923Z
UID:10004404-1771527000-1771530600@balletescenario.com
SUMMARY:Salsa Pasos Libres Intermedio
DESCRIPTION:
URL:https://balletescenario.com/event/salsa-pasos-libres-intermedio-29/
LOCATION:Salón B – Ballet Escenario\, Calle Minerva #52\, Mayaguez\, 00680\, Puerto Rico
CATEGORIES:Salsa
END:VEVENT
BEGIN:VEVENT
DTSTART;TZID=America/Puerto_Rico:20260219T185000
DTEND;TZID=America/Puerto_Rico:20260219T195000
DTSTAMP:20260420T000911
CREATED:20251230T054042Z
LAST-MODIFIED:20251230T054118Z
UID:10004400-1771527000-1771530600@balletescenario.com
SUMMARY:Ballet II
DESCRIPTION:
URL:https://balletescenario.com/event/ballet-ii-61/
LOCATION:Salón A – Ballet Escenario\, 52 calle Minerva\, Mayaguez\, 00680\, Puerto Rico
CATEGORIES:Ballet
END:VEVENT
BEGIN:VEVENT
DTSTART;TZID=America/Puerto_Rico:20260219T174000
DTEND;TZID=America/Puerto_Rico:20260219T184000
DTSTAMP:20260420T000911
CREATED:20251230T053056Z
LAST-MODIFIED:20251230T053133Z
UID:10004396-1771522800-1771526400@balletescenario.com
SUMMARY:Stretch and BE Strong
DESCRIPTION:
URL:https://balletescenario.com/event/stretch-and-be-strong-64/
LOCATION:Salón C – Ballet Escenario\, Calle Minerva #52\, Mayaguez\, 00680\, Puerto Rico
CATEGORIES:Stretch and BE Strong
END:VEVENT
BEGIN:VEVENT
DTSTART;TZID=America/Puerto_Rico:20260219T174000
DTEND;TZID=America/Puerto_Rico:20260219T184000
DTSTAMP:20260420T000911
CREATED:20251230T052208Z
LAST-MODIFIED:20251230T052243Z
UID:10004392-1771522800-1771526400@balletescenario.com
SUMMARY:Salsa Kids Avanzado (5-12 años)
DESCRIPTION:
URL:https://balletescenario.com/event/salsa-kids-avanzado-5-12-anos-21/
LOCATION:Salón B – Ballet Escenario\, Calle Minerva #52\, Mayaguez\, 00680\, Puerto Rico
CATEGORIES:Salsa
END:VEVENT
BEGIN:VEVENT
DTSTART;TZID=America/Puerto_Rico:20260219T174000
DTEND;TZID=America/Puerto_Rico:20260219T184000
DTSTAMP:20260420T000911
CREATED:20251230T051420Z
LAST-MODIFIED:20251230T051451Z
UID:10004388-1771522800-1771526400@balletescenario.com
SUMMARY:Principios de Acrobacia (7 años+)
DESCRIPTION:
URL:https://balletescenario.com/event/principios-de-acrobacia-7-anos-21/
LOCATION:Salón A – Ballet Escenario\, 52 calle Minerva\, Mayaguez\, 00680\, Puerto Rico
CATEGORIES:Acrobacia
END:VEVENT
BEGIN:VEVENT
DTSTART;TZID=America/Puerto_Rico:20260219T163000
DTEND;TZID=America/Puerto_Rico:20260219T173000
DTSTAMP:20260420T000911
CREATED:20251230T050713Z
LAST-MODIFIED:20251230T050758Z
UID:10004384-1771518600-1771522200@balletescenario.com
SUMMARY:Jazz Lírico Kids (7-12 años)
DESCRIPTION:
URL:https://balletescenario.com/event/jazz-lirico-kids-7-12-anos-29/
LOCATION:Salón B – Ballet Escenario\, Calle Minerva #52\, Mayaguez\, 00680\, Puerto Rico
CATEGORIES:Jazz Lírico
END:VEVENT
BEGIN:VEVENT
DTSTART;TZID=America/Puerto_Rico:20260218T203000
DTEND;TZID=America/Puerto_Rico:20260218T213000
DTSTAMP:20260420T000911
CREATED:20260112T190003Z
LAST-MODIFIED:20260112T190044Z
UID:10004952-1771446600-1771450200@balletescenario.com
SUMMARY:Salsa Parejas Intermedio - On2
DESCRIPTION:Nota Aclaratoria para la Compra de Boletos \nEstimados estudiantes\, \nQueremos informarles sobre la política de precios para nuestra próxima clase. Los boletos pueden ser adquiridos de forma individual o en pareja\, según la siguiente estructura de precios: \n\nBoleto individual: $10.00 por persona.\nBoleto para pareja: Si asisten con un acompañante y adquieren dos boletos\, cada uno tendrá un costo reducido de $7.50\, para un total de $15.00.\n\nEste descuento se aplicará automáticamente al agregar dos boletos a su carrito de compra\, y será reflejado en el proceso de checkout. \nGracias por su atención\, y esperamos verlos en la clase. \nPara más información\, comuníquese al 787-402-6350.
URL:https://balletescenario.com/event/salsa-parejas-intermedio-on2-18/
LOCATION:Salón A – Ballet Escenario\, 52 calle Minerva\, Mayaguez\, 00680\, Puerto Rico
CATEGORIES:Salsa
END:VEVENT
BEGIN:VEVENT
DTSTART;TZID=America/Puerto_Rico:20260218T203000
DTEND;TZID=America/Puerto_Rico:20260218T213000
DTSTAMP:20260420T000911
CREATED:20251230T045901Z
LAST-MODIFIED:20251230T045937Z
UID:10004380-1771446600-1771450200@balletescenario.com
SUMMARY:Salsa Parejas Básico II - Rotando
DESCRIPTION:NOTA: Para esta clase\, puede elegir entre dos opciones: \n– Estudiante Individual: Si asiste solo\, debe comprar un boleto de esta categoría. \n– Solo Para Parejas: Si asiste con una pareja o acompañante\, debe comprar dos boletos de esta categoría para un total a pagar de $15.00. \nImportante: Si compra boletos de la categoría “Solo Para Parejas” pero asiste solo\, se le cobrará la diferencia de precio antes de poder ingresar a la clase. \nPara más información\, comuníquese al 787-402-6350.
URL:https://balletescenario.com/event/salsa-parejas-basico-ii-rotando-19/
LOCATION:Salón B – Ballet Escenario\, Calle Minerva #52\, Mayaguez\, 00680\, Puerto Rico
CATEGORIES:Salsa
END:VEVENT
BEGIN:VEVENT
DTSTART;TZID=America/Puerto_Rico:20260218T192000
DTEND;TZID=America/Puerto_Rico:20260218T202000
DTSTAMP:20260420T000911
CREATED:20251230T045047Z
LAST-MODIFIED:20260127T150014Z
UID:10004376-1771442400-1771446000@balletescenario.com
SUMMARY:Salsa Parejas Básico On - 1
DESCRIPTION:NOTA: Para esta clase\, puede elegir entre dos opciones: \n– Estudiante Individual: Si asiste solo\, debe comprar un boleto de esta categoría. \n– Solo Para Parejas: Si asiste con una pareja o acompañante\, debe comprar dos boletos de esta categoría para un total a pagar de $15.00. \nImportante: Si compra boletos de la categoría “Solo Para Parejas” pero asiste solo\, se le cobrará la diferencia de precio antes de poder ingresar a la clase. \nPara más información\, comuníquese al 787-402-6350.
URL:https://balletescenario.com/event/salsa-parejas-basico-on-1-10/
LOCATION:Salón B – Ballet Escenario\, Calle Minerva #52\, Mayaguez\, 00680\, Puerto Rico
CATEGORIES:Salsa
END:VEVENT
BEGIN:VEVENT
DTSTART;TZID=America/Puerto_Rico:20260218T192000
DTEND;TZID=America/Puerto_Rico:20260218T202000
DTSTAMP:20260420T000911
CREATED:20251230T044229Z
LAST-MODIFIED:20251230T044316Z
UID:10004372-1771442400-1771446000@balletescenario.com
SUMMARY:Ballet Adultos Principiantes
DESCRIPTION:
URL:https://balletescenario.com/event/ballet-adultos-principiantes-21/
LOCATION:Salón A – Ballet Escenario\, 52 calle Minerva\, Mayaguez\, 00680\, Puerto Rico
CATEGORIES:Ballet
END:VEVENT
BEGIN:VEVENT
DTSTART;TZID=America/Puerto_Rico:20260218T181000
DTEND;TZID=America/Puerto_Rico:20260218T191000
DTSTAMP:20260420T000911
CREATED:20251230T043328Z
LAST-MODIFIED:20251230T043404Z
UID:10004368-1771438200-1771441800@balletescenario.com
SUMMARY:Pre Ballet Miércoles (5-6 años)
DESCRIPTION:
URL:https://balletescenario.com/event/pre-ballet-miercoles-5-6-anos-18/
LOCATION:Salón C – Ballet Escenario\, Calle Minerva #52\, Mayaguez\, 00680\, Puerto Rico
CATEGORIES:Ballet
END:VEVENT
END:VCALENDAR