BEGIN:VCALENDAR
VERSION:2.0
PRODID:-//Ballet Escenario - ECPv6.15.20//NONSGML v1.0//EN
CALSCALE:GREGORIAN
METHOD:PUBLISH
X-WR-CALNAME:Ballet Escenario
X-ORIGINAL-URL:https://balletescenario.com
X-WR-CALDESC:Events for Ballet Escenario
REFRESH-INTERVAL;VALUE=DURATION:PT1H
X-Robots-Tag:noindex
X-PUBLISHED-TTL:PT1H
BEGIN:VTIMEZONE
TZID:America/Puerto_Rico
BEGIN:STANDARD
TZOFFSETFROM:-0400
TZOFFSETTO:-0400
TZNAME:AST
DTSTART:20240101T000000
END:STANDARD
END:VTIMEZONE
BEGIN:VEVENT
DTSTART;TZID=America/Puerto_Rico:20251104T163000
DTEND;TZID=America/Puerto_Rico:20251104T173000
DTSTAMP:20260421T215024
CREATED:20250730T165952Z
LAST-MODIFIED:20250829T193859Z
UID:10003285-1762273800-1762277400@balletescenario.com
SUMMARY:Baby Ballet Martes (3-4 años)
DESCRIPTION:
URL:https://balletescenario.com/event/baby-ballet-martes-3-4-anos-25/
LOCATION:Salón C – Ballet Escenario\, Calle Minerva #52\, Mayaguez\, 00680\, Puerto Rico
CATEGORIES:Ballet
END:VEVENT
BEGIN:VEVENT
DTSTART;TZID=America/Puerto_Rico:20251104T174000
DTEND;TZID=America/Puerto_Rico:20251104T184000
DTSTAMP:20260421T215024
CREATED:20250730T173347Z
LAST-MODIFIED:20250829T194001Z
UID:10003304-1762278000-1762281600@balletescenario.com
SUMMARY:Pre Puntas
DESCRIPTION:
URL:https://balletescenario.com/event/pre-puntas-14/
LOCATION:Salón A – Ballet Escenario\, 52 calle Minerva\, Mayaguez\, 00680\, Puerto Rico
CATEGORIES:Ballet
END:VEVENT
BEGIN:VEVENT
DTSTART;TZID=America/Puerto_Rico:20251104T174000
DTEND;TZID=America/Puerto_Rico:20251104T184000
DTSTAMP:20260421T215024
CREATED:20250730T175053Z
LAST-MODIFIED:20250829T194240Z
UID:10003323-1762278000-1762281600@balletescenario.com
SUMMARY:Urban Style For Teens (11+)
DESCRIPTION:
URL:https://balletescenario.com/event/urban-style-for-teens-11-25/
LOCATION:Salón B – Ballet Escenario\, Calle Minerva #52\, Mayaguez\, 00680\, Puerto Rico
CATEGORIES:Urban Style
END:VEVENT
BEGIN:VEVENT
DTSTART;TZID=America/Puerto_Rico:20251104T174000
DTEND;TZID=America/Puerto_Rico:20251104T184000
DTSTAMP:20260421T215024
CREATED:20250730T180910Z
LAST-MODIFIED:20250829T194346Z
UID:10003342-1762278000-1762281600@balletescenario.com
SUMMARY:Stretch and BE Strong
DESCRIPTION:
URL:https://balletescenario.com/event/stretch-and-be-strong-39/
LOCATION:Salón C – Ballet Escenario\, Calle Minerva #52\, Mayaguez\, 00680\, Puerto Rico
CATEGORIES:Stretch and BE Strong
END:VEVENT
BEGIN:VEVENT
DTSTART;TZID=America/Puerto_Rico:20251104T185000
DTEND;TZID=America/Puerto_Rico:20251104T195000
DTSTAMP:20260421T215024
CREATED:20250730T182743Z
LAST-MODIFIED:20250829T194509Z
UID:10003361-1762282200-1762285800@balletescenario.com
SUMMARY:Ballet Adultos Ex-Bailarines
DESCRIPTION:
URL:https://balletescenario.com/event/ballet-adultos-ex-bailarines-29/
LOCATION:Salón A – Ballet Escenario\, 52 calle Minerva\, Mayaguez\, 00680\, Puerto Rico
CATEGORIES:Ballet
END:VEVENT
BEGIN:VEVENT
DTSTART;TZID=America/Puerto_Rico:20251104T185000
DTEND;TZID=America/Puerto_Rico:20251104T195000
DTSTAMP:20260421T215024
CREATED:20250730T185231Z
LAST-MODIFIED:20250829T194610Z
UID:10003380-1762282200-1762285800@balletescenario.com
SUMMARY:Ballet I (11-17 años)
DESCRIPTION:
URL:https://balletescenario.com/event/ballet-i-11-17-anos-26/
LOCATION:Salón C – Ballet Escenario\, Calle Minerva #52\, Mayaguez\, 00680\, Puerto Rico
CATEGORIES:Ballet
END:VEVENT
BEGIN:VEVENT
DTSTART;TZID=America/Puerto_Rico:20251104T200000
DTEND;TZID=America/Puerto_Rico:20251104T210000
DTSTAMP:20260421T215024
CREATED:20250730T194533Z
LAST-MODIFIED:20250829T194714Z
UID:10003401-1762286400-1762290000@balletescenario.com
SUMMARY:Salsa Parejas Avanzado - On2
DESCRIPTION:Nota Aclaratoria para la Compra de Boletos \nEstimados estudiantes\, \nQueremos informarles sobre la política de precios para nuestra próxima clase. Los boletos pueden ser adquiridos de forma individual o en pareja\, según la siguiente estructura de precios: \n\nBoleto individual: $10.00 por persona.\nBoleto para pareja: Si asisten con un acompañante y adquieren dos boletos\, cada uno tendrá un costo reducido de $7.50\, para un total de $15.00.\n\nEste descuento se aplicará automáticamente al agregar dos boletos a su carrito de compra\, y será reflejado en el proceso de checkout. \nGracias por su atención\, y esperamos verlos en la clase. \nPara más información\, comuníquese al 787-402-6350.
URL:https://balletescenario.com/event/salsa-parejas-avanzado-on2-27/
LOCATION:Salón A – Ballet Escenario\, 52 calle Minerva\, Mayaguez\, 00680\, Puerto Rico
CATEGORIES:Salsa
END:VEVENT
BEGIN:VEVENT
DTSTART;TZID=America/Puerto_Rico:20251105T160000
DTEND;TZID=America/Puerto_Rico:20251105T170000
DTSTAMP:20260421T215024
CREATED:20250801T000647Z
LAST-MODIFIED:20250829T195828Z
UID:10003433-1762358400-1762362000@balletescenario.com
SUMMARY:Acrobacia Continuación
DESCRIPTION:
URL:https://balletescenario.com/event/acrobacia-continuacion-28/
LOCATION:Salón A – Ballet Escenario\, 52 calle Minerva\, Mayaguez\, 00680\, Puerto Rico
CATEGORIES:Acrobacia
END:VEVENT
BEGIN:VEVENT
DTSTART;TZID=America/Puerto_Rico:20251105T160000
DTEND;TZID=America/Puerto_Rico:20251105T170000
DTSTAMP:20260421T215024
CREATED:20250801T003314Z
LAST-MODIFIED:20250829T195927Z
UID:10003452-1762358400-1762362000@balletescenario.com
SUMMARY:Jazz Lírico - (13+ años)
DESCRIPTION:
URL:https://balletescenario.com/event/jazz-lirico-13-anos-14/
LOCATION:Salón B – Ballet Escenario\, Calle Minerva #52\, Mayaguez\, 00680\, Puerto Rico
CATEGORIES:Jazz Lírico
END:VEVENT
BEGIN:VEVENT
DTSTART;TZID=America/Puerto_Rico:20251105T171000
DTEND;TZID=America/Puerto_Rico:20251105T181000
DTSTAMP:20260421T215024
CREATED:20250801T012656Z
LAST-MODIFIED:20250829T200203Z
UID:10003492-1762362600-1762366200@balletescenario.com
SUMMARY:Pre Ballet Miércoles (5-6 años)
DESCRIPTION:
URL:https://balletescenario.com/event/pre-ballet-miercoles-5-6-anos-27/
LOCATION:Salón C – Ballet Escenario\, Calle Minerva #52\, Mayaguez\, 00680\, Puerto Rico
CATEGORIES:Ballet
END:VEVENT
BEGIN:VEVENT
DTSTART;TZID=America/Puerto_Rico:20251105T171000
DTEND;TZID=America/Puerto_Rico:20251105T184000
DTSTAMP:20260421T215024
CREATED:20250801T005332Z
LAST-MODIFIED:20250829T200042Z
UID:10003472-1762362600-1762368000@balletescenario.com
SUMMARY:Puntas Avanzado
DESCRIPTION:
URL:https://balletescenario.com/event/puntas-avanzado-27/
LOCATION:Salón A – Ballet Escenario\, 52 calle Minerva\, Mayaguez\, 00680\, Puerto Rico
CATEGORIES:Ballet
END:VEVENT
BEGIN:VEVENT
DTSTART;TZID=America/Puerto_Rico:20251105T182000
DTEND;TZID=America/Puerto_Rico:20251105T193000
DTSTAMP:20260421T215024
CREATED:20251022T205241Z
LAST-MODIFIED:20251022T205927Z
UID:10004074-1762366800-1762371000@balletescenario.com
SUMMARY:Salsa Parejas Básico II - Rotando
DESCRIPTION:NOTA: Para esta clase\, puede elegir entre dos opciones: \n– Estudiante Individual: Si asiste solo\, debe comprar un boleto de esta categoría. \n– Solo Para Parejas: Si asiste con una pareja o acompañante\, debe comprar dos boletos de esta categoría para un total a pagar de $15.00. \nImportante: Si compra boletos de la categoría “Solo Para Parejas” pero asiste solo\, se le cobrará la diferencia de precio antes de poder ingresar a la clase. \nPara más información\, comuníquese al 787-402-6350.
URL:https://balletescenario.com/event/salsa-parejas-basico-ii-rotando-39/
LOCATION:Salón B – Ballet Escenario\, Calle Minerva #52\, Mayaguez\, 00680\, Puerto Rico
CATEGORIES:Salsa
END:VEVENT
BEGIN:VEVENT
DTSTART;TZID=America/Puerto_Rico:20251105T185000
DTEND;TZID=America/Puerto_Rico:20251105T195000
DTSTAMP:20260421T215024
CREATED:20250801T035057Z
LAST-MODIFIED:20250829T200446Z
UID:10003531-1762368600-1762372200@balletescenario.com
SUMMARY:Ballet Adultos Principiantes
DESCRIPTION:
URL:https://balletescenario.com/event/ballet-adultos-principiantes-27/
LOCATION:Salón A – Ballet Escenario\, 52 calle Minerva\, Mayaguez\, 00680\, Puerto Rico
CATEGORIES:Ballet
END:VEVENT
BEGIN:VEVENT
DTSTART;TZID=America/Puerto_Rico:20251105T185000
DTEND;TZID=America/Puerto_Rico:20251105T195000
DTSTAMP:20260421T215024
CREATED:20250801T041922Z
LAST-MODIFIED:20250829T200557Z
UID:10003551-1762368600-1762372200@balletescenario.com
SUMMARY:Jr. Ballet Miércoles (7-10 años)
DESCRIPTION:
URL:https://balletescenario.com/event/jr-ballet-miercoles-7-10-anos-27/
LOCATION:Salón C – Ballet Escenario\, Calle Minerva #52\, Mayaguez\, 00680\, Puerto Rico
CATEGORIES:Ballet
END:VEVENT
BEGIN:VEVENT
DTSTART;TZID=America/Puerto_Rico:20251105T193000
DTEND;TZID=America/Puerto_Rico:20251105T203000
DTSTAMP:20260421T215024
CREATED:20250801T045141Z
LAST-MODIFIED:20250814T013138Z
UID:10003571-1762371000-1762374600@balletescenario.com
SUMMARY:Salsa Parejas Básico II - Rotando
DESCRIPTION:NOTA: Para esta clase\, puede elegir entre dos opciones: \n– Estudiante Individual: Si asiste solo\, debe comprar un boleto de esta categoría. \n– Solo Para Parejas: Si asiste con una pareja o acompañante\, debe comprar dos boletos de esta categoría para un total a pagar de $15.00. \nImportante: Si compra boletos de la categoría “Solo Para Parejas” pero asiste solo\, se le cobrará la diferencia de precio antes de poder ingresar a la clase. \nPara más información\, comuníquese al 787-402-6350.
URL:https://balletescenario.com/event/salsa-parejas-basico-ii-rotando-27/
LOCATION:Salón B – Ballet Escenario\, Calle Minerva #52\, Mayaguez\, 00680\, Puerto Rico
CATEGORIES:Salsa
END:VEVENT
BEGIN:VEVENT
DTSTART;TZID=America/Puerto_Rico:20251105T200000
DTEND;TZID=America/Puerto_Rico:20251105T210000
DTSTAMP:20260421T215024
CREATED:20250801T051012Z
LAST-MODIFIED:20250829T200753Z
UID:10003590-1762372800-1762376400@balletescenario.com
SUMMARY:Salsa Parejas Intermedio - On2
DESCRIPTION:Nota Aclaratoria para la Compra de Boletos \nEstimados estudiantes\, \nQueremos informarles sobre la política de precios para nuestra próxima clase. Los boletos pueden ser adquiridos de forma individual o en pareja\, según la siguiente estructura de precios: \n\nBoleto individual: $10.00 por persona.\nBoleto para pareja: Si asisten con un acompañante y adquieren dos boletos\, cada uno tendrá un costo reducido de $7.50\, para un total de $15.00.\n\nEste descuento se aplicará automáticamente al agregar dos boletos a su carrito de compra\, y será reflejado en el proceso de checkout. \nGracias por su atención\, y esperamos verlos en la clase. \nPara más información\, comuníquese al 787-402-6350.
URL:https://balletescenario.com/event/salsa-parejas-intermedio-on2-28/
LOCATION:Salón A – Ballet Escenario\, 52 calle Minerva\, Mayaguez\, 00680\, Puerto Rico
CATEGORIES:Salsa
END:VEVENT
BEGIN:VEVENT
DTSTART;TZID=America/Puerto_Rico:20251105T200000
DTEND;TZID=America/Puerto_Rico:20251105T210000
DTSTAMP:20260421T215024
CREATED:20250801T054458Z
LAST-MODIFIED:20250829T201022Z
UID:10003611-1762372800-1762376400@balletescenario.com
SUMMARY:Yoga
DESCRIPTION:
URL:https://balletescenario.com/event/yoga-36/
LOCATION:Salon D – Ballet Escenario\, Calle Minerva #52\, Mayaguez\, 00680\, Puerto Rico
CATEGORIES:Yoga
END:VEVENT
BEGIN:VEVENT
DTSTART;TZID=America/Puerto_Rico:20251106T160000
DTEND;TZID=America/Puerto_Rico:20251106T173000
DTSTAMP:20260421T215024
CREATED:20250801T163922Z
LAST-MODIFIED:20250829T202039Z
UID:10003639-1762444800-1762450200@balletescenario.com
SUMMARY:Ballet III
DESCRIPTION:
URL:https://balletescenario.com/event/ballet-iii-53/
LOCATION:Salón A – Ballet Escenario\, 52 calle Minerva\, Mayaguez\, 00680\, Puerto Rico
CATEGORIES:Ballet
END:VEVENT
BEGIN:VEVENT
DTSTART;TZID=America/Puerto_Rico:20251106T163000
DTEND;TZID=America/Puerto_Rico:20251106T173000
DTSTAMP:20260421T215024
CREATED:20250801T170106Z
LAST-MODIFIED:20250829T202149Z
UID:10003658-1762446600-1762450200@balletescenario.com
SUMMARY:Jazz Lírico Kids (7-12 años)
DESCRIPTION:
URL:https://balletescenario.com/event/jazz-lirico-kids-7-12-anos-17/
LOCATION:Salón B – Ballet Escenario\, Calle Minerva #52\, Mayaguez\, 00680\, Puerto Rico
CATEGORIES:Jazz Lírico
END:VEVENT
BEGIN:VEVENT
DTSTART;TZID=America/Puerto_Rico:20251106T174000
DTEND;TZID=America/Puerto_Rico:20251106T184000
DTSTAMP:20260421T215024
CREATED:20250801T173736Z
LAST-MODIFIED:20250829T202251Z
UID:10003678-1762450800-1762454400@balletescenario.com
SUMMARY:Principios de Acrobacia (7 años+)
DESCRIPTION:
URL:https://balletescenario.com/event/principios-de-acrobacia-7-anos-29/
LOCATION:Salón A – Ballet Escenario\, 52 calle Minerva\, Mayaguez\, 00680\, Puerto Rico
CATEGORIES:Acrobacia
END:VEVENT
BEGIN:VEVENT
DTSTART;TZID=America/Puerto_Rico:20251106T174000
DTEND;TZID=America/Puerto_Rico:20251106T184000
DTSTAMP:20260421T215024
CREATED:20250801T175505Z
LAST-MODIFIED:20250829T202437Z
UID:10003697-1762450800-1762454400@balletescenario.com
SUMMARY:Salsa Kids Avanzado (5-12 años)
DESCRIPTION:
URL:https://balletescenario.com/event/salsa-kids-avanzado-5-12-anos-27/
LOCATION:Salón B – Ballet Escenario\, Calle Minerva #52\, Mayaguez\, 00680\, Puerto Rico
CATEGORIES:Salsa
END:VEVENT
BEGIN:VEVENT
DTSTART;TZID=America/Puerto_Rico:20251106T174000
DTEND;TZID=America/Puerto_Rico:20251106T184000
DTSTAMP:20260421T215024
CREATED:20250801T181401Z
LAST-MODIFIED:20250829T202547Z
UID:10003716-1762450800-1762454400@balletescenario.com
SUMMARY:Stretch and BE Strong
DESCRIPTION:
URL:https://balletescenario.com/event/stretch-and-be-strong-68/
LOCATION:Salón C – Ballet Escenario\, Calle Minerva #52\, Mayaguez\, 00680\, Puerto Rico
CATEGORIES:Stretch and BE Strong
END:VEVENT
BEGIN:VEVENT
DTSTART;TZID=America/Puerto_Rico:20251106T185000
DTEND;TZID=America/Puerto_Rico:20251106T195000
DTSTAMP:20260421T215024
CREATED:20250801T185630Z
LAST-MODIFIED:20250829T202651Z
UID:10003737-1762455000-1762458600@balletescenario.com
SUMMARY:Ballet II
DESCRIPTION:
URL:https://balletescenario.com/event/ballet-ii-31/
LOCATION:Salón A – Ballet Escenario\, 52 calle Minerva\, Mayaguez\, 00680\, Puerto Rico
CATEGORIES:Ballet
END:VEVENT
BEGIN:VEVENT
DTSTART;TZID=America/Puerto_Rico:20251106T193000
DTEND;TZID=America/Puerto_Rico:20251106T203000
DTSTAMP:20260421T215024
CREATED:20250801T195920Z
LAST-MODIFIED:20250829T202909Z
UID:10003776-1762457400-1762461000@balletescenario.com
SUMMARY:Fitness Bootcamp by Andrés Pagán
DESCRIPTION:Reserva tu espacio y paga en la recepción al llegar – Costo $15.00 x Clase (Por persona)
URL:https://balletescenario.com/event/fitness-bootcamp-by-andres-pagan-56/
LOCATION:Salon D – Ballet Escenario\, Calle Minerva #52\, Mayaguez\, 00680\, Puerto Rico
END:VEVENT
BEGIN:VEVENT
DTSTART;TZID=America/Puerto_Rico:20251107T160000
DTEND;TZID=America/Puerto_Rico:20251107T170000
DTSTAMP:20260421T215024
CREATED:20250803T233152Z
LAST-MODIFIED:20250828T055705Z
UID:10003847-1762531200-1762534800@balletescenario.com
SUMMARY:Ballet II
DESCRIPTION:
URL:https://balletescenario.com/event/ballet-ii-51/
LOCATION:Salón A – Ballet Escenario\, 52 calle Minerva\, Mayaguez\, 00680\, Puerto Rico
CATEGORIES:Ballet
END:VEVENT
BEGIN:VEVENT
DTSTART;TZID=America/Puerto_Rico:20251107T171000
DTEND;TZID=America/Puerto_Rico:20251107T181000
DTSTAMP:20260421T215024
CREATED:20250804T000059Z
LAST-MODIFIED:20250829T205438Z
UID:10003868-1762535400-1762539000@balletescenario.com
SUMMARY:Jr Ballet Nivel II
DESCRIPTION:
URL:https://balletescenario.com/event/jr-ballet-nivel-ii-25/
LOCATION:Salón A – Ballet Escenario\, 52 calle Minerva\, Mayaguez\, 00680\, Puerto Rico
CATEGORIES:Ballet
END:VEVENT
BEGIN:VEVENT
DTSTART;TZID=America/Puerto_Rico:20251107T171000
DTEND;TZID=America/Puerto_Rico:20251107T181000
DTSTAMP:20260421T215024
CREATED:20250804T030045Z
LAST-MODIFIED:20250829T205552Z
UID:10003887-1762535400-1762539000@balletescenario.com
SUMMARY:Stretch and BE Strong
DESCRIPTION:
URL:https://balletescenario.com/event/stretch-and-be-strong-90/
LOCATION:Salón C – Ballet Escenario\, Calle Minerva #52\, Mayaguez\, 00680\, Puerto Rico
CATEGORIES:Stretch and BE Strong
END:VEVENT
BEGIN:VEVENT
DTSTART;TZID=America/Puerto_Rico:20251107T182000
DTEND;TZID=America/Puerto_Rico:20251107T192000
DTSTAMP:20260421T215024
CREATED:20250804T034829Z
LAST-MODIFIED:20250829T205817Z
UID:10003926-1762539600-1762543200@balletescenario.com
SUMMARY:Urban Kids Viernes (5-10 años)
DESCRIPTION:
URL:https://balletescenario.com/event/urban-kids-viernes-5-10-anos-14/
LOCATION:Salón B – Ballet Escenario\, Calle Minerva #52\, Mayaguez\, 00680\, Puerto Rico
CATEGORIES:Urban Style
END:VEVENT
BEGIN:VEVENT
DTSTART;TZID=America/Puerto_Rico:20251107T182000
DTEND;TZID=America/Puerto_Rico:20251107T195000
DTSTAMP:20260421T215024
CREATED:20250804T032328Z
LAST-MODIFIED:20250829T205702Z
UID:10003907-1762539600-1762545000@balletescenario.com
SUMMARY:Ballet IV
DESCRIPTION:
URL:https://balletescenario.com/event/ballet-iv-56/
LOCATION:Salón A – Ballet Escenario\, 52 calle Minerva\, Mayaguez\, 00680\, Puerto Rico
CATEGORIES:Ballet
END:VEVENT
BEGIN:VEVENT
DTSTART;TZID=America/Puerto_Rico:20251108T100000
DTEND;TZID=America/Puerto_Rico:20251108T110000
DTSTAMP:20260421T215024
CREATED:20250804T043904Z
LAST-MODIFIED:20250829T210027Z
UID:10003946-1762596000-1762599600@balletescenario.com
SUMMARY:Jr. Ballet Sábado (7-10 años)
DESCRIPTION:
URL:https://balletescenario.com/event/jr-ballet-sabado-7-10-anos-26/
LOCATION:Salón A – Ballet Escenario\, 52 calle Minerva\, Mayaguez\, 00680\, Puerto Rico
CATEGORIES:Ballet
END:VEVENT
END:VCALENDAR