BEGIN:VCALENDAR
VERSION:2.0
PRODID:-//Ballet Escenario - ECPv6.15.20//NONSGML v1.0//EN
CALSCALE:GREGORIAN
METHOD:PUBLISH
X-ORIGINAL-URL:https://balletescenario.com
X-WR-CALDESC:Events for Ballet Escenario
REFRESH-INTERVAL;VALUE=DURATION:PT1H
X-Robots-Tag:noindex
X-PUBLISHED-TTL:PT1H
BEGIN:VTIMEZONE
TZID:America/Puerto_Rico
BEGIN:STANDARD
TZOFFSETFROM:-0400
TZOFFSETTO:-0400
TZNAME:AST
DTSTART:20250101T000000
END:STANDARD
END:VTIMEZONE
BEGIN:VEVENT
DTSTART;TZID=America/Puerto_Rico:20260526T163000
DTEND;TZID=America/Puerto_Rico:20260526T180000
DTSTAMP:20260420T000647
CREATED:20251229T225530Z
LAST-MODIFIED:20251229T225603Z
UID:10004361-1779813000-1779818400@balletescenario.com
SUMMARY:Ballet III
DESCRIPTION:
URL:https://balletescenario.com/event/ballet-iii-70/
LOCATION:Salón A – Ballet Escenario\, 52 calle Minerva\, Mayaguez\, 00680\, Puerto Rico
CATEGORIES:Ballet
END:VEVENT
BEGIN:VEVENT
DTSTART;TZID=America/Puerto_Rico:20260526T170000
DTEND;TZID=America/Puerto_Rico:20260526T180000
DTSTAMP:20260420T000647
CREATED:20260103T050903Z
LAST-MODIFIED:20260103T050935Z
UID:10004549-1779814800-1779818400@balletescenario.com
SUMMARY:Salsa Kids Básico (5-12 años)
DESCRIPTION:
URL:https://balletescenario.com/event/salsa-kids-basico-5-12-anos-49/
LOCATION:Salón B – Ballet Escenario\, Calle Minerva #52\, Mayaguez\, 00680\, Puerto Rico
CATEGORIES:Salsa
END:VEVENT
BEGIN:VEVENT
DTSTART;TZID=America/Puerto_Rico:20260526T170000
DTEND;TZID=America/Puerto_Rico:20260526T180000
DTSTAMP:20260420T000647
CREATED:20260103T052840Z
LAST-MODIFIED:20260103T052908Z
UID:10004561-1779814800-1779818400@balletescenario.com
SUMMARY:Baby Ballet Martes (3-4 años)
DESCRIPTION:
URL:https://balletescenario.com/event/baby-ballet-martes-3-4-anos-42/
LOCATION:Salón C – Ballet Escenario\, Calle Minerva #52\, Mayaguez\, 00680\, Puerto Rico
CATEGORIES:Ballet
END:VEVENT
BEGIN:VEVENT
DTSTART;TZID=America/Puerto_Rico:20260526T181000
DTEND;TZID=America/Puerto_Rico:20260526T191000
DTSTAMP:20260420T000647
CREATED:20260103T054846Z
LAST-MODIFIED:20260103T054920Z
UID:10004573-1779819000-1779822600@balletescenario.com
SUMMARY:Pre Puntas
DESCRIPTION:
URL:https://balletescenario.com/event/pre-puntas-39/
LOCATION:Salón A – Ballet Escenario\, 52 calle Minerva\, Mayaguez\, 00680\, Puerto Rico
CATEGORIES:Ballet
END:VEVENT
BEGIN:VEVENT
DTSTART;TZID=America/Puerto_Rico:20260526T181000
DTEND;TZID=America/Puerto_Rico:20260526T191000
DTSTAMP:20260420T000647
CREATED:20260103T061056Z
LAST-MODIFIED:20260103T061131Z
UID:10004585-1779819000-1779822600@balletescenario.com
SUMMARY:Urban Style For Teens (11+)
DESCRIPTION:
URL:https://balletescenario.com/event/urban-style-for-teens-11-42/
LOCATION:Salón B – Ballet Escenario\, Calle Minerva #52\, Mayaguez\, 00680\, Puerto Rico
CATEGORIES:Urban Style
END:VEVENT
BEGIN:VEVENT
DTSTART;TZID=America/Puerto_Rico:20260526T181000
DTEND;TZID=America/Puerto_Rico:20260526T191000
DTSTAMP:20260420T000647
CREATED:20260103T063244Z
LAST-MODIFIED:20260103T063323Z
UID:10004597-1779819000-1779822600@balletescenario.com
SUMMARY:Stretch and BE Strong
DESCRIPTION:
URL:https://balletescenario.com/event/stretch-and-be-strong-109/
LOCATION:Salón C – Ballet Escenario\, Calle Minerva #52\, Mayaguez\, 00680\, Puerto Rico
CATEGORIES:Stretch and BE Strong
END:VEVENT
BEGIN:VEVENT
DTSTART;TZID=America/Puerto_Rico:20260526T192000
DTEND;TZID=America/Puerto_Rico:20260526T202000
DTSTAMP:20260420T000647
CREATED:20260103T070007Z
LAST-MODIFIED:20260103T070037Z
UID:10004610-1779823200-1779826800@balletescenario.com
SUMMARY:Ballet Adultos Ex-Bailarines
DESCRIPTION:
URL:https://balletescenario.com/event/ballet-adultos-ex-bailarines-46/
LOCATION:Salón A – Ballet Escenario\, 52 calle Minerva\, Mayaguez\, 00680\, Puerto Rico
CATEGORIES:Ballet
END:VEVENT
BEGIN:VEVENT
DTSTART;TZID=America/Puerto_Rico:20260526T192000
DTEND;TZID=America/Puerto_Rico:20260526T202000
DTSTAMP:20260420T000647
CREATED:20260103T071959Z
LAST-MODIFIED:20260103T072028Z
UID:10004622-1779823200-1779826800@balletescenario.com
SUMMARY:Ballet I (11-17 años)
DESCRIPTION:
URL:https://balletescenario.com/event/ballet-i-11-17-anos-46/
LOCATION:Salón C – Ballet Escenario\, Calle Minerva #52\, Mayaguez\, 00680\, Puerto Rico
CATEGORIES:Ballet
END:VEVENT
BEGIN:VEVENT
DTSTART;TZID=America/Puerto_Rico:20260526T203000
DTEND;TZID=America/Puerto_Rico:20260526T213000
DTSTAMP:20260420T000647
CREATED:20260103T073948Z
LAST-MODIFIED:20260103T074019Z
UID:10004634-1779827400-1779831000@balletescenario.com
SUMMARY:Salsa Parejas Avanzado - On2
DESCRIPTION:Nota Aclaratoria para la Compra de Boletos \nEstimados estudiantes\, \nQueremos informarles sobre la política de precios para nuestra próxima clase. Los boletos pueden ser adquiridos de forma individual o en pareja\, según la siguiente estructura de precios: \n\nBoleto individual: $10.00 por persona.\nBoleto para pareja: Si asisten con un acompañante y adquieren dos boletos\, cada uno tendrá un costo reducido de $7.50\, para un total de $15.00.\n\nEste descuento se aplicará automáticamente al agregar dos boletos a su carrito de compra\, y será reflejado en el proceso de checkout. \nGracias por su atención\, y esperamos verlos en la clase. \nPara más información\, comuníquese al 787-402-6350.
URL:https://balletescenario.com/event/salsa-parejas-avanzado-on2-43/
LOCATION:Salón A – Ballet Escenario\, 52 calle Minerva\, Mayaguez\, 00680\, Puerto Rico
CATEGORIES:Salsa
END:VEVENT
BEGIN:VEVENT
DTSTART;TZID=America/Puerto_Rico:20260527T163000
DTEND;TZID=America/Puerto_Rico:20260527T173000
DTSTAMP:20260420T000647
CREATED:20251228T235405Z
LAST-MODIFIED:20251228T235442Z
UID:10004203-1779899400-1779903000@balletescenario.com
SUMMARY:Acrobacia Continuación
DESCRIPTION:
URL:https://balletescenario.com/event/acrobacia-continuacion-46/
LOCATION:Salón A – Ballet Escenario\, 52 calle Minerva\, Mayaguez\, 00680\, Puerto Rico
CATEGORIES:Acrobacia
END:VEVENT
BEGIN:VEVENT
DTSTART;TZID=America/Puerto_Rico:20260527T174000
DTEND;TZID=America/Puerto_Rico:20260527T191000
DTSTAMP:20260420T000647
CREATED:20260104T050131Z
LAST-MODIFIED:20260104T050201Z
UID:10004647-1779903600-1779909000@balletescenario.com
SUMMARY:Puntas Avanzado
DESCRIPTION:
URL:https://balletescenario.com/event/puntas-avanzado-45/
LOCATION:Salón A – Ballet Escenario\, 52 calle Minerva\, Mayaguez\, 00680\, Puerto Rico
CATEGORIES:Ballet
END:VEVENT
BEGIN:VEVENT
DTSTART;TZID=America/Puerto_Rico:20260527T181000
DTEND;TZID=America/Puerto_Rico:20260527T191000
DTSTAMP:20260420T000647
CREATED:20260104T052835Z
LAST-MODIFIED:20260104T052943Z
UID:10004659-1779905400-1779909000@balletescenario.com
SUMMARY:Pre Ballet Miércoles (5-6 años)
DESCRIPTION:
URL:https://balletescenario.com/event/pre-ballet-miercoles-5-6-anos-44/
LOCATION:Salón C – Ballet Escenario\, Calle Minerva #52\, Mayaguez\, 00680\, Puerto Rico
CATEGORIES:Ballet
END:VEVENT
BEGIN:VEVENT
DTSTART;TZID=America/Puerto_Rico:20260527T192000
DTEND;TZID=America/Puerto_Rico:20260527T202000
DTSTAMP:20260420T000647
CREATED:20260104T055033Z
LAST-MODIFIED:20260104T055117Z
UID:10004671-1779909600-1779913200@balletescenario.com
SUMMARY:Ballet Adultos Principiantes
DESCRIPTION:
URL:https://balletescenario.com/event/ballet-adultos-principiantes-45/
LOCATION:Salón A – Ballet Escenario\, 52 calle Minerva\, Mayaguez\, 00680\, Puerto Rico
CATEGORIES:Ballet
END:VEVENT
BEGIN:VEVENT
DTSTART;TZID=America/Puerto_Rico:20260527T192000
DTEND;TZID=America/Puerto_Rico:20260527T202000
DTSTAMP:20260420T000647
CREATED:20260104T061644Z
LAST-MODIFIED:20260104T061721Z
UID:10004683-1779909600-1779913200@balletescenario.com
SUMMARY:Salsa Parejas Básico On - 1
DESCRIPTION:NOTA: Por favor\, compre solo un ticket por pareja. \nCada ticket cubre la entrada para dos personas y tiene un costo de $15.00. \nEsta clase está diseñada exclusivamente para parejas. \nNo se permitirá la asistencia de personas solas. \nPara más información\, comuníquese al 787-402-6350.
URL:https://balletescenario.com/event/salsa-parejas-basico-on-1-45/
LOCATION:Salón B – Ballet Escenario\, Calle Minerva #52\, Mayaguez\, 00680\, Puerto Rico
CATEGORIES:Salsa
END:VEVENT
BEGIN:VEVENT
DTSTART;TZID=America/Puerto_Rico:20260527T203000
DTEND;TZID=America/Puerto_Rico:20260527T213000
DTSTAMP:20260420T000647
CREATED:20260104T063950Z
LAST-MODIFIED:20260104T064027Z
UID:10004695-1779913800-1779917400@balletescenario.com
SUMMARY:Salsa Parejas Básico II - Rotando
DESCRIPTION:NOTA: Para esta clase\, puede elegir entre dos opciones: \n– Estudiante Individual: Si asiste solo\, debe comprar un boleto de esta categoría. \n– Solo Para Parejas: Si asiste con una pareja o acompañante\, debe comprar dos boletos de esta categoría para un total a pagar de $15.00. \nImportante: Si compra boletos de la categoría “Solo Para Parejas” pero asiste solo\, se le cobrará la diferencia de precio antes de poder ingresar a la clase. \nPara más información\, comuníquese al 787-402-6350.
URL:https://balletescenario.com/event/salsa-parejas-basico-ii-rotando-47/
LOCATION:Salón B – Ballet Escenario\, Calle Minerva #52\, Mayaguez\, 00680\, Puerto Rico
CATEGORIES:Salsa
END:VEVENT
BEGIN:VEVENT
DTSTART;TZID=America/Puerto_Rico:20260527T203000
DTEND;TZID=America/Puerto_Rico:20260527T213000
DTSTAMP:20260420T000647
CREATED:20260112T193922Z
LAST-MODIFIED:20260112T194001Z
UID:10004967-1779913800-1779917400@balletescenario.com
SUMMARY:Salsa Parejas Intermedio - On2
DESCRIPTION:Nota Aclaratoria para la Compra de Boletos \nEstimados estudiantes\, \nQueremos informarles sobre la política de precios para nuestra próxima clase. Los boletos pueden ser adquiridos de forma individual o en pareja\, según la siguiente estructura de precios: \n\nBoleto individual: $10.00 por persona.\nBoleto para pareja: Si asisten con un acompañante y adquieren dos boletos\, cada uno tendrá un costo reducido de $7.50\, para un total de $15.00.\n\nEste descuento se aplicará automáticamente al agregar dos boletos a su carrito de compra\, y será reflejado en el proceso de checkout. \nGracias por su atención\, y esperamos verlos en la clase. \nPara más información\, comuníquese al 787-402-6350.
URL:https://balletescenario.com/event/salsa-parejas-intermedio-on2-39/
LOCATION:Salón A – Ballet Escenario\, 52 calle Minerva\, Mayaguez\, 00680\, Puerto Rico
CATEGORIES:Salsa
END:VEVENT
BEGIN:VEVENT
DTSTART;TZID=America/Puerto_Rico:20260528T163000
DTEND;TZID=America/Puerto_Rico:20260528T173000
DTSTAMP:20260420T000647
CREATED:20260105T013228Z
LAST-MODIFIED:20260105T013255Z
UID:10004708-1779985800-1779989400@balletescenario.com
SUMMARY:Jazz Lírico Kids (7-12 años)
DESCRIPTION:
URL:https://balletescenario.com/event/jazz-lirico-kids-7-12-anos-42/
LOCATION:Salón B – Ballet Escenario\, Calle Minerva #52\, Mayaguez\, 00680\, Puerto Rico
CATEGORIES:Jazz Lírico
END:VEVENT
BEGIN:VEVENT
DTSTART;TZID=America/Puerto_Rico:20260528T174000
DTEND;TZID=America/Puerto_Rico:20260528T184000
DTSTAMP:20260420T000647
CREATED:20260105T015336Z
LAST-MODIFIED:20260105T015407Z
UID:10004720-1779990000-1779993600@balletescenario.com
SUMMARY:Principios de Acrobacia (7 años+)
DESCRIPTION:
URL:https://balletescenario.com/event/principios-de-acrobacia-7-anos-44/
LOCATION:Salón A – Ballet Escenario\, 52 calle Minerva\, Mayaguez\, 00680\, Puerto Rico
CATEGORIES:Acrobacia
END:VEVENT
BEGIN:VEVENT
DTSTART;TZID=America/Puerto_Rico:20260528T174000
DTEND;TZID=America/Puerto_Rico:20260528T184000
DTSTAMP:20260420T000647
CREATED:20260105T022440Z
LAST-MODIFIED:20260105T022512Z
UID:10004733-1779990000-1779993600@balletescenario.com
SUMMARY:Salsa Kids Avanzado (5-12 años)
DESCRIPTION:
URL:https://balletescenario.com/event/salsa-kids-avanzado-5-12-anos-43/
LOCATION:Salón B – Ballet Escenario\, Calle Minerva #52\, Mayaguez\, 00680\, Puerto Rico
CATEGORIES:Salsa
END:VEVENT
BEGIN:VEVENT
DTSTART;TZID=America/Puerto_Rico:20260528T174000
DTEND;TZID=America/Puerto_Rico:20260528T184000
DTSTAMP:20260420T000647
CREATED:20260105T213548Z
LAST-MODIFIED:20260105T213620Z
UID:10004745-1779990000-1779993600@balletescenario.com
SUMMARY:Stretch and BE Strong
DESCRIPTION:
URL:https://balletescenario.com/event/stretch-and-be-strong-120/
LOCATION:Salón C – Ballet Escenario\, Calle Minerva #52\, Mayaguez\, 00680\, Puerto Rico
CATEGORIES:Stretch and BE Strong
END:VEVENT
BEGIN:VEVENT
DTSTART;TZID=America/Puerto_Rico:20260528T185000
DTEND;TZID=America/Puerto_Rico:20260528T195000
DTSTAMP:20260420T000647
CREATED:20260105T215655Z
LAST-MODIFIED:20260105T215740Z
UID:10004757-1779994200-1779997800@balletescenario.com
SUMMARY:Ballet II
DESCRIPTION:
URL:https://balletescenario.com/event/ballet-ii-77/
LOCATION:Salón A – Ballet Escenario\, 52 calle Minerva\, Mayaguez\, 00680\, Puerto Rico
CATEGORIES:Ballet
END:VEVENT
BEGIN:VEVENT
DTSTART;TZID=America/Puerto_Rico:20260528T185000
DTEND;TZID=America/Puerto_Rico:20260528T195000
DTSTAMP:20260420T000647
CREATED:20260105T224307Z
LAST-MODIFIED:20260105T224338Z
UID:10004770-1779994200-1779997800@balletescenario.com
SUMMARY:Salsa Pasos Libres Intermedio
DESCRIPTION:
URL:https://balletescenario.com/event/salsa-pasos-libres-intermedio-45/
LOCATION:Salón B – Ballet Escenario\, Calle Minerva #52\, Mayaguez\, 00680\, Puerto Rico
CATEGORIES:Salsa
END:VEVENT
BEGIN:VEVENT
DTSTART;TZID=America/Puerto_Rico:20260528T185000
DTEND;TZID=America/Puerto_Rico:20260528T195000
DTSTAMP:20260420T000647
CREATED:20260105T231744Z
LAST-MODIFIED:20260109T044121Z
UID:10004783-1779994200-1779997800@balletescenario.com
SUMMARY:Jr. Ballet jueves (7-10 años)
DESCRIPTION:
URL:https://balletescenario.com/event/jr-ballet-miercoles-7-10-anos-44/
LOCATION:Salón C – Ballet Escenario\, Calle Minerva #52\, Mayaguez\, 00680\, Puerto Rico
CATEGORIES:Ballet
END:VEVENT
BEGIN:VEVENT
DTSTART;TZID=America/Puerto_Rico:20260528T193000
DTEND;TZID=America/Puerto_Rico:20260528T203000
DTSTAMP:20260420T000647
CREATED:20260106T043642Z
LAST-MODIFIED:20260106T043715Z
UID:10004795-1779996600-1780000200@balletescenario.com
SUMMARY:Fitness Bootcamp by Andrés Pagán
DESCRIPTION:Reserva tu espacio y paga en la recepción al llegar – Costo $15.00 x Clase (Por persona)
URL:https://balletescenario.com/event/fitness-bootcamp-by-andres-pagan-80/
LOCATION:Salon D – Ballet Escenario\, Calle Minerva #52\, Mayaguez\, 00680\, Puerto Rico
END:VEVENT
BEGIN:VEVENT
DTSTART;TZID=America/Puerto_Rico:20260528T200000
DTEND;TZID=America/Puerto_Rico:20260528T210000
DTSTAMP:20260420T000647
CREATED:20260106T045854Z
LAST-MODIFIED:20260106T045926Z
UID:10004807-1779998400-1780002000@balletescenario.com
SUMMARY:Salsa Pasos Libres Avanzado
DESCRIPTION:
URL:https://balletescenario.com/event/salsa-pasos-libres-avanzado-45/
LOCATION:Salón A – Ballet Escenario\, 52 calle Minerva\, Mayaguez\, 00680\, Puerto Rico
CATEGORIES:Salsa
END:VEVENT
BEGIN:VEVENT
DTSTART;TZID=America/Puerto_Rico:20260529T160000
DTEND;TZID=America/Puerto_Rico:20260529T170000
DTSTAMP:20260420T000647
CREATED:20260107T045424Z
LAST-MODIFIED:20260107T045500Z
UID:10004825-1780070400-1780074000@balletescenario.com
SUMMARY:Ballet II
DESCRIPTION:
URL:https://balletescenario.com/event/ballet-ii-89/
LOCATION:Salón A – Ballet Escenario\, 52 calle Minerva\, Mayaguez\, 00680\, Puerto Rico
CATEGORIES:Ballet
END:VEVENT
BEGIN:VEVENT
DTSTART;TZID=America/Puerto_Rico:20260529T171000
DTEND;TZID=America/Puerto_Rico:20260529T181000
DTSTAMP:20260420T000647
CREATED:20260107T051242Z
LAST-MODIFIED:20260107T051314Z
UID:10004837-1780074600-1780078200@balletescenario.com
SUMMARY:Jr Ballet Nivel II
DESCRIPTION:
URL:https://balletescenario.com/event/jr-ballet-nivel-ii-44/
LOCATION:Salón A – Ballet Escenario\, 52 calle Minerva\, Mayaguez\, 00680\, Puerto Rico
CATEGORIES:Ballet
END:VEVENT
BEGIN:VEVENT
DTSTART;TZID=America/Puerto_Rico:20260529T171000
DTEND;TZID=America/Puerto_Rico:20260529T181000
DTSTAMP:20260420T000647
CREATED:20260107T053229Z
LAST-MODIFIED:20260107T053259Z
UID:10004849-1780074600-1780078200@balletescenario.com
SUMMARY:Stretch and BE Strong
DESCRIPTION:
URL:https://balletescenario.com/event/stretch-and-be-strong-132/
LOCATION:Salón B – Ballet Escenario\, Calle Minerva #52\, Mayaguez\, 00680\, Puerto Rico
CATEGORIES:Stretch and BE Strong
END:VEVENT
BEGIN:VEVENT
DTSTART;TZID=America/Puerto_Rico:20260529T182000
DTEND;TZID=America/Puerto_Rico:20260529T192000
DTSTAMP:20260420T000647
CREATED:20260107T060817Z
LAST-MODIFIED:20260107T060844Z
UID:10004873-1780078800-1780082400@balletescenario.com
SUMMARY:Urban Kids Viernes (5-10 años)
DESCRIPTION:
URL:https://balletescenario.com/event/urban-kids-viernes-5-10-anos-40/
LOCATION:Salón B – Ballet Escenario\, Calle Minerva #52\, Mayaguez\, 00680\, Puerto Rico
CATEGORIES:Urban Style
END:VEVENT
BEGIN:VEVENT
DTSTART;TZID=America/Puerto_Rico:20260529T182000
DTEND;TZID=America/Puerto_Rico:20260529T195000
DTSTAMP:20260420T000647
CREATED:20260107T055051Z
LAST-MODIFIED:20260107T055145Z
UID:10004861-1780078800-1780084200@balletescenario.com
SUMMARY:Ballet IV
DESCRIPTION:
URL:https://balletescenario.com/event/ballet-iv-86/
LOCATION:Salón A – Ballet Escenario\, 52 calle Minerva\, Mayaguez\, 00680\, Puerto Rico
CATEGORIES:Ballet
END:VEVENT
END:VCALENDAR